BEGIN:VCALENDAR
VERSION:2.0
PRODID:-//Danville Congregational Church - ECPv6.15.20//NONSGML v1.0//EN
CALSCALE:GREGORIAN
METHOD:PUBLISH
X-ORIGINAL-URL:https://danvillechurch.org
X-WR-CALDESC:Events for Danville Congregational Church
REFRESH-INTERVAL;VALUE=DURATION:PT1H
X-Robots-Tag:noindex
X-PUBLISHED-TTL:PT1H
BEGIN:VTIMEZONE
TZID:America/Los_Angeles
BEGIN:DAYLIGHT
TZOFFSETFROM:-0800
TZOFFSETTO:-0700
TZNAME:PDT
DTSTART:20260308T100000
END:DAYLIGHT
BEGIN:STANDARD
TZOFFSETFROM:-0700
TZOFFSETTO:-0800
TZNAME:PST
DTSTART:20261101T090000
END:STANDARD
BEGIN:DAYLIGHT
TZOFFSETFROM:-0800
TZOFFSETTO:-0700
TZNAME:PDT
DTSTART:20270314T100000
END:DAYLIGHT
BEGIN:STANDARD
TZOFFSETFROM:-0700
TZOFFSETTO:-0800
TZNAME:PST
DTSTART:20271107T090000
END:STANDARD
BEGIN:DAYLIGHT
TZOFFSETFROM:-0800
TZOFFSETTO:-0700
TZNAME:PDT
DTSTART:20280312T100000
END:DAYLIGHT
BEGIN:STANDARD
TZOFFSETFROM:-0700
TZOFFSETTO:-0800
TZNAME:PST
DTSTART:20281105T090000
END:STANDARD
END:VTIMEZONE
BEGIN:VEVENT
DTSTART;TZID=America/Los_Angeles:20270331T190000
DTEND;TZID=America/Los_Angeles:20270331T203000
DTSTAMP:20260421T192121
CREATED:20251014T175941Z
LAST-MODIFIED:20251014T175942Z
UID:10002235-1806519600-1806525000@danvillechurch.org
SUMMARY:Choir Rehearsal
DESCRIPTION:
URL:https://danvillechurch.org/event/choir-rehearsal-2-2/2027-03-31/
LOCATION:Music Room\, 989 San Ramon Valley Blvd\, Danville\, 94526\, United States
CATEGORIES:Meeting
ATTACH;FMTTYPE=image/png:https://danvillechurch.org/wp-content/uploads/2025/06/choir.png
END:VEVENT
BEGIN:VEVENT
DTSTART;TZID=America/Los_Angeles:20270407T190000
DTEND;TZID=America/Los_Angeles:20270407T203000
DTSTAMP:20260421T192121
CREATED:20251014T175941Z
LAST-MODIFIED:20251014T175942Z
UID:10002236-1807124400-1807129800@danvillechurch.org
SUMMARY:Choir Rehearsal
DESCRIPTION:
URL:https://danvillechurch.org/event/choir-rehearsal-2-2/2027-04-07/
LOCATION:Music Room\, 989 San Ramon Valley Blvd\, Danville\, 94526\, United States
CATEGORIES:Meeting
ATTACH;FMTTYPE=image/png:https://danvillechurch.org/wp-content/uploads/2025/06/choir.png
END:VEVENT
BEGIN:VEVENT
DTSTART;TZID=America/Los_Angeles:20270411T111500
DTEND;TZID=America/Los_Angeles:20270411T121500
DTSTAMP:20260421T192121
CREATED:20260406T181350Z
LAST-MODIFIED:20260406T181710Z
UID:10001543-1807442100-1807445700@danvillechurch.org
SUMMARY:Community Life Commission Meeting - Music Room
DESCRIPTION:
URL:https://danvillechurch.org/event/community-life-commission-meeting-2-2-2/2027-04-11/
LOCATION:Music Room\, 989 San Ramon Valley Blvd\, Danville\, 94526\, United States
CATEGORIES:Meeting
ATTACH;FMTTYPE=image/png:https://danvillechurch.org/wp-content/uploads/2025/06/meeting-2.png
END:VEVENT
BEGIN:VEVENT
DTSTART;TZID=America/Los_Angeles:20270413T130000
DTEND;TZID=America/Los_Angeles:20270413T150000
DTSTAMP:20260421T192121
CREATED:20250623T162553Z
LAST-MODIFIED:20250623T165228Z
UID:10000613-1807621200-1807628400@danvillechurch.org
SUMMARY:Diaconate Meeting
DESCRIPTION:
URL:https://danvillechurch.org/event/diaconate-meeting/2027-04-13/
LOCATION:Music Room\, 989 San Ramon Valley Blvd\, Danville\, 94526\, United States
CATEGORIES:Meeting
ATTACH;FMTTYPE=image/png:https://danvillechurch.org/wp-content/uploads/2025/06/meeting-2.png
END:VEVENT
BEGIN:VEVENT
DTSTART;TZID=America/Los_Angeles:20270414T143000
DTEND;TZID=America/Los_Angeles:20270414T153000
DTSTAMP:20260421T192121
CREATED:20250915T175734Z
LAST-MODIFIED:20250915T175734Z
UID:10007361-1807713000-1807716600@danvillechurch.org
SUMMARY:CARE Support Group
DESCRIPTION:
URL:https://danvillechurch.org/event/care-support-group-3/2027-04-14/
LOCATION:Music Room\, 989 San Ramon Valley Blvd\, Danville\, 94526\, United States
CATEGORIES:Support Group
ATTACH;FMTTYPE=image/png:https://danvillechurch.org/wp-content/uploads/2025/06/support.png
END:VEVENT
BEGIN:VEVENT
DTSTART;TZID=America/Los_Angeles:20270414T190000
DTEND;TZID=America/Los_Angeles:20270414T203000
DTSTAMP:20260421T192121
CREATED:20251014T175941Z
LAST-MODIFIED:20251014T175942Z
UID:10002237-1807729200-1807734600@danvillechurch.org
SUMMARY:Choir Rehearsal
DESCRIPTION:
URL:https://danvillechurch.org/event/choir-rehearsal-2-2/2027-04-14/
LOCATION:Music Room\, 989 San Ramon Valley Blvd\, Danville\, 94526\, United States
CATEGORIES:Meeting
ATTACH;FMTTYPE=image/png:https://danvillechurch.org/wp-content/uploads/2025/06/choir.png
END:VEVENT
BEGIN:VEVENT
DTSTART;TZID=America/Los_Angeles:20270421T190000
DTEND;TZID=America/Los_Angeles:20270421T203000
DTSTAMP:20260421T192121
CREATED:20251014T175941Z
LAST-MODIFIED:20251014T175942Z
UID:10002238-1808334000-1808339400@danvillechurch.org
SUMMARY:Choir Rehearsal
DESCRIPTION:
URL:https://danvillechurch.org/event/choir-rehearsal-2-2/2027-04-21/
LOCATION:Music Room\, 989 San Ramon Valley Blvd\, Danville\, 94526\, United States
CATEGORIES:Meeting
ATTACH;FMTTYPE=image/png:https://danvillechurch.org/wp-content/uploads/2025/06/choir.png
END:VEVENT
BEGIN:VEVENT
DTSTART;TZID=America/Los_Angeles:20270428T190000
DTEND;TZID=America/Los_Angeles:20270428T203000
DTSTAMP:20260421T192121
CREATED:20251014T175941Z
LAST-MODIFIED:20251014T175942Z
UID:10002239-1808938800-1808944200@danvillechurch.org
SUMMARY:Choir Rehearsal
DESCRIPTION:
URL:https://danvillechurch.org/event/choir-rehearsal-2-2/2027-04-28/
LOCATION:Music Room\, 989 San Ramon Valley Blvd\, Danville\, 94526\, United States
CATEGORIES:Meeting
ATTACH;FMTTYPE=image/png:https://danvillechurch.org/wp-content/uploads/2025/06/choir.png
END:VEVENT
BEGIN:VEVENT
DTSTART;TZID=America/Los_Angeles:20270505T190000
DTEND;TZID=America/Los_Angeles:20270505T203000
DTSTAMP:20260421T192121
CREATED:20251014T175941Z
LAST-MODIFIED:20251014T175942Z
UID:10002240-1809543600-1809549000@danvillechurch.org
SUMMARY:Choir Rehearsal
DESCRIPTION:
URL:https://danvillechurch.org/event/choir-rehearsal-2-2/2027-05-05/
LOCATION:Music Room\, 989 San Ramon Valley Blvd\, Danville\, 94526\, United States
CATEGORIES:Meeting
ATTACH;FMTTYPE=image/png:https://danvillechurch.org/wp-content/uploads/2025/06/choir.png
END:VEVENT
BEGIN:VEVENT
DTSTART;TZID=America/Los_Angeles:20270509T111500
DTEND;TZID=America/Los_Angeles:20270509T121500
DTSTAMP:20260421T192121
CREATED:20260406T181350Z
LAST-MODIFIED:20260406T181710Z
UID:10001544-1809861300-1809864900@danvillechurch.org
SUMMARY:Community Life Commission Meeting - Music Room
DESCRIPTION:
URL:https://danvillechurch.org/event/community-life-commission-meeting-2-2-2/2027-05-09/
LOCATION:Music Room\, 989 San Ramon Valley Blvd\, Danville\, 94526\, United States
CATEGORIES:Meeting
ATTACH;FMTTYPE=image/png:https://danvillechurch.org/wp-content/uploads/2025/06/meeting-2.png
END:VEVENT
BEGIN:VEVENT
DTSTART;TZID=America/Los_Angeles:20270511T130000
DTEND;TZID=America/Los_Angeles:20270511T150000
DTSTAMP:20260421T192121
CREATED:20250623T162553Z
LAST-MODIFIED:20250623T165228Z
UID:10000614-1810040400-1810047600@danvillechurch.org
SUMMARY:Diaconate Meeting
DESCRIPTION:
URL:https://danvillechurch.org/event/diaconate-meeting/2027-05-11/
LOCATION:Music Room\, 989 San Ramon Valley Blvd\, Danville\, 94526\, United States
CATEGORIES:Meeting
ATTACH;FMTTYPE=image/png:https://danvillechurch.org/wp-content/uploads/2025/06/meeting-2.png
END:VEVENT
BEGIN:VEVENT
DTSTART;TZID=America/Los_Angeles:20270512T143000
DTEND;TZID=America/Los_Angeles:20270512T153000
DTSTAMP:20260421T192121
CREATED:20250915T175734Z
LAST-MODIFIED:20250915T175734Z
UID:10007362-1810132200-1810135800@danvillechurch.org
SUMMARY:CARE Support Group
DESCRIPTION:
URL:https://danvillechurch.org/event/care-support-group-3/2027-05-12/
LOCATION:Music Room\, 989 San Ramon Valley Blvd\, Danville\, 94526\, United States
CATEGORIES:Support Group
ATTACH;FMTTYPE=image/png:https://danvillechurch.org/wp-content/uploads/2025/06/support.png
END:VEVENT
BEGIN:VEVENT
DTSTART;TZID=America/Los_Angeles:20270512T190000
DTEND;TZID=America/Los_Angeles:20270512T203000
DTSTAMP:20260421T192121
CREATED:20251014T175941Z
LAST-MODIFIED:20251014T175942Z
UID:10002241-1810148400-1810153800@danvillechurch.org
SUMMARY:Choir Rehearsal
DESCRIPTION:
URL:https://danvillechurch.org/event/choir-rehearsal-2-2/2027-05-12/
LOCATION:Music Room\, 989 San Ramon Valley Blvd\, Danville\, 94526\, United States
CATEGORIES:Meeting
ATTACH;FMTTYPE=image/png:https://danvillechurch.org/wp-content/uploads/2025/06/choir.png
END:VEVENT
BEGIN:VEVENT
DTSTART;TZID=America/Los_Angeles:20270519T190000
DTEND;TZID=America/Los_Angeles:20270519T203000
DTSTAMP:20260421T192121
CREATED:20251014T175941Z
LAST-MODIFIED:20251014T175942Z
UID:10002242-1810753200-1810758600@danvillechurch.org
SUMMARY:Choir Rehearsal
DESCRIPTION:
URL:https://danvillechurch.org/event/choir-rehearsal-2-2/2027-05-19/
LOCATION:Music Room\, 989 San Ramon Valley Blvd\, Danville\, 94526\, United States
CATEGORIES:Meeting
ATTACH;FMTTYPE=image/png:https://danvillechurch.org/wp-content/uploads/2025/06/choir.png
END:VEVENT
BEGIN:VEVENT
DTSTART;TZID=America/Los_Angeles:20270526T190000
DTEND;TZID=America/Los_Angeles:20270526T203000
DTSTAMP:20260421T192121
CREATED:20251014T175941Z
LAST-MODIFIED:20251014T175942Z
UID:10002243-1811358000-1811363400@danvillechurch.org
SUMMARY:Choir Rehearsal
DESCRIPTION:
URL:https://danvillechurch.org/event/choir-rehearsal-2-2/2027-05-26/
LOCATION:Music Room\, 989 San Ramon Valley Blvd\, Danville\, 94526\, United States
CATEGORIES:Meeting
ATTACH;FMTTYPE=image/png:https://danvillechurch.org/wp-content/uploads/2025/06/choir.png
END:VEVENT
BEGIN:VEVENT
DTSTART;TZID=America/Los_Angeles:20270602T190000
DTEND;TZID=America/Los_Angeles:20270602T203000
DTSTAMP:20260421T192121
CREATED:20251014T175941Z
LAST-MODIFIED:20251014T175942Z
UID:10002244-1811962800-1811968200@danvillechurch.org
SUMMARY:Choir Rehearsal
DESCRIPTION:
URL:https://danvillechurch.org/event/choir-rehearsal-2-2/2027-06-02/
LOCATION:Music Room\, 989 San Ramon Valley Blvd\, Danville\, 94526\, United States
CATEGORIES:Meeting
ATTACH;FMTTYPE=image/png:https://danvillechurch.org/wp-content/uploads/2025/06/choir.png
END:VEVENT
BEGIN:VEVENT
DTSTART;TZID=America/Los_Angeles:20270608T130000
DTEND;TZID=America/Los_Angeles:20270608T150000
DTSTAMP:20260421T192121
CREATED:20250623T162553Z
LAST-MODIFIED:20250623T165228Z
UID:10000615-1812459600-1812466800@danvillechurch.org
SUMMARY:Diaconate Meeting
DESCRIPTION:
URL:https://danvillechurch.org/event/diaconate-meeting/2027-06-08/
LOCATION:Music Room\, 989 San Ramon Valley Blvd\, Danville\, 94526\, United States
CATEGORIES:Meeting
ATTACH;FMTTYPE=image/png:https://danvillechurch.org/wp-content/uploads/2025/06/meeting-2.png
END:VEVENT
BEGIN:VEVENT
DTSTART;TZID=America/Los_Angeles:20270609T143000
DTEND;TZID=America/Los_Angeles:20270609T153000
DTSTAMP:20260421T192121
CREATED:20250915T175734Z
LAST-MODIFIED:20250915T175734Z
UID:10007363-1812551400-1812555000@danvillechurch.org
SUMMARY:CARE Support Group
DESCRIPTION:
URL:https://danvillechurch.org/event/care-support-group-3/2027-06-09/
LOCATION:Music Room\, 989 San Ramon Valley Blvd\, Danville\, 94526\, United States
CATEGORIES:Support Group
ATTACH;FMTTYPE=image/png:https://danvillechurch.org/wp-content/uploads/2025/06/support.png
END:VEVENT
BEGIN:VEVENT
DTSTART;TZID=America/Los_Angeles:20270609T190000
DTEND;TZID=America/Los_Angeles:20270609T203000
DTSTAMP:20260421T192121
CREATED:20251014T175941Z
LAST-MODIFIED:20251014T175942Z
UID:10002245-1812567600-1812573000@danvillechurch.org
SUMMARY:Choir Rehearsal
DESCRIPTION:
URL:https://danvillechurch.org/event/choir-rehearsal-2-2/2027-06-09/
LOCATION:Music Room\, 989 San Ramon Valley Blvd\, Danville\, 94526\, United States
CATEGORIES:Meeting
ATTACH;FMTTYPE=image/png:https://danvillechurch.org/wp-content/uploads/2025/06/choir.png
END:VEVENT
BEGIN:VEVENT
DTSTART;TZID=America/Los_Angeles:20270613T111500
DTEND;TZID=America/Los_Angeles:20270613T121500
DTSTAMP:20260421T192121
CREATED:20260406T181350Z
LAST-MODIFIED:20260406T181710Z
UID:10001545-1812885300-1812888900@danvillechurch.org
SUMMARY:Community Life Commission Meeting - Music Room
DESCRIPTION:
URL:https://danvillechurch.org/event/community-life-commission-meeting-2-2-2/2027-06-13/
LOCATION:Music Room\, 989 San Ramon Valley Blvd\, Danville\, 94526\, United States
CATEGORIES:Meeting
ATTACH;FMTTYPE=image/png:https://danvillechurch.org/wp-content/uploads/2025/06/meeting-2.png
END:VEVENT
BEGIN:VEVENT
DTSTART;TZID=America/Los_Angeles:20270616T190000
DTEND;TZID=America/Los_Angeles:20270616T203000
DTSTAMP:20260421T192121
CREATED:20251014T175941Z
LAST-MODIFIED:20251014T175942Z
UID:10002246-1813172400-1813177800@danvillechurch.org
SUMMARY:Choir Rehearsal
DESCRIPTION:
URL:https://danvillechurch.org/event/choir-rehearsal-2-2/2027-06-16/
LOCATION:Music Room\, 989 San Ramon Valley Blvd\, Danville\, 94526\, United States
CATEGORIES:Meeting
ATTACH;FMTTYPE=image/png:https://danvillechurch.org/wp-content/uploads/2025/06/choir.png
END:VEVENT
BEGIN:VEVENT
DTSTART;TZID=America/Los_Angeles:20270623T190000
DTEND;TZID=America/Los_Angeles:20270623T203000
DTSTAMP:20260421T192121
CREATED:20251014T175941Z
LAST-MODIFIED:20251014T175942Z
UID:10002247-1813777200-1813782600@danvillechurch.org
SUMMARY:Choir Rehearsal
DESCRIPTION:
URL:https://danvillechurch.org/event/choir-rehearsal-2-2/2027-06-23/
LOCATION:Music Room\, 989 San Ramon Valley Blvd\, Danville\, 94526\, United States
CATEGORIES:Meeting
ATTACH;FMTTYPE=image/png:https://danvillechurch.org/wp-content/uploads/2025/06/choir.png
END:VEVENT
BEGIN:VEVENT
DTSTART;TZID=America/Los_Angeles:20270630T190000
DTEND;TZID=America/Los_Angeles:20270630T203000
DTSTAMP:20260421T192121
CREATED:20251014T175941Z
LAST-MODIFIED:20251014T175942Z
UID:10002248-1814382000-1814387400@danvillechurch.org
SUMMARY:Choir Rehearsal
DESCRIPTION:
URL:https://danvillechurch.org/event/choir-rehearsal-2-2/2027-06-30/
LOCATION:Music Room\, 989 San Ramon Valley Blvd\, Danville\, 94526\, United States
CATEGORIES:Meeting
ATTACH;FMTTYPE=image/png:https://danvillechurch.org/wp-content/uploads/2025/06/choir.png
END:VEVENT
BEGIN:VEVENT
DTSTART;TZID=America/Los_Angeles:20270707T190000
DTEND;TZID=America/Los_Angeles:20270707T203000
DTSTAMP:20260421T192121
CREATED:20251014T175941Z
LAST-MODIFIED:20251014T175942Z
UID:10002249-1814986800-1814992200@danvillechurch.org
SUMMARY:Choir Rehearsal
DESCRIPTION:
URL:https://danvillechurch.org/event/choir-rehearsal-2-2/2027-07-07/
LOCATION:Music Room\, 989 San Ramon Valley Blvd\, Danville\, 94526\, United States
CATEGORIES:Meeting
ATTACH;FMTTYPE=image/png:https://danvillechurch.org/wp-content/uploads/2025/06/choir.png
END:VEVENT
BEGIN:VEVENT
DTSTART;TZID=America/Los_Angeles:20270711T111500
DTEND;TZID=America/Los_Angeles:20270711T121500
DTSTAMP:20260421T192121
CREATED:20260406T181350Z
LAST-MODIFIED:20260406T181710Z
UID:10001546-1815304500-1815308100@danvillechurch.org
SUMMARY:Community Life Commission Meeting - Music Room
DESCRIPTION:
URL:https://danvillechurch.org/event/community-life-commission-meeting-2-2-2/2027-07-11/
LOCATION:Music Room\, 989 San Ramon Valley Blvd\, Danville\, 94526\, United States
CATEGORIES:Meeting
ATTACH;FMTTYPE=image/png:https://danvillechurch.org/wp-content/uploads/2025/06/meeting-2.png
END:VEVENT
BEGIN:VEVENT
DTSTART;TZID=America/Los_Angeles:20270713T130000
DTEND;TZID=America/Los_Angeles:20270713T150000
DTSTAMP:20260421T192121
CREATED:20250623T162553Z
LAST-MODIFIED:20250623T165228Z
UID:10000616-1815483600-1815490800@danvillechurch.org
SUMMARY:Diaconate Meeting
DESCRIPTION:
URL:https://danvillechurch.org/event/diaconate-meeting/2027-07-13/
LOCATION:Music Room\, 989 San Ramon Valley Blvd\, Danville\, 94526\, United States
CATEGORIES:Meeting
ATTACH;FMTTYPE=image/png:https://danvillechurch.org/wp-content/uploads/2025/06/meeting-2.png
END:VEVENT
BEGIN:VEVENT
DTSTART;TZID=America/Los_Angeles:20270714T143000
DTEND;TZID=America/Los_Angeles:20270714T153000
DTSTAMP:20260421T192121
CREATED:20250915T175734Z
LAST-MODIFIED:20250915T175734Z
UID:10007364-1815575400-1815579000@danvillechurch.org
SUMMARY:CARE Support Group
DESCRIPTION:
URL:https://danvillechurch.org/event/care-support-group-3/2027-07-14/
LOCATION:Music Room\, 989 San Ramon Valley Blvd\, Danville\, 94526\, United States
CATEGORIES:Support Group
ATTACH;FMTTYPE=image/png:https://danvillechurch.org/wp-content/uploads/2025/06/support.png
END:VEVENT
BEGIN:VEVENT
DTSTART;TZID=America/Los_Angeles:20270714T190000
DTEND;TZID=America/Los_Angeles:20270714T203000
DTSTAMP:20260421T192121
CREATED:20251014T175941Z
LAST-MODIFIED:20251014T175942Z
UID:10002250-1815591600-1815597000@danvillechurch.org
SUMMARY:Choir Rehearsal
DESCRIPTION:
URL:https://danvillechurch.org/event/choir-rehearsal-2-2/2027-07-14/
LOCATION:Music Room\, 989 San Ramon Valley Blvd\, Danville\, 94526\, United States
CATEGORIES:Meeting
ATTACH;FMTTYPE=image/png:https://danvillechurch.org/wp-content/uploads/2025/06/choir.png
END:VEVENT
BEGIN:VEVENT
DTSTART;TZID=America/Los_Angeles:20270721T190000
DTEND;TZID=America/Los_Angeles:20270721T203000
DTSTAMP:20260421T192121
CREATED:20251014T175941Z
LAST-MODIFIED:20251014T175942Z
UID:10002251-1816196400-1816201800@danvillechurch.org
SUMMARY:Choir Rehearsal
DESCRIPTION:
URL:https://danvillechurch.org/event/choir-rehearsal-2-2/2027-07-21/
LOCATION:Music Room\, 989 San Ramon Valley Blvd\, Danville\, 94526\, United States
CATEGORIES:Meeting
ATTACH;FMTTYPE=image/png:https://danvillechurch.org/wp-content/uploads/2025/06/choir.png
END:VEVENT
BEGIN:VEVENT
DTSTART;TZID=America/Los_Angeles:20270728T190000
DTEND;TZID=America/Los_Angeles:20270728T203000
DTSTAMP:20260421T192121
CREATED:20251014T175941Z
LAST-MODIFIED:20251014T175942Z
UID:10002252-1816801200-1816806600@danvillechurch.org
SUMMARY:Choir Rehearsal
DESCRIPTION:
URL:https://danvillechurch.org/event/choir-rehearsal-2-2/2027-07-28/
LOCATION:Music Room\, 989 San Ramon Valley Blvd\, Danville\, 94526\, United States
CATEGORIES:Meeting
ATTACH;FMTTYPE=image/png:https://danvillechurch.org/wp-content/uploads/2025/06/choir.png
END:VEVENT
END:VCALENDAR