BEGIN:VCALENDAR
VERSION:2.0
PRODID:-//Danville Congregational Church - ECPv6.15.20//NONSGML v1.0//EN
CALSCALE:GREGORIAN
METHOD:PUBLISH
X-ORIGINAL-URL:https://danvillechurch.org
X-WR-CALDESC:Events for Danville Congregational Church
REFRESH-INTERVAL;VALUE=DURATION:PT1H
X-Robots-Tag:noindex
X-PUBLISHED-TTL:PT1H
BEGIN:VTIMEZONE
TZID:America/Los_Angeles
BEGIN:DAYLIGHT
TZOFFSETFROM:-0800
TZOFFSETTO:-0700
TZNAME:PDT
DTSTART:20280312T100000
END:DAYLIGHT
BEGIN:STANDARD
TZOFFSETFROM:-0700
TZOFFSETTO:-0800
TZNAME:PST
DTSTART:20281105T090000
END:STANDARD
BEGIN:DAYLIGHT
TZOFFSETFROM:-0800
TZOFFSETTO:-0700
TZNAME:PDT
DTSTART:20290311T100000
END:DAYLIGHT
BEGIN:STANDARD
TZOFFSETFROM:-0700
TZOFFSETTO:-0800
TZNAME:PST
DTSTART:20291104T090000
END:STANDARD
BEGIN:DAYLIGHT
TZOFFSETFROM:-0800
TZOFFSETTO:-0700
TZNAME:PDT
DTSTART:20300310T100000
END:DAYLIGHT
BEGIN:STANDARD
TZOFFSETFROM:-0700
TZOFFSETTO:-0800
TZNAME:PST
DTSTART:20301103T090000
END:STANDARD
END:VTIMEZONE
BEGIN:VEVENT
DTSTART;TZID=America/Los_Angeles:20290411T190000
DTEND;TZID=America/Los_Angeles:20290411T203000
DTSTAMP:20260425T195543
CREATED:20251014T175941Z
LAST-MODIFIED:20251014T175942Z
UID:10002341-1870628400-1870633800@danvillechurch.org
SUMMARY:Choir Rehearsal
DESCRIPTION:
URL:https://danvillechurch.org/event/choir-rehearsal-2-2/2029-04-11/
LOCATION:Music Room\, 989 San Ramon Valley Blvd\, Danville\, 94526\, United States
CATEGORIES:Meeting
ATTACH;FMTTYPE=image/png:https://danvillechurch.org/wp-content/uploads/2025/06/choir.png
END:VEVENT
BEGIN:VEVENT
DTSTART;TZID=America/Los_Angeles:20290418T190000
DTEND;TZID=America/Los_Angeles:20290418T203000
DTSTAMP:20260425T195543
CREATED:20251014T175941Z
LAST-MODIFIED:20251014T175942Z
UID:10002342-1871233200-1871238600@danvillechurch.org
SUMMARY:Choir Rehearsal
DESCRIPTION:
URL:https://danvillechurch.org/event/choir-rehearsal-2-2/2029-04-18/
LOCATION:Music Room\, 989 San Ramon Valley Blvd\, Danville\, 94526\, United States
CATEGORIES:Meeting
ATTACH;FMTTYPE=image/png:https://danvillechurch.org/wp-content/uploads/2025/06/choir.png
END:VEVENT
BEGIN:VEVENT
DTSTART;TZID=America/Los_Angeles:20290425T190000
DTEND;TZID=America/Los_Angeles:20290425T203000
DTSTAMP:20260425T195543
CREATED:20251014T175941Z
LAST-MODIFIED:20251014T175942Z
UID:10002343-1871838000-1871843400@danvillechurch.org
SUMMARY:Choir Rehearsal
DESCRIPTION:
URL:https://danvillechurch.org/event/choir-rehearsal-2-2/2029-04-25/
LOCATION:Music Room\, 989 San Ramon Valley Blvd\, Danville\, 94526\, United States
CATEGORIES:Meeting
ATTACH;FMTTYPE=image/png:https://danvillechurch.org/wp-content/uploads/2025/06/choir.png
END:VEVENT
BEGIN:VEVENT
DTSTART;TZID=America/Los_Angeles:20290502T190000
DTEND;TZID=America/Los_Angeles:20290502T203000
DTSTAMP:20260425T195543
CREATED:20251014T175941Z
LAST-MODIFIED:20251014T175942Z
UID:10002344-1872442800-1872448200@danvillechurch.org
SUMMARY:Choir Rehearsal
DESCRIPTION:
URL:https://danvillechurch.org/event/choir-rehearsal-2-2/2029-05-02/
LOCATION:Music Room\, 989 San Ramon Valley Blvd\, Danville\, 94526\, United States
CATEGORIES:Meeting
ATTACH;FMTTYPE=image/png:https://danvillechurch.org/wp-content/uploads/2025/06/choir.png
END:VEVENT
BEGIN:VEVENT
DTSTART;TZID=America/Los_Angeles:20290508T130000
DTEND;TZID=America/Los_Angeles:20290508T150000
DTSTAMP:20260425T195543
CREATED:20250623T162553Z
LAST-MODIFIED:20250623T165228Z
UID:10000638-1872939600-1872946800@danvillechurch.org
SUMMARY:Diaconate Meeting
DESCRIPTION:
URL:https://danvillechurch.org/event/diaconate-meeting/2029-05-08/
LOCATION:Music Room\, 989 San Ramon Valley Blvd\, Danville\, 94526\, United States
CATEGORIES:Meeting
ATTACH;FMTTYPE=image/png:https://danvillechurch.org/wp-content/uploads/2025/06/meeting-2.png
END:VEVENT
BEGIN:VEVENT
DTSTART;TZID=America/Los_Angeles:20290509T143000
DTEND;TZID=America/Los_Angeles:20290509T153000
DTSTAMP:20260425T195543
CREATED:20250915T175734Z
LAST-MODIFIED:20250915T175734Z
UID:10007386-1873031400-1873035000@danvillechurch.org
SUMMARY:CARE Support Group
DESCRIPTION:
URL:https://danvillechurch.org/event/care-support-group-3/2029-05-09/
LOCATION:Music Room\, 989 San Ramon Valley Blvd\, Danville\, 94526\, United States
CATEGORIES:Support Group
ATTACH;FMTTYPE=image/png:https://danvillechurch.org/wp-content/uploads/2025/06/support.png
END:VEVENT
BEGIN:VEVENT
DTSTART;TZID=America/Los_Angeles:20290509T190000
DTEND;TZID=America/Los_Angeles:20290509T203000
DTSTAMP:20260425T195543
CREATED:20251014T175941Z
LAST-MODIFIED:20251014T175942Z
UID:10002345-1873047600-1873053000@danvillechurch.org
SUMMARY:Choir Rehearsal
DESCRIPTION:
URL:https://danvillechurch.org/event/choir-rehearsal-2-2/2029-05-09/
LOCATION:Music Room\, 989 San Ramon Valley Blvd\, Danville\, 94526\, United States
CATEGORIES:Meeting
ATTACH;FMTTYPE=image/png:https://danvillechurch.org/wp-content/uploads/2025/06/choir.png
END:VEVENT
BEGIN:VEVENT
DTSTART;TZID=America/Los_Angeles:20290513T111500
DTEND;TZID=America/Los_Angeles:20290513T121500
DTSTAMP:20260425T195543
CREATED:20260406T181350Z
LAST-MODIFIED:20260406T181710Z
UID:10001568-1873365300-1873368900@danvillechurch.org
SUMMARY:Community Life Commission Meeting - Music Room
DESCRIPTION:
URL:https://danvillechurch.org/event/community-life-commission-meeting-2-2-2/2029-05-13/
LOCATION:Music Room\, 989 San Ramon Valley Blvd\, Danville\, 94526\, United States
CATEGORIES:Meeting
ATTACH;FMTTYPE=image/png:https://danvillechurch.org/wp-content/uploads/2025/06/meeting-2.png
END:VEVENT
BEGIN:VEVENT
DTSTART;TZID=America/Los_Angeles:20290516T190000
DTEND;TZID=America/Los_Angeles:20290516T203000
DTSTAMP:20260425T195543
CREATED:20251014T175941Z
LAST-MODIFIED:20251014T175942Z
UID:10002346-1873652400-1873657800@danvillechurch.org
SUMMARY:Choir Rehearsal
DESCRIPTION:
URL:https://danvillechurch.org/event/choir-rehearsal-2-2/2029-05-16/
LOCATION:Music Room\, 989 San Ramon Valley Blvd\, Danville\, 94526\, United States
CATEGORIES:Meeting
ATTACH;FMTTYPE=image/png:https://danvillechurch.org/wp-content/uploads/2025/06/choir.png
END:VEVENT
BEGIN:VEVENT
DTSTART;TZID=America/Los_Angeles:20290523T190000
DTEND;TZID=America/Los_Angeles:20290523T203000
DTSTAMP:20260425T195543
CREATED:20251014T175941Z
LAST-MODIFIED:20251014T175942Z
UID:10002347-1874257200-1874262600@danvillechurch.org
SUMMARY:Choir Rehearsal
DESCRIPTION:
URL:https://danvillechurch.org/event/choir-rehearsal-2-2/2029-05-23/
LOCATION:Music Room\, 989 San Ramon Valley Blvd\, Danville\, 94526\, United States
CATEGORIES:Meeting
ATTACH;FMTTYPE=image/png:https://danvillechurch.org/wp-content/uploads/2025/06/choir.png
END:VEVENT
BEGIN:VEVENT
DTSTART;TZID=America/Los_Angeles:20290530T190000
DTEND;TZID=America/Los_Angeles:20290530T203000
DTSTAMP:20260425T195543
CREATED:20251014T175941Z
LAST-MODIFIED:20251014T175942Z
UID:10002348-1874862000-1874867400@danvillechurch.org
SUMMARY:Choir Rehearsal
DESCRIPTION:
URL:https://danvillechurch.org/event/choir-rehearsal-2-2/2029-05-30/
LOCATION:Music Room\, 989 San Ramon Valley Blvd\, Danville\, 94526\, United States
CATEGORIES:Meeting
ATTACH;FMTTYPE=image/png:https://danvillechurch.org/wp-content/uploads/2025/06/choir.png
END:VEVENT
BEGIN:VEVENT
DTSTART;TZID=America/Los_Angeles:20290606T190000
DTEND;TZID=America/Los_Angeles:20290606T203000
DTSTAMP:20260425T195543
CREATED:20251014T175941Z
LAST-MODIFIED:20251014T175942Z
UID:10002349-1875466800-1875472200@danvillechurch.org
SUMMARY:Choir Rehearsal
DESCRIPTION:
URL:https://danvillechurch.org/event/choir-rehearsal-2-2/2029-06-06/
LOCATION:Music Room\, 989 San Ramon Valley Blvd\, Danville\, 94526\, United States
CATEGORIES:Meeting
ATTACH;FMTTYPE=image/png:https://danvillechurch.org/wp-content/uploads/2025/06/choir.png
END:VEVENT
BEGIN:VEVENT
DTSTART;TZID=America/Los_Angeles:20290610T111500
DTEND;TZID=America/Los_Angeles:20290610T121500
DTSTAMP:20260425T195543
CREATED:20260406T181350Z
LAST-MODIFIED:20260406T181710Z
UID:10001569-1875784500-1875788100@danvillechurch.org
SUMMARY:Community Life Commission Meeting - Music Room
DESCRIPTION:
URL:https://danvillechurch.org/event/community-life-commission-meeting-2-2-2/2029-06-10/
LOCATION:Music Room\, 989 San Ramon Valley Blvd\, Danville\, 94526\, United States
CATEGORIES:Meeting
ATTACH;FMTTYPE=image/png:https://danvillechurch.org/wp-content/uploads/2025/06/meeting-2.png
END:VEVENT
BEGIN:VEVENT
DTSTART;TZID=America/Los_Angeles:20290612T130000
DTEND;TZID=America/Los_Angeles:20290612T150000
DTSTAMP:20260425T195543
CREATED:20250623T162553Z
LAST-MODIFIED:20250623T165228Z
UID:10000639-1875963600-1875970800@danvillechurch.org
SUMMARY:Diaconate Meeting
DESCRIPTION:
URL:https://danvillechurch.org/event/diaconate-meeting/2029-06-12/
LOCATION:Music Room\, 989 San Ramon Valley Blvd\, Danville\, 94526\, United States
CATEGORIES:Meeting
ATTACH;FMTTYPE=image/png:https://danvillechurch.org/wp-content/uploads/2025/06/meeting-2.png
END:VEVENT
BEGIN:VEVENT
DTSTART;TZID=America/Los_Angeles:20290613T143000
DTEND;TZID=America/Los_Angeles:20290613T153000
DTSTAMP:20260425T195543
CREATED:20250915T175734Z
LAST-MODIFIED:20250915T175734Z
UID:10007387-1876055400-1876059000@danvillechurch.org
SUMMARY:CARE Support Group
DESCRIPTION:
URL:https://danvillechurch.org/event/care-support-group-3/2029-06-13/
LOCATION:Music Room\, 989 San Ramon Valley Blvd\, Danville\, 94526\, United States
CATEGORIES:Support Group
ATTACH;FMTTYPE=image/png:https://danvillechurch.org/wp-content/uploads/2025/06/support.png
END:VEVENT
BEGIN:VEVENT
DTSTART;TZID=America/Los_Angeles:20290613T190000
DTEND;TZID=America/Los_Angeles:20290613T203000
DTSTAMP:20260425T195543
CREATED:20251014T175941Z
LAST-MODIFIED:20251014T175942Z
UID:10002350-1876071600-1876077000@danvillechurch.org
SUMMARY:Choir Rehearsal
DESCRIPTION:
URL:https://danvillechurch.org/event/choir-rehearsal-2-2/2029-06-13/
LOCATION:Music Room\, 989 San Ramon Valley Blvd\, Danville\, 94526\, United States
CATEGORIES:Meeting
ATTACH;FMTTYPE=image/png:https://danvillechurch.org/wp-content/uploads/2025/06/choir.png
END:VEVENT
BEGIN:VEVENT
DTSTART;TZID=America/Los_Angeles:20290620T190000
DTEND;TZID=America/Los_Angeles:20290620T203000
DTSTAMP:20260425T195543
CREATED:20251014T175941Z
LAST-MODIFIED:20251014T175942Z
UID:10002351-1876676400-1876681800@danvillechurch.org
SUMMARY:Choir Rehearsal
DESCRIPTION:
URL:https://danvillechurch.org/event/choir-rehearsal-2-2/2029-06-20/
LOCATION:Music Room\, 989 San Ramon Valley Blvd\, Danville\, 94526\, United States
CATEGORIES:Meeting
ATTACH;FMTTYPE=image/png:https://danvillechurch.org/wp-content/uploads/2025/06/choir.png
END:VEVENT
BEGIN:VEVENT
DTSTART;TZID=America/Los_Angeles:20290627T190000
DTEND;TZID=America/Los_Angeles:20290627T203000
DTSTAMP:20260425T195543
CREATED:20251014T175941Z
LAST-MODIFIED:20251014T175942Z
UID:10002352-1877281200-1877286600@danvillechurch.org
SUMMARY:Choir Rehearsal
DESCRIPTION:
URL:https://danvillechurch.org/event/choir-rehearsal-2-2/2029-06-27/
LOCATION:Music Room\, 989 San Ramon Valley Blvd\, Danville\, 94526\, United States
CATEGORIES:Meeting
ATTACH;FMTTYPE=image/png:https://danvillechurch.org/wp-content/uploads/2025/06/choir.png
END:VEVENT
BEGIN:VEVENT
DTSTART;TZID=America/Los_Angeles:20290704T190000
DTEND;TZID=America/Los_Angeles:20290704T203000
DTSTAMP:20260425T195543
CREATED:20251014T175941Z
LAST-MODIFIED:20251014T175942Z
UID:10002353-1877886000-1877891400@danvillechurch.org
SUMMARY:Choir Rehearsal
DESCRIPTION:
URL:https://danvillechurch.org/event/choir-rehearsal-2-2/2029-07-04/
LOCATION:Music Room\, 989 San Ramon Valley Blvd\, Danville\, 94526\, United States
CATEGORIES:Meeting
ATTACH;FMTTYPE=image/png:https://danvillechurch.org/wp-content/uploads/2025/06/choir.png
END:VEVENT
BEGIN:VEVENT
DTSTART;TZID=America/Los_Angeles:20290708T111500
DTEND;TZID=America/Los_Angeles:20290708T121500
DTSTAMP:20260425T195543
CREATED:20260406T181350Z
LAST-MODIFIED:20260406T181710Z
UID:10001570-1878203700-1878207300@danvillechurch.org
SUMMARY:Community Life Commission Meeting - Music Room
DESCRIPTION:
URL:https://danvillechurch.org/event/community-life-commission-meeting-2-2-2/2029-07-08/
LOCATION:Music Room\, 989 San Ramon Valley Blvd\, Danville\, 94526\, United States
CATEGORIES:Meeting
ATTACH;FMTTYPE=image/png:https://danvillechurch.org/wp-content/uploads/2025/06/meeting-2.png
END:VEVENT
BEGIN:VEVENT
DTSTART;TZID=America/Los_Angeles:20290710T130000
DTEND;TZID=America/Los_Angeles:20290710T150000
DTSTAMP:20260425T195543
CREATED:20250623T162553Z
LAST-MODIFIED:20250623T165228Z
UID:10000640-1878382800-1878390000@danvillechurch.org
SUMMARY:Diaconate Meeting
DESCRIPTION:
URL:https://danvillechurch.org/event/diaconate-meeting/2029-07-10/
LOCATION:Music Room\, 989 San Ramon Valley Blvd\, Danville\, 94526\, United States
CATEGORIES:Meeting
ATTACH;FMTTYPE=image/png:https://danvillechurch.org/wp-content/uploads/2025/06/meeting-2.png
END:VEVENT
BEGIN:VEVENT
DTSTART;TZID=America/Los_Angeles:20290711T143000
DTEND;TZID=America/Los_Angeles:20290711T153000
DTSTAMP:20260425T195543
CREATED:20250915T175734Z
LAST-MODIFIED:20250915T175734Z
UID:10007388-1878474600-1878478200@danvillechurch.org
SUMMARY:CARE Support Group
DESCRIPTION:
URL:https://danvillechurch.org/event/care-support-group-3/2029-07-11/
LOCATION:Music Room\, 989 San Ramon Valley Blvd\, Danville\, 94526\, United States
CATEGORIES:Support Group
ATTACH;FMTTYPE=image/png:https://danvillechurch.org/wp-content/uploads/2025/06/support.png
END:VEVENT
BEGIN:VEVENT
DTSTART;TZID=America/Los_Angeles:20290711T190000
DTEND;TZID=America/Los_Angeles:20290711T203000
DTSTAMP:20260425T195543
CREATED:20251014T175941Z
LAST-MODIFIED:20251014T175942Z
UID:10002354-1878490800-1878496200@danvillechurch.org
SUMMARY:Choir Rehearsal
DESCRIPTION:
URL:https://danvillechurch.org/event/choir-rehearsal-2-2/2029-07-11/
LOCATION:Music Room\, 989 San Ramon Valley Blvd\, Danville\, 94526\, United States
CATEGORIES:Meeting
ATTACH;FMTTYPE=image/png:https://danvillechurch.org/wp-content/uploads/2025/06/choir.png
END:VEVENT
BEGIN:VEVENT
DTSTART;TZID=America/Los_Angeles:20290718T190000
DTEND;TZID=America/Los_Angeles:20290718T203000
DTSTAMP:20260425T195543
CREATED:20251014T175941Z
LAST-MODIFIED:20251014T175942Z
UID:10002355-1879095600-1879101000@danvillechurch.org
SUMMARY:Choir Rehearsal
DESCRIPTION:
URL:https://danvillechurch.org/event/choir-rehearsal-2-2/2029-07-18/
LOCATION:Music Room\, 989 San Ramon Valley Blvd\, Danville\, 94526\, United States
CATEGORIES:Meeting
ATTACH;FMTTYPE=image/png:https://danvillechurch.org/wp-content/uploads/2025/06/choir.png
END:VEVENT
BEGIN:VEVENT
DTSTART;TZID=America/Los_Angeles:20290725T190000
DTEND;TZID=America/Los_Angeles:20290725T203000
DTSTAMP:20260425T195543
CREATED:20251014T175941Z
LAST-MODIFIED:20251014T175942Z
UID:10002356-1879700400-1879705800@danvillechurch.org
SUMMARY:Choir Rehearsal
DESCRIPTION:
URL:https://danvillechurch.org/event/choir-rehearsal-2-2/2029-07-25/
LOCATION:Music Room\, 989 San Ramon Valley Blvd\, Danville\, 94526\, United States
CATEGORIES:Meeting
ATTACH;FMTTYPE=image/png:https://danvillechurch.org/wp-content/uploads/2025/06/choir.png
END:VEVENT
BEGIN:VEVENT
DTSTART;TZID=America/Los_Angeles:20290801T190000
DTEND;TZID=America/Los_Angeles:20290801T203000
DTSTAMP:20260425T195543
CREATED:20251014T175941Z
LAST-MODIFIED:20251014T175942Z
UID:10002357-1880305200-1880310600@danvillechurch.org
SUMMARY:Choir Rehearsal
DESCRIPTION:
URL:https://danvillechurch.org/event/choir-rehearsal-2-2/2029-08-01/
LOCATION:Music Room\, 989 San Ramon Valley Blvd\, Danville\, 94526\, United States
CATEGORIES:Meeting
ATTACH;FMTTYPE=image/png:https://danvillechurch.org/wp-content/uploads/2025/06/choir.png
END:VEVENT
BEGIN:VEVENT
DTSTART;TZID=America/Los_Angeles:20290808T143000
DTEND;TZID=America/Los_Angeles:20290808T153000
DTSTAMP:20260425T195543
CREATED:20250915T175734Z
LAST-MODIFIED:20250915T175734Z
UID:10007389-1880893800-1880897400@danvillechurch.org
SUMMARY:CARE Support Group
DESCRIPTION:
URL:https://danvillechurch.org/event/care-support-group-3/2029-08-08/
LOCATION:Music Room\, 989 San Ramon Valley Blvd\, Danville\, 94526\, United States
CATEGORIES:Support Group
ATTACH;FMTTYPE=image/png:https://danvillechurch.org/wp-content/uploads/2025/06/support.png
END:VEVENT
BEGIN:VEVENT
DTSTART;TZID=America/Los_Angeles:20290808T190000
DTEND;TZID=America/Los_Angeles:20290808T203000
DTSTAMP:20260425T195543
CREATED:20251014T175941Z
LAST-MODIFIED:20251014T175942Z
UID:10002358-1880910000-1880915400@danvillechurch.org
SUMMARY:Choir Rehearsal
DESCRIPTION:
URL:https://danvillechurch.org/event/choir-rehearsal-2-2/2029-08-08/
LOCATION:Music Room\, 989 San Ramon Valley Blvd\, Danville\, 94526\, United States
CATEGORIES:Meeting
ATTACH;FMTTYPE=image/png:https://danvillechurch.org/wp-content/uploads/2025/06/choir.png
END:VEVENT
BEGIN:VEVENT
DTSTART;TZID=America/Los_Angeles:20290812T111500
DTEND;TZID=America/Los_Angeles:20290812T121500
DTSTAMP:20260425T195543
CREATED:20260406T181350Z
LAST-MODIFIED:20260406T181710Z
UID:10001571-1881227700-1881231300@danvillechurch.org
SUMMARY:Community Life Commission Meeting - Music Room
DESCRIPTION:
URL:https://danvillechurch.org/event/community-life-commission-meeting-2-2-2/2029-08-12/
LOCATION:Music Room\, 989 San Ramon Valley Blvd\, Danville\, 94526\, United States
CATEGORIES:Meeting
ATTACH;FMTTYPE=image/png:https://danvillechurch.org/wp-content/uploads/2025/06/meeting-2.png
END:VEVENT
BEGIN:VEVENT
DTSTART;TZID=America/Los_Angeles:20290814T130000
DTEND;TZID=America/Los_Angeles:20290814T150000
DTSTAMP:20260425T195543
CREATED:20250623T162553Z
LAST-MODIFIED:20250623T165228Z
UID:10000641-1881406800-1881414000@danvillechurch.org
SUMMARY:Diaconate Meeting
DESCRIPTION:
URL:https://danvillechurch.org/event/diaconate-meeting/2029-08-14/
LOCATION:Music Room\, 989 San Ramon Valley Blvd\, Danville\, 94526\, United States
CATEGORIES:Meeting
ATTACH;FMTTYPE=image/png:https://danvillechurch.org/wp-content/uploads/2025/06/meeting-2.png
END:VEVENT
END:VCALENDAR