BEGIN:VCALENDAR
VERSION:2.0
PRODID:-//Danville Congregational Church - ECPv6.15.20//NONSGML v1.0//EN
CALSCALE:GREGORIAN
METHOD:PUBLISH
X-WR-CALNAME:Danville Congregational Church
X-ORIGINAL-URL:https://danvillechurch.org
X-WR-CALDESC:Events for Danville Congregational Church
REFRESH-INTERVAL;VALUE=DURATION:PT1H
X-Robots-Tag:noindex
X-PUBLISHED-TTL:PT1H
BEGIN:VTIMEZONE
TZID:America/Los_Angeles
BEGIN:DAYLIGHT
TZOFFSETFROM:-0800
TZOFFSETTO:-0700
TZNAME:PDT
DTSTART:20260308T100000
END:DAYLIGHT
BEGIN:STANDARD
TZOFFSETFROM:-0700
TZOFFSETTO:-0800
TZNAME:PST
DTSTART:20261101T090000
END:STANDARD
BEGIN:DAYLIGHT
TZOFFSETFROM:-0800
TZOFFSETTO:-0700
TZNAME:PDT
DTSTART:20270314T100000
END:DAYLIGHT
BEGIN:STANDARD
TZOFFSETFROM:-0700
TZOFFSETTO:-0800
TZNAME:PST
DTSTART:20271107T090000
END:STANDARD
BEGIN:DAYLIGHT
TZOFFSETFROM:-0800
TZOFFSETTO:-0700
TZNAME:PDT
DTSTART:20280312T100000
END:DAYLIGHT
BEGIN:STANDARD
TZOFFSETFROM:-0700
TZOFFSETTO:-0800
TZNAME:PST
DTSTART:20281105T090000
END:STANDARD
END:VTIMEZONE
BEGIN:VEVENT
DTSTART;TZID=America/Los_Angeles:20271102T090000
DTEND;TZID=America/Los_Angeles:20271102T100000
DTSTAMP:20260423T205542
CREATED:20250623T160337Z
LAST-MODIFIED:20250908T190516Z
UID:10000195-1825146000-1825149600@danvillechurch.org
SUMMARY:Men's Coffee & Donuts
DESCRIPTION:
URL:https://danvillechurch.org/event/mens-coffee-donuts/2027-11-02/
LOCATION:Koinonia Hall\, 989 San Ramon Valley Blvd\, Danville\, CA\, 94526\, United States
CATEGORIES:Fellowship
ATTACH;FMTTYPE=image/jpeg:https://danvillechurch.org/wp-content/uploads/2025/06/Picture-of-the-Week-4.13.jpg
END:VEVENT
BEGIN:VEVENT
DTSTART;TZID=America/Los_Angeles:20271107T110000
DTEND;TZID=America/Los_Angeles:20271107T130000
DTSTAMP:20260423T205542
CREATED:20250918T194959Z
LAST-MODIFIED:20250918T195000Z
UID:10007528-1825585200-1825592400@danvillechurch.org
SUMMARY:Youth Group
DESCRIPTION:
URL:https://danvillechurch.org/event/youth-group-2-2/2027-11-07/
LOCATION:Agape Lounge – Youth Room
CATEGORIES:Youth Ministry
ATTACH;FMTTYPE=image/jpeg:https://danvillechurch.org/wp-content/uploads/2025/07/Picture-of-the-Week-3.23-1-scaled.jpg
END:VEVENT
BEGIN:VEVENT
DTSTART;TZID=America/Los_Angeles:20271109T113000
DTEND;TZID=America/Los_Angeles:20271109T123000
DTSTAMP:20260423T205542
CREATED:20250623T162343Z
LAST-MODIFIED:20250908T190412Z
UID:10003375-1825759800-1825763400@danvillechurch.org
SUMMARY:Men's Luncheon
DESCRIPTION:
URL:https://danvillechurch.org/event/mens-luncheon/2027-11-09/
LOCATION:Koinonia Hall\, 989 San Ramon Valley Blvd\, Danville\, CA\, 94526\, United States
CATEGORIES:Fellowship
ATTACH;FMTTYPE=image/jpeg:https://danvillechurch.org/wp-content/uploads/2025/06/Picture-of-the-Week-options-5.18-3-scaled.jpg
END:VEVENT
BEGIN:VEVENT
DTSTART;TZID=America/Los_Angeles:20271110T143000
DTEND;TZID=America/Los_Angeles:20271110T153000
DTSTAMP:20260423T205542
CREATED:20250915T175734Z
LAST-MODIFIED:20250915T175734Z
UID:10007368-1825857000-1825860600@danvillechurch.org
SUMMARY:CARE Support Group
DESCRIPTION:
URL:https://danvillechurch.org/event/care-support-group-3/2027-11-10/
LOCATION:Music Room\, 989 San Ramon Valley Blvd\, Danville\, 94526\, United States
CATEGORIES:Support Group
ATTACH;FMTTYPE=image/png:https://danvillechurch.org/wp-content/uploads/2025/06/support.png
END:VEVENT
BEGIN:VEVENT
DTSTART;TZID=America/Los_Angeles:20271114T110000
DTEND;TZID=America/Los_Angeles:20271114T130000
DTSTAMP:20260423T205542
CREATED:20250918T194959Z
LAST-MODIFIED:20250918T195000Z
UID:10007529-1826190000-1826197200@danvillechurch.org
SUMMARY:Youth Group
DESCRIPTION:
URL:https://danvillechurch.org/event/youth-group-2-2/2027-11-14/
LOCATION:Agape Lounge – Youth Room
CATEGORIES:Youth Ministry
ATTACH;FMTTYPE=image/jpeg:https://danvillechurch.org/wp-content/uploads/2025/07/Picture-of-the-Week-3.23-1-scaled.jpg
END:VEVENT
BEGIN:VEVENT
DTSTART;TZID=America/Los_Angeles:20271116T090000
DTEND;TZID=America/Los_Angeles:20271116T100000
DTSTAMP:20260423T205542
CREATED:20250623T160337Z
LAST-MODIFIED:20250908T190516Z
UID:10000196-1826355600-1826359200@danvillechurch.org
SUMMARY:Men's Coffee & Donuts
DESCRIPTION:
URL:https://danvillechurch.org/event/mens-coffee-donuts/2027-11-16/
LOCATION:Koinonia Hall\, 989 San Ramon Valley Blvd\, Danville\, CA\, 94526\, United States
CATEGORIES:Fellowship
ATTACH;FMTTYPE=image/jpeg:https://danvillechurch.org/wp-content/uploads/2025/06/Picture-of-the-Week-4.13.jpg
END:VEVENT
BEGIN:VEVENT
DTSTART;TZID=America/Los_Angeles:20271117T100000
DTEND;TZID=America/Los_Angeles:20271117T140000
DTSTAMP:20260423T205542
CREATED:20250623T165816Z
LAST-MODIFIED:20250908T183249Z
UID:10001241-1826445600-1826460000@danvillechurch.org
SUMMARY:Prayer Shawl Ministry
DESCRIPTION:
URL:https://danvillechurch.org/event/prayer-shawl-ministry/2027-11-17/
LOCATION:Peace Room
CATEGORIES:Fellowship
ATTACH;FMTTYPE=image/jpeg:https://danvillechurch.org/wp-content/uploads/2025/06/prayer-shaw-ministry-1121-scaled.jpg
END:VEVENT
BEGIN:VEVENT
DTSTART;TZID=America/Los_Angeles:20271118T140000
DTEND;TZID=America/Los_Angeles:20271118T153000
DTSTAMP:20260423T205542
CREATED:20250623T170542Z
LAST-MODIFIED:20250908T184238Z
UID:10001361-1826546400-1826551800@danvillechurch.org
SUMMARY:Spirited Sisters
DESCRIPTION:
URL:https://danvillechurch.org/event/spirited-sisters/2027-11-18/
LOCATION:Koinonia Hall\, 989 San Ramon Valley Blvd\, Danville\, CA\, 94526\, United States
CATEGORIES:Fellowship
ATTACH;FMTTYPE=image/jpeg:https://danvillechurch.org/wp-content/uploads/2025/06/Spirited-Sisters-Group.jpg
ORGANIZER;CN="Donna Lenhardt":MAILTO:fishktcher@aol.com
END:VEVENT
BEGIN:VEVENT
DTSTART;TZID=America/Los_Angeles:20271121T110000
DTEND;TZID=America/Los_Angeles:20271121T130000
DTSTAMP:20260423T205542
CREATED:20250918T194959Z
LAST-MODIFIED:20250918T195000Z
UID:10007530-1826794800-1826802000@danvillechurch.org
SUMMARY:Youth Group
DESCRIPTION:
URL:https://danvillechurch.org/event/youth-group-2-2/2027-11-21/
LOCATION:Agape Lounge – Youth Room
CATEGORIES:Youth Ministry
ATTACH;FMTTYPE=image/jpeg:https://danvillechurch.org/wp-content/uploads/2025/07/Picture-of-the-Week-3.23-1-scaled.jpg
END:VEVENT
BEGIN:VEVENT
DTSTART;TZID=America/Los_Angeles:20271123T090000
DTEND;TZID=America/Los_Angeles:20271123T100000
DTSTAMP:20260423T205542
CREATED:20250623T160337Z
LAST-MODIFIED:20250908T190516Z
UID:10000066-1826960400-1826964000@danvillechurch.org
SUMMARY:Men's Coffee & Donuts
DESCRIPTION:
URL:https://danvillechurch.org/event/mens-coffee-donuts/2027-11-23/
LOCATION:Koinonia Hall\, 989 San Ramon Valley Blvd\, Danville\, CA\, 94526\, United States
CATEGORIES:Fellowship
ATTACH;FMTTYPE=image/jpeg:https://danvillechurch.org/wp-content/uploads/2025/06/Picture-of-the-Week-4.13.jpg
END:VEVENT
BEGIN:VEVENT
DTSTART;TZID=America/Los_Angeles:20271128T110000
DTEND;TZID=America/Los_Angeles:20271128T130000
DTSTAMP:20260423T205542
CREATED:20250918T194959Z
LAST-MODIFIED:20250918T195000Z
UID:10007531-1827399600-1827406800@danvillechurch.org
SUMMARY:Youth Group
DESCRIPTION:
URL:https://danvillechurch.org/event/youth-group-2-2/2027-11-28/
LOCATION:Agape Lounge – Youth Room
CATEGORIES:Youth Ministry
ATTACH;FMTTYPE=image/jpeg:https://danvillechurch.org/wp-content/uploads/2025/07/Picture-of-the-Week-3.23-1-scaled.jpg
END:VEVENT
BEGIN:VEVENT
DTSTART;TZID=America/Los_Angeles:20271130T090000
DTEND;TZID=America/Los_Angeles:20271130T100000
DTSTAMP:20260423T205542
CREATED:20250623T160337Z
LAST-MODIFIED:20250908T190516Z
UID:10000197-1827565200-1827568800@danvillechurch.org
SUMMARY:Men's Coffee & Donuts
DESCRIPTION:
URL:https://danvillechurch.org/event/mens-coffee-donuts/2027-11-30/
LOCATION:Koinonia Hall\, 989 San Ramon Valley Blvd\, Danville\, CA\, 94526\, United States
CATEGORIES:Fellowship
ATTACH;FMTTYPE=image/jpeg:https://danvillechurch.org/wp-content/uploads/2025/06/Picture-of-the-Week-4.13.jpg
END:VEVENT
END:VCALENDAR