BEGIN:VCALENDAR
VERSION:2.0
PRODID:-//Danville Congregational Church - ECPv6.15.20//NONSGML v1.0//EN
CALSCALE:GREGORIAN
METHOD:PUBLISH
X-WR-CALNAME:Danville Congregational Church
X-ORIGINAL-URL:https://danvillechurch.org
X-WR-CALDESC:Events for Danville Congregational Church
REFRESH-INTERVAL;VALUE=DURATION:PT1H
X-Robots-Tag:noindex
X-PUBLISHED-TTL:PT1H
BEGIN:VTIMEZONE
TZID:America/Los_Angeles
BEGIN:DAYLIGHT
TZOFFSETFROM:-0800
TZOFFSETTO:-0700
TZNAME:PDT
DTSTART:20260308T100000
END:DAYLIGHT
BEGIN:STANDARD
TZOFFSETFROM:-0700
TZOFFSETTO:-0800
TZNAME:PST
DTSTART:20261101T090000
END:STANDARD
BEGIN:DAYLIGHT
TZOFFSETFROM:-0800
TZOFFSETTO:-0700
TZNAME:PDT
DTSTART:20270314T100000
END:DAYLIGHT
BEGIN:STANDARD
TZOFFSETFROM:-0700
TZOFFSETTO:-0800
TZNAME:PST
DTSTART:20271107T090000
END:STANDARD
BEGIN:DAYLIGHT
TZOFFSETFROM:-0800
TZOFFSETTO:-0700
TZNAME:PDT
DTSTART:20280312T100000
END:DAYLIGHT
BEGIN:STANDARD
TZOFFSETFROM:-0700
TZOFFSETTO:-0800
TZNAME:PST
DTSTART:20281105T090000
END:STANDARD
END:VTIMEZONE
BEGIN:VEVENT
DTSTART;TZID=America/Los_Angeles:20270901T090000
DTEND;TZID=America/Los_Angeles:20270901T143000
DTSTAMP:20260419T170136
CREATED:20250910T164023Z
LAST-MODIFIED:20260402T195742Z
UID:10004764-1819789200-1819809000@danvillechurch.org
SUMMARY:Danville Dementia Daycare Meeting
DESCRIPTION:Danville Dementia DayCare
URL:https://danvillechurch.org/event/dddmeeting/2027-09-01/
LOCATION:Koinonia Hall\, 989 San Ramon Valley Blvd\, Danville\, CA\, 94526\, United States
CATEGORIES:Support Group
ATTACH;FMTTYPE=image/png:https://danvillechurch.org/wp-content/uploads/2025/06/meeting-2.png
END:VEVENT
BEGIN:VEVENT
DTSTART;TZID=America/Los_Angeles:20270901T100000
DTEND;TZID=America/Los_Angeles:20270901T110000
DTSTAMP:20260419T170136
CREATED:20250623T160949Z
LAST-MODIFIED:20251210T183750Z
UID:10000384-1819792800-1819796400@danvillechurch.org
SUMMARY:Wednesday Morning Prayer
DESCRIPTION:Please contact the office for Zoom login credentials.
URL:https://danvillechurch.org/event/wednesday-morning-prayer/2027-09-01/
LOCATION:Sanctuary\, 989 San Ramon Valley Blvd\, Danville\, CA\, 94526\, United States
CATEGORIES:Worship
ATTACH;FMTTYPE=image/png:https://danvillechurch.org/wp-content/uploads/2025/06/5-1.png
END:VEVENT
BEGIN:VEVENT
DTSTART;TZID=America/Los_Angeles:20270901T190000
DTEND;TZID=America/Los_Angeles:20270901T203000
DTSTAMP:20260419T170136
CREATED:20251014T175941Z
LAST-MODIFIED:20251014T175942Z
UID:10002257-1819825200-1819830600@danvillechurch.org
SUMMARY:Choir Rehearsal
DESCRIPTION:
URL:https://danvillechurch.org/event/choir-rehearsal-2-2/2027-09-01/
LOCATION:Music Room\, 989 San Ramon Valley Blvd\, Danville\, 94526\, United States
CATEGORIES:Meeting
ATTACH;FMTTYPE=image/png:https://danvillechurch.org/wp-content/uploads/2025/06/choir.png
END:VEVENT
BEGIN:VEVENT
DTSTART;TZID=America/Los_Angeles:20270902T190000
DTEND;TZID=America/Los_Angeles:20270902T210000
DTSTAMP:20260419T170136
CREATED:20250910T165146Z
LAST-MODIFIED:20260402T200101Z
UID:10005868-1819911600-1819918800@danvillechurch.org
SUMMARY:Nursery3 Meeting
DESCRIPTION:
URL:https://danvillechurch.org/event/nursery3-meeting/2027-09-02/
LOCATION:Koinonia Hall\, 989 San Ramon Valley Blvd\, Danville\, CA\, 94526\, United States
CATEGORIES:Support Group
ATTACH;FMTTYPE=image/png:https://danvillechurch.org/wp-content/uploads/2025/06/meeting-2.png
END:VEVENT
BEGIN:VEVENT
DTSTART;TZID=America/Los_Angeles:20270903T090000
DTEND;TZID=America/Los_Angeles:20270903T143000
DTSTAMP:20260419T170136
CREATED:20250910T164023Z
LAST-MODIFIED:20260402T195742Z
UID:10004765-1819962000-1819981800@danvillechurch.org
SUMMARY:Danville Dementia Daycare Meeting
DESCRIPTION:Danville Dementia DayCare
URL:https://danvillechurch.org/event/dddmeeting/2027-09-03/
LOCATION:Koinonia Hall\, 989 San Ramon Valley Blvd\, Danville\, CA\, 94526\, United States
CATEGORIES:Support Group
ATTACH;FMTTYPE=image/png:https://danvillechurch.org/wp-content/uploads/2025/06/meeting-2.png
END:VEVENT
BEGIN:VEVENT
DTSTART;TZID=America/Los_Angeles:20270903T163000
DTEND;TZID=America/Los_Angeles:20270903T183000
DTSTAMP:20260419T170136
CREATED:20250910T165343Z
LAST-MODIFIED:20260402T195856Z
UID:10006130-1819989000-1819996200@danvillechurch.org
SUMMARY:AA Happy Hour Meeting
DESCRIPTION:
URL:https://danvillechurch.org/event/aa-happy-hour-meeting/2027-09-03/
LOCATION:Koinonia Hall\, 989 San Ramon Valley Blvd\, Danville\, CA\, 94526\, United States
CATEGORIES:Support Group
ATTACH;FMTTYPE=image/png:https://danvillechurch.org/wp-content/uploads/2025/06/meeting-2.png
END:VEVENT
BEGIN:VEVENT
DTSTART;TZID=America/Los_Angeles:20270903T200000
DTEND;TZID=America/Los_Angeles:20270903T220000
DTSTAMP:20260419T170136
CREATED:20250910T165740Z
LAST-MODIFIED:20260402T195839Z
UID:10006392-1820001600-1820008800@danvillechurch.org
SUMMARY:God's Way
DESCRIPTION:
URL:https://danvillechurch.org/event/gods-way-2/2027-09-03/
LOCATION:Peace Room
CATEGORIES:Meeting
ATTACH;FMTTYPE=image/png:https://danvillechurch.org/wp-content/uploads/2025/06/meeting-2.png
END:VEVENT
BEGIN:VEVENT
DTSTART;TZID=America/Los_Angeles:20270904T060000
DTEND;TZID=America/Los_Angeles:20270904T070000
DTSTAMP:20260419T170136
CREATED:20250910T165942Z
LAST-MODIFIED:20260402T195830Z
UID:10006655-1820037600-1820041200@danvillechurch.org
SUMMARY:God's Way
DESCRIPTION:
URL:https://danvillechurch.org/event/gods-way-3/2027-09-04/
LOCATION:Koinonia Hall\, 989 San Ramon Valley Blvd\, Danville\, CA\, 94526\, United States
CATEGORIES:Meeting
ATTACH;FMTTYPE=image/png:https://danvillechurch.org/wp-content/uploads/2025/06/meeting-2.png
END:VEVENT
BEGIN:VEVENT
DTSTART;TZID=America/Los_Angeles:20270904T073000
DTEND;TZID=America/Los_Angeles:20270904T093000
DTSTAMP:20260419T170136
CREATED:20250910T170327Z
LAST-MODIFIED:20260402T195811Z
UID:10006918-1820043000-1820050200@danvillechurch.org
SUMMARY:NA Early Serenity Meeting
DESCRIPTION:
URL:https://danvillechurch.org/event/na-early-serenity-meeting/2027-09-04/
LOCATION:Koinonia Hall\, 989 San Ramon Valley Blvd\, Danville\, CA\, 94526\, United States
CATEGORIES:Support Group
ATTACH;FMTTYPE=image/png:https://danvillechurch.org/wp-content/uploads/2025/06/meeting-2.png
END:VEVENT
BEGIN:VEVENT
DTSTART;VALUE=DATE:20270905
DTEND;VALUE=DATE:20270906
DTSTAMP:20260419T170136
CREATED:20250623T163757Z
LAST-MODIFIED:20250623T163757Z
UID:10000939-1820102400-1820188799@danvillechurch.org
SUMMARY:Communion Sunday
DESCRIPTION:
URL:https://danvillechurch.org/event/communion-sunday/2027-09-05/
LOCATION:Sanctuary\, 989 San Ramon Valley Blvd\, Danville\, CA\, 94526\, United States
CATEGORIES:Worship
ATTACH;FMTTYPE=image/png:https://danvillechurch.org/wp-content/uploads/2025/06/communion.png
END:VEVENT
BEGIN:VEVENT
DTSTART;TZID=America/Los_Angeles:20270905T083000
DTEND;TZID=America/Los_Angeles:20270905T091500
DTSTAMP:20260419T170136
CREATED:20250623T173721Z
LAST-MODIFIED:20250623T174122Z
UID:10001687-1820133000-1820135700@danvillechurch.org
SUMMARY:Choir Rehearsal
DESCRIPTION:
URL:https://danvillechurch.org/event/choir-rehearsal/2027-09-05/
LOCATION:Sanctuary\, 989 San Ramon Valley Blvd\, Danville\, CA\, 94526\, United States
CATEGORIES:Meeting
ATTACH;FMTTYPE=image/png:https://danvillechurch.org/wp-content/uploads/2025/06/choir.png
END:VEVENT
BEGIN:VEVENT
DTSTART;TZID=America/Los_Angeles:20270905T093000
DTEND;TZID=America/Los_Angeles:20270905T103000
DTSTAMP:20260419T170136
CREATED:20250623T164007Z
LAST-MODIFIED:20250908T182550Z
UID:10000999-1820136600-1820140200@danvillechurch.org
SUMMARY:Godly Play
DESCRIPTION:
URL:https://danvillechurch.org/event/godly-play/2027-09-05/
CATEGORIES:Children's Ministry
ATTACH;FMTTYPE=image/jpeg:https://danvillechurch.org/wp-content/uploads/2025/08/godlyplay_seal_fullcolor.jpg
END:VEVENT
BEGIN:VEVENT
DTSTART;TZID=America/Los_Angeles:20270905T093000
DTEND;TZID=America/Los_Angeles:20270905T223000
DTSTAMP:20260419T170136
CREATED:20250623T162746Z
LAST-MODIFIED:20250916T180509Z
UID:10000766-1820136600-1820183400@danvillechurch.org
SUMMARY:Worship
DESCRIPTION:
URL:https://danvillechurch.org/event/worship/2027-09-05/
LOCATION:Sanctuary\, 989 San Ramon Valley Blvd\, Danville\, CA\, 94526\, United States
CATEGORIES:Worship
ATTACH;FMTTYPE=image/png:https://danvillechurch.org/wp-content/uploads/2025/06/1-1.png
END:VEVENT
BEGIN:VEVENT
DTSTART;TZID=America/Los_Angeles:20270905T110000
DTEND;TZID=America/Los_Angeles:20270905T130000
DTSTAMP:20260419T170136
CREATED:20250918T194959Z
LAST-MODIFIED:20250918T195000Z
UID:10007519-1820142000-1820149200@danvillechurch.org
SUMMARY:Youth Group
DESCRIPTION:
URL:https://danvillechurch.org/event/youth-group-2-2/2027-09-05/
LOCATION:Agape Lounge – Youth Room
CATEGORIES:Youth Ministry
ATTACH;FMTTYPE=image/jpeg:https://danvillechurch.org/wp-content/uploads/2025/07/Picture-of-the-Week-3.23-1-scaled.jpg
END:VEVENT
BEGIN:VEVENT
DTSTART;TZID=America/Los_Angeles:20270905T120000
DTEND;TZID=America/Los_Angeles:20270905T140000
DTSTAMP:20260419T170136
CREATED:20250908T201908Z
LAST-MODIFIED:20251021T202131Z
UID:10004046-1820145600-1820152800@danvillechurch.org
SUMMARY:Monthly Lunch Bunch
DESCRIPTION:
URL:https://danvillechurch.org/event/monthly-lunch-bunch/2027-09-05/
CATEGORIES:Fellowship
ATTACH;FMTTYPE=image/jpeg:https://danvillechurch.org/wp-content/uploads/2025/09/Lunch-bunch.jpg
END:VEVENT
BEGIN:VEVENT
DTSTART;TZID=America/Los_Angeles:20270905T120000
DTEND;TZID=America/Los_Angeles:20270905T140000
DTSTAMP:20260419T170136
CREATED:20260330T204934Z
LAST-MODIFIED:20260330T204935Z
UID:10008217-1820145600-1820152800@danvillechurch.org
SUMMARY:Monthly Lunch Bunch
DESCRIPTION:
URL:https://danvillechurch.org/event/monthly-lunch-bunch-3/2027-09-05/
CATEGORIES:Fellowship
ATTACH;FMTTYPE=image/jpeg:https://danvillechurch.org/wp-content/uploads/2025/09/Lunch-bunch.jpg
END:VEVENT
BEGIN:VEVENT
DTSTART;TZID=America/Los_Angeles:20270905T130000
DTEND;TZID=America/Los_Angeles:20270905T173000
DTSTAMP:20260419T170136
CREATED:20250910T170136Z
LAST-MODIFIED:20260402T195750Z
UID:10007182-1820149200-1820165400@danvillechurch.org
SUMMARY:God's Way
DESCRIPTION:
URL:https://danvillechurch.org/event/gods-way-4/2027-09-05/
LOCATION:Koinonia Hall\, 989 San Ramon Valley Blvd\, Danville\, CA\, 94526\, United States
CATEGORIES:Meeting
ATTACH;FMTTYPE=image/png:https://danvillechurch.org/wp-content/uploads/2025/06/meeting-2.png
END:VEVENT
BEGIN:VEVENT
DTSTART;TZID=America/Los_Angeles:20270906T090000
DTEND;TZID=America/Los_Angeles:20270906T143000
DTSTAMP:20260419T170136
CREATED:20250910T164023Z
LAST-MODIFIED:20260402T195742Z
UID:10004766-1820221200-1820241000@danvillechurch.org
SUMMARY:Danville Dementia Daycare Meeting
DESCRIPTION:Danville Dementia DayCare
URL:https://danvillechurch.org/event/dddmeeting/2027-09-06/
LOCATION:Koinonia Hall\, 989 San Ramon Valley Blvd\, Danville\, CA\, 94526\, United States
CATEGORIES:Support Group
ATTACH;FMTTYPE=image/png:https://danvillechurch.org/wp-content/uploads/2025/06/meeting-2.png
END:VEVENT
BEGIN:VEVENT
DTSTART;TZID=America/Los_Angeles:20270907T090000
DTEND;TZID=America/Los_Angeles:20270907T100000
DTSTAMP:20260419T170136
CREATED:20250623T160337Z
LAST-MODIFIED:20250908T190516Z
UID:10000191-1820307600-1820311200@danvillechurch.org
SUMMARY:Men's Coffee & Donuts
DESCRIPTION:
URL:https://danvillechurch.org/event/mens-coffee-donuts/2027-09-07/
LOCATION:Koinonia Hall\, 989 San Ramon Valley Blvd\, Danville\, CA\, 94526\, United States
CATEGORIES:Fellowship
ATTACH;FMTTYPE=image/jpeg:https://danvillechurch.org/wp-content/uploads/2025/06/Picture-of-the-Week-4.13.jpg
END:VEVENT
BEGIN:VEVENT
DTSTART;TZID=America/Los_Angeles:20270907T190000
DTEND;TZID=America/Los_Angeles:20270907T210000
DTSTAMP:20260419T170136
CREATED:20250910T164951Z
LAST-MODIFIED:20260402T200109Z
UID:10005606-1820343600-1820350800@danvillechurch.org
SUMMARY:AA New Beginnings Meeting
DESCRIPTION:
URL:https://danvillechurch.org/event/aa-new-beginnings-meeting/2027-09-07/
LOCATION:Koinonia Hall\, 989 San Ramon Valley Blvd\, Danville\, CA\, 94526\, United States
CATEGORIES:Support Group
ATTACH;FMTTYPE=image/png:https://danvillechurch.org/wp-content/uploads/2025/06/meeting-2.png
END:VEVENT
BEGIN:VEVENT
DTSTART;TZID=America/Los_Angeles:20270908T090000
DTEND;TZID=America/Los_Angeles:20270908T143000
DTSTAMP:20260419T170136
CREATED:20250910T164023Z
LAST-MODIFIED:20260402T195742Z
UID:10004767-1820394000-1820413800@danvillechurch.org
SUMMARY:Danville Dementia Daycare Meeting
DESCRIPTION:Danville Dementia DayCare
URL:https://danvillechurch.org/event/dddmeeting/2027-09-08/
LOCATION:Koinonia Hall\, 989 San Ramon Valley Blvd\, Danville\, CA\, 94526\, United States
CATEGORIES:Support Group
ATTACH;FMTTYPE=image/png:https://danvillechurch.org/wp-content/uploads/2025/06/meeting-2.png
END:VEVENT
BEGIN:VEVENT
DTSTART;TZID=America/Los_Angeles:20270908T100000
DTEND;TZID=America/Los_Angeles:20270908T110000
DTSTAMP:20260419T170136
CREATED:20250623T160949Z
LAST-MODIFIED:20251210T183750Z
UID:10000385-1820397600-1820401200@danvillechurch.org
SUMMARY:Wednesday Morning Prayer
DESCRIPTION:Please contact the office for Zoom login credentials.
URL:https://danvillechurch.org/event/wednesday-morning-prayer/2027-09-08/
LOCATION:Sanctuary\, 989 San Ramon Valley Blvd\, Danville\, CA\, 94526\, United States
CATEGORIES:Worship
ATTACH;FMTTYPE=image/png:https://danvillechurch.org/wp-content/uploads/2025/06/5-1.png
END:VEVENT
BEGIN:VEVENT
DTSTART;TZID=America/Los_Angeles:20270908T143000
DTEND;TZID=America/Los_Angeles:20270908T153000
DTSTAMP:20260419T170136
CREATED:20250915T175734Z
LAST-MODIFIED:20250915T175734Z
UID:10007366-1820413800-1820417400@danvillechurch.org
SUMMARY:CARE Support Group
DESCRIPTION:
URL:https://danvillechurch.org/event/care-support-group-3/2027-09-08/
LOCATION:Music Room\, 989 San Ramon Valley Blvd\, Danville\, 94526\, United States
CATEGORIES:Support Group
ATTACH;FMTTYPE=image/png:https://danvillechurch.org/wp-content/uploads/2025/06/support.png
END:VEVENT
BEGIN:VEVENT
DTSTART;TZID=America/Los_Angeles:20270908T190000
DTEND;TZID=America/Los_Angeles:20270908T203000
DTSTAMP:20260419T170136
CREATED:20251014T175941Z
LAST-MODIFIED:20251014T175942Z
UID:10002258-1820430000-1820435400@danvillechurch.org
SUMMARY:Choir Rehearsal
DESCRIPTION:
URL:https://danvillechurch.org/event/choir-rehearsal-2-2/2027-09-08/
LOCATION:Music Room\, 989 San Ramon Valley Blvd\, Danville\, 94526\, United States
CATEGORIES:Meeting
ATTACH;FMTTYPE=image/png:https://danvillechurch.org/wp-content/uploads/2025/06/choir.png
END:VEVENT
BEGIN:VEVENT
DTSTART;TZID=America/Los_Angeles:20270909T190000
DTEND;TZID=America/Los_Angeles:20270909T210000
DTSTAMP:20260419T170136
CREATED:20250910T165146Z
LAST-MODIFIED:20260402T200101Z
UID:10005869-1820516400-1820523600@danvillechurch.org
SUMMARY:Nursery3 Meeting
DESCRIPTION:
URL:https://danvillechurch.org/event/nursery3-meeting/2027-09-09/
LOCATION:Koinonia Hall\, 989 San Ramon Valley Blvd\, Danville\, CA\, 94526\, United States
CATEGORIES:Support Group
ATTACH;FMTTYPE=image/png:https://danvillechurch.org/wp-content/uploads/2025/06/meeting-2.png
END:VEVENT
BEGIN:VEVENT
DTSTART;TZID=America/Los_Angeles:20270910T090000
DTEND;TZID=America/Los_Angeles:20270910T143000
DTSTAMP:20260419T170136
CREATED:20250910T164023Z
LAST-MODIFIED:20260402T195742Z
UID:10004768-1820566800-1820586600@danvillechurch.org
SUMMARY:Danville Dementia Daycare Meeting
DESCRIPTION:Danville Dementia DayCare
URL:https://danvillechurch.org/event/dddmeeting/2027-09-10/
LOCATION:Koinonia Hall\, 989 San Ramon Valley Blvd\, Danville\, CA\, 94526\, United States
CATEGORIES:Support Group
ATTACH;FMTTYPE=image/png:https://danvillechurch.org/wp-content/uploads/2025/06/meeting-2.png
END:VEVENT
BEGIN:VEVENT
DTSTART;TZID=America/Los_Angeles:20270910T163000
DTEND;TZID=America/Los_Angeles:20270910T183000
DTSTAMP:20260419T170136
CREATED:20250910T165343Z
LAST-MODIFIED:20260402T195856Z
UID:10006131-1820593800-1820601000@danvillechurch.org
SUMMARY:AA Happy Hour Meeting
DESCRIPTION:
URL:https://danvillechurch.org/event/aa-happy-hour-meeting/2027-09-10/
LOCATION:Koinonia Hall\, 989 San Ramon Valley Blvd\, Danville\, CA\, 94526\, United States
CATEGORIES:Support Group
ATTACH;FMTTYPE=image/png:https://danvillechurch.org/wp-content/uploads/2025/06/meeting-2.png
END:VEVENT
BEGIN:VEVENT
DTSTART;TZID=America/Los_Angeles:20270910T200000
DTEND;TZID=America/Los_Angeles:20270910T220000
DTSTAMP:20260419T170136
CREATED:20250910T165740Z
LAST-MODIFIED:20260402T195839Z
UID:10006393-1820606400-1820613600@danvillechurch.org
SUMMARY:God's Way
DESCRIPTION:
URL:https://danvillechurch.org/event/gods-way-2/2027-09-10/
LOCATION:Peace Room
CATEGORIES:Meeting
ATTACH;FMTTYPE=image/png:https://danvillechurch.org/wp-content/uploads/2025/06/meeting-2.png
END:VEVENT
BEGIN:VEVENT
DTSTART;TZID=America/Los_Angeles:20270911T060000
DTEND;TZID=America/Los_Angeles:20270911T070000
DTSTAMP:20260419T170136
CREATED:20250910T165942Z
LAST-MODIFIED:20260402T195830Z
UID:10006656-1820642400-1820646000@danvillechurch.org
SUMMARY:God's Way
DESCRIPTION:
URL:https://danvillechurch.org/event/gods-way-3/2027-09-11/
LOCATION:Koinonia Hall\, 989 San Ramon Valley Blvd\, Danville\, CA\, 94526\, United States
CATEGORIES:Meeting
ATTACH;FMTTYPE=image/png:https://danvillechurch.org/wp-content/uploads/2025/06/meeting-2.png
END:VEVENT
BEGIN:VEVENT
DTSTART;TZID=America/Los_Angeles:20270911T073000
DTEND;TZID=America/Los_Angeles:20270911T093000
DTSTAMP:20260419T170136
CREATED:20250910T170327Z
LAST-MODIFIED:20260402T195811Z
UID:10006919-1820647800-1820655000@danvillechurch.org
SUMMARY:NA Early Serenity Meeting
DESCRIPTION:
URL:https://danvillechurch.org/event/na-early-serenity-meeting/2027-09-11/
LOCATION:Koinonia Hall\, 989 San Ramon Valley Blvd\, Danville\, CA\, 94526\, United States
CATEGORIES:Support Group
ATTACH;FMTTYPE=image/png:https://danvillechurch.org/wp-content/uploads/2025/06/meeting-2.png
END:VEVENT
END:VCALENDAR