BEGIN:VCALENDAR
VERSION:2.0
PRODID:-//Danville Congregational Church - ECPv6.15.20//NONSGML v1.0//EN
CALSCALE:GREGORIAN
METHOD:PUBLISH
X-ORIGINAL-URL:https://danvillechurch.org
X-WR-CALDESC:Events for Danville Congregational Church
REFRESH-INTERVAL;VALUE=DURATION:PT1H
X-Robots-Tag:noindex
X-PUBLISHED-TTL:PT1H
BEGIN:VTIMEZONE
TZID:America/Los_Angeles
BEGIN:DAYLIGHT
TZOFFSETFROM:-0800
TZOFFSETTO:-0700
TZNAME:PDT
DTSTART:20270314T100000
END:DAYLIGHT
BEGIN:STANDARD
TZOFFSETFROM:-0700
TZOFFSETTO:-0800
TZNAME:PST
DTSTART:20271107T090000
END:STANDARD
BEGIN:DAYLIGHT
TZOFFSETFROM:-0800
TZOFFSETTO:-0700
TZNAME:PDT
DTSTART:20280312T100000
END:DAYLIGHT
BEGIN:STANDARD
TZOFFSETFROM:-0700
TZOFFSETTO:-0800
TZNAME:PST
DTSTART:20281105T090000
END:STANDARD
BEGIN:DAYLIGHT
TZOFFSETFROM:-0800
TZOFFSETTO:-0700
TZNAME:PDT
DTSTART:20290311T100000
END:DAYLIGHT
BEGIN:STANDARD
TZOFFSETFROM:-0700
TZOFFSETTO:-0800
TZNAME:PST
DTSTART:20291104T090000
END:STANDARD
END:VTIMEZONE
BEGIN:VEVENT
DTSTART;TZID=America/Los_Angeles:20280402T083000
DTEND;TZID=America/Los_Angeles:20280402T091500
DTSTAMP:20260423T092518
CREATED:20250623T173721Z
LAST-MODIFIED:20250623T174122Z
UID:10001717-1838277000-1838279700@danvillechurch.org
SUMMARY:Choir Rehearsal
DESCRIPTION:
URL:https://danvillechurch.org/event/choir-rehearsal/2028-04-02/
LOCATION:Sanctuary\, 989 San Ramon Valley Blvd\, Danville\, CA\, 94526\, United States
CATEGORIES:Meeting
ATTACH;FMTTYPE=image/png:https://danvillechurch.org/wp-content/uploads/2025/06/choir.png
END:VEVENT
BEGIN:VEVENT
DTSTART;TZID=America/Los_Angeles:20280402T093000
DTEND;TZID=America/Los_Angeles:20280402T103000
DTSTAMP:20260423T092518
CREATED:20250623T164007Z
LAST-MODIFIED:20250908T182550Z
UID:10001006-1838280600-1838284200@danvillechurch.org
SUMMARY:Godly Play
DESCRIPTION:
URL:https://danvillechurch.org/event/godly-play/2028-04-02/
CATEGORIES:Children's Ministry
ATTACH;FMTTYPE=image/jpeg:https://danvillechurch.org/wp-content/uploads/2025/08/godlyplay_seal_fullcolor.jpg
END:VEVENT
BEGIN:VEVENT
DTSTART;TZID=America/Los_Angeles:20280402T093000
DTEND;TZID=America/Los_Angeles:20280402T223000
DTSTAMP:20260423T092518
CREATED:20250623T162746Z
LAST-MODIFIED:20250916T180509Z
UID:10000796-1838280600-1838327400@danvillechurch.org
SUMMARY:Worship
DESCRIPTION:
URL:https://danvillechurch.org/event/worship/2028-04-02/
LOCATION:Sanctuary\, 989 San Ramon Valley Blvd\, Danville\, CA\, 94526\, United States
CATEGORIES:Worship
ATTACH;FMTTYPE=image/png:https://danvillechurch.org/wp-content/uploads/2025/06/1-1.png
END:VEVENT
BEGIN:VEVENT
DTSTART;TZID=America/Los_Angeles:20280402T110000
DTEND;TZID=America/Los_Angeles:20280402T130000
DTSTAMP:20260423T092518
CREATED:20250918T194959Z
LAST-MODIFIED:20250918T195000Z
UID:10007549-1838286000-1838293200@danvillechurch.org
SUMMARY:Youth Group
DESCRIPTION:
URL:https://danvillechurch.org/event/youth-group-2-2/2028-04-02/
LOCATION:Agape Lounge – Youth Room
CATEGORIES:Youth Ministry
ATTACH;FMTTYPE=image/jpeg:https://danvillechurch.org/wp-content/uploads/2025/07/Picture-of-the-Week-3.23-1-scaled.jpg
END:VEVENT
BEGIN:VEVENT
DTSTART;TZID=America/Los_Angeles:20280402T120000
DTEND;TZID=America/Los_Angeles:20280402T140000
DTSTAMP:20260423T092518
CREATED:20250908T201908Z
LAST-MODIFIED:20251021T202131Z
UID:10004053-1838289600-1838296800@danvillechurch.org
SUMMARY:Monthly Lunch Bunch
DESCRIPTION:
URL:https://danvillechurch.org/event/monthly-lunch-bunch/2028-04-02/
CATEGORIES:Fellowship
ATTACH;FMTTYPE=image/jpeg:https://danvillechurch.org/wp-content/uploads/2025/09/Lunch-bunch.jpg
END:VEVENT
BEGIN:VEVENT
DTSTART;TZID=America/Los_Angeles:20280402T120000
DTEND;TZID=America/Los_Angeles:20280402T140000
DTSTAMP:20260423T092518
CREATED:20260330T204934Z
LAST-MODIFIED:20260330T204935Z
UID:10008224-1838289600-1838296800@danvillechurch.org
SUMMARY:Monthly Lunch Bunch
DESCRIPTION:
URL:https://danvillechurch.org/event/monthly-lunch-bunch-3/2028-04-02/
CATEGORIES:Fellowship
ATTACH;FMTTYPE=image/jpeg:https://danvillechurch.org/wp-content/uploads/2025/09/Lunch-bunch.jpg
END:VEVENT
BEGIN:VEVENT
DTSTART;TZID=America/Los_Angeles:20280402T130000
DTEND;TZID=America/Los_Angeles:20280402T173000
DTSTAMP:20260423T092518
CREATED:20250910T170136Z
LAST-MODIFIED:20260402T195750Z
UID:10007212-1838293200-1838309400@danvillechurch.org
SUMMARY:God's Way
DESCRIPTION:
URL:https://danvillechurch.org/event/gods-way-4/2028-04-02/
LOCATION:Koinonia Hall\, 989 San Ramon Valley Blvd\, Danville\, CA\, 94526\, United States
CATEGORIES:Meeting
ATTACH;FMTTYPE=image/png:https://danvillechurch.org/wp-content/uploads/2025/06/meeting-2.png
END:VEVENT
BEGIN:VEVENT
DTSTART;TZID=America/Los_Angeles:20280403T090000
DTEND;TZID=America/Los_Angeles:20280403T143000
DTSTAMP:20260423T092518
CREATED:20250910T164023Z
LAST-MODIFIED:20260402T195742Z
UID:10004856-1838365200-1838385000@danvillechurch.org
SUMMARY:Danville Dementia Daycare Meeting
DESCRIPTION:Danville Dementia DayCare
URL:https://danvillechurch.org/event/dddmeeting/2028-04-03/
LOCATION:Koinonia Hall\, 989 San Ramon Valley Blvd\, Danville\, CA\, 94526\, United States
CATEGORIES:Support Group
ATTACH;FMTTYPE=image/png:https://danvillechurch.org/wp-content/uploads/2025/06/meeting-2.png
END:VEVENT
BEGIN:VEVENT
DTSTART;TZID=America/Los_Angeles:20280404T090000
DTEND;TZID=America/Los_Angeles:20280404T100000
DTSTAMP:20260423T092518
CREATED:20250623T160337Z
LAST-MODIFIED:20250908T190516Z
UID:10000206-1838451600-1838455200@danvillechurch.org
SUMMARY:Men's Coffee & Donuts
DESCRIPTION:
URL:https://danvillechurch.org/event/mens-coffee-donuts/2028-04-04/
LOCATION:Koinonia Hall\, 989 San Ramon Valley Blvd\, Danville\, CA\, 94526\, United States
CATEGORIES:Fellowship
ATTACH;FMTTYPE=image/jpeg:https://danvillechurch.org/wp-content/uploads/2025/06/Picture-of-the-Week-4.13.jpg
END:VEVENT
BEGIN:VEVENT
DTSTART;TZID=America/Los_Angeles:20280404T190000
DTEND;TZID=America/Los_Angeles:20280404T210000
DTSTAMP:20260423T092518
CREATED:20250910T164951Z
LAST-MODIFIED:20260402T200109Z
UID:10005636-1838487600-1838494800@danvillechurch.org
SUMMARY:AA New Beginnings Meeting
DESCRIPTION:
URL:https://danvillechurch.org/event/aa-new-beginnings-meeting/2028-04-04/
LOCATION:Koinonia Hall\, 989 San Ramon Valley Blvd\, Danville\, CA\, 94526\, United States
CATEGORIES:Support Group
ATTACH;FMTTYPE=image/png:https://danvillechurch.org/wp-content/uploads/2025/06/meeting-2.png
END:VEVENT
BEGIN:VEVENT
DTSTART;TZID=America/Los_Angeles:20280405T090000
DTEND;TZID=America/Los_Angeles:20280405T143000
DTSTAMP:20260423T092518
CREATED:20250910T164023Z
LAST-MODIFIED:20260402T195742Z
UID:10004857-1838538000-1838557800@danvillechurch.org
SUMMARY:Danville Dementia Daycare Meeting
DESCRIPTION:Danville Dementia DayCare
URL:https://danvillechurch.org/event/dddmeeting/2028-04-05/
LOCATION:Koinonia Hall\, 989 San Ramon Valley Blvd\, Danville\, CA\, 94526\, United States
CATEGORIES:Support Group
ATTACH;FMTTYPE=image/png:https://danvillechurch.org/wp-content/uploads/2025/06/meeting-2.png
END:VEVENT
BEGIN:VEVENT
DTSTART;TZID=America/Los_Angeles:20280405T100000
DTEND;TZID=America/Los_Angeles:20280405T110000
DTSTAMP:20260423T092518
CREATED:20250623T160949Z
LAST-MODIFIED:20251210T183750Z
UID:10000415-1838541600-1838545200@danvillechurch.org
SUMMARY:Wednesday Morning Prayer
DESCRIPTION:Please contact the office for Zoom login credentials.
URL:https://danvillechurch.org/event/wednesday-morning-prayer/2028-04-05/
LOCATION:Sanctuary\, 989 San Ramon Valley Blvd\, Danville\, CA\, 94526\, United States
CATEGORIES:Worship
ATTACH;FMTTYPE=image/png:https://danvillechurch.org/wp-content/uploads/2025/06/5-1.png
END:VEVENT
BEGIN:VEVENT
DTSTART;TZID=America/Los_Angeles:20280405T190000
DTEND;TZID=America/Los_Angeles:20280405T203000
DTSTAMP:20260423T092518
CREATED:20251014T175941Z
LAST-MODIFIED:20251014T175942Z
UID:10002288-1838574000-1838579400@danvillechurch.org
SUMMARY:Choir Rehearsal
DESCRIPTION:
URL:https://danvillechurch.org/event/choir-rehearsal-2-2/2028-04-05/
LOCATION:Music Room\, 989 San Ramon Valley Blvd\, Danville\, 94526\, United States
CATEGORIES:Meeting
ATTACH;FMTTYPE=image/png:https://danvillechurch.org/wp-content/uploads/2025/06/choir.png
END:VEVENT
BEGIN:VEVENT
DTSTART;TZID=America/Los_Angeles:20280406T190000
DTEND;TZID=America/Los_Angeles:20280406T210000
DTSTAMP:20260423T092518
CREATED:20250910T165146Z
LAST-MODIFIED:20260402T200101Z
UID:10005899-1838660400-1838667600@danvillechurch.org
SUMMARY:Nursery3 Meeting
DESCRIPTION:
URL:https://danvillechurch.org/event/nursery3-meeting/2028-04-06/
LOCATION:Koinonia Hall\, 989 San Ramon Valley Blvd\, Danville\, CA\, 94526\, United States
CATEGORIES:Support Group
ATTACH;FMTTYPE=image/png:https://danvillechurch.org/wp-content/uploads/2025/06/meeting-2.png
END:VEVENT
BEGIN:VEVENT
DTSTART;TZID=America/Los_Angeles:20280407T090000
DTEND;TZID=America/Los_Angeles:20280407T143000
DTSTAMP:20260423T092518
CREATED:20250910T164023Z
LAST-MODIFIED:20260402T195742Z
UID:10004858-1838710800-1838730600@danvillechurch.org
SUMMARY:Danville Dementia Daycare Meeting
DESCRIPTION:Danville Dementia DayCare
URL:https://danvillechurch.org/event/dddmeeting/2028-04-07/
LOCATION:Koinonia Hall\, 989 San Ramon Valley Blvd\, Danville\, CA\, 94526\, United States
CATEGORIES:Support Group
ATTACH;FMTTYPE=image/png:https://danvillechurch.org/wp-content/uploads/2025/06/meeting-2.png
END:VEVENT
BEGIN:VEVENT
DTSTART;TZID=America/Los_Angeles:20280407T163000
DTEND;TZID=America/Los_Angeles:20280407T183000
DTSTAMP:20260423T092518
CREATED:20250910T165343Z
LAST-MODIFIED:20260402T195856Z
UID:10006161-1838737800-1838745000@danvillechurch.org
SUMMARY:AA Happy Hour Meeting
DESCRIPTION:
URL:https://danvillechurch.org/event/aa-happy-hour-meeting/2028-04-07/
LOCATION:Koinonia Hall\, 989 San Ramon Valley Blvd\, Danville\, CA\, 94526\, United States
CATEGORIES:Support Group
ATTACH;FMTTYPE=image/png:https://danvillechurch.org/wp-content/uploads/2025/06/meeting-2.png
END:VEVENT
BEGIN:VEVENT
DTSTART;TZID=America/Los_Angeles:20280407T200000
DTEND;TZID=America/Los_Angeles:20280407T220000
DTSTAMP:20260423T092518
CREATED:20250910T165740Z
LAST-MODIFIED:20260402T195839Z
UID:10006423-1838750400-1838757600@danvillechurch.org
SUMMARY:God's Way
DESCRIPTION:
URL:https://danvillechurch.org/event/gods-way-2/2028-04-07/
LOCATION:Peace Room
CATEGORIES:Meeting
ATTACH;FMTTYPE=image/png:https://danvillechurch.org/wp-content/uploads/2025/06/meeting-2.png
END:VEVENT
BEGIN:VEVENT
DTSTART;TZID=America/Los_Angeles:20280408T060000
DTEND;TZID=America/Los_Angeles:20280408T070000
DTSTAMP:20260423T092518
CREATED:20250910T165942Z
LAST-MODIFIED:20260402T195830Z
UID:10006686-1838786400-1838790000@danvillechurch.org
SUMMARY:God's Way
DESCRIPTION:
URL:https://danvillechurch.org/event/gods-way-3/2028-04-08/
LOCATION:Koinonia Hall\, 989 San Ramon Valley Blvd\, Danville\, CA\, 94526\, United States
CATEGORIES:Meeting
ATTACH;FMTTYPE=image/png:https://danvillechurch.org/wp-content/uploads/2025/06/meeting-2.png
END:VEVENT
BEGIN:VEVENT
DTSTART;TZID=America/Los_Angeles:20280408T073000
DTEND;TZID=America/Los_Angeles:20280408T093000
DTSTAMP:20260423T092518
CREATED:20250910T170327Z
LAST-MODIFIED:20260402T195811Z
UID:10006949-1838791800-1838799000@danvillechurch.org
SUMMARY:NA Early Serenity Meeting
DESCRIPTION:
URL:https://danvillechurch.org/event/na-early-serenity-meeting/2028-04-08/
LOCATION:Koinonia Hall\, 989 San Ramon Valley Blvd\, Danville\, CA\, 94526\, United States
CATEGORIES:Support Group
ATTACH;FMTTYPE=image/png:https://danvillechurch.org/wp-content/uploads/2025/06/meeting-2.png
END:VEVENT
BEGIN:VEVENT
DTSTART;TZID=America/Los_Angeles:20280409T083000
DTEND;TZID=America/Los_Angeles:20280409T091500
DTSTAMP:20260423T092518
CREATED:20250623T173721Z
LAST-MODIFIED:20250623T174122Z
UID:10001718-1838881800-1838884500@danvillechurch.org
SUMMARY:Choir Rehearsal
DESCRIPTION:
URL:https://danvillechurch.org/event/choir-rehearsal/2028-04-09/
LOCATION:Sanctuary\, 989 San Ramon Valley Blvd\, Danville\, CA\, 94526\, United States
CATEGORIES:Meeting
ATTACH;FMTTYPE=image/png:https://danvillechurch.org/wp-content/uploads/2025/06/choir.png
END:VEVENT
BEGIN:VEVENT
DTSTART;TZID=America/Los_Angeles:20280409T093000
DTEND;TZID=America/Los_Angeles:20280409T223000
DTSTAMP:20260423T092518
CREATED:20250623T162746Z
LAST-MODIFIED:20250916T180509Z
UID:10000797-1838885400-1838932200@danvillechurch.org
SUMMARY:Worship
DESCRIPTION:
URL:https://danvillechurch.org/event/worship/2028-04-09/
LOCATION:Sanctuary\, 989 San Ramon Valley Blvd\, Danville\, CA\, 94526\, United States
CATEGORIES:Worship
ATTACH;FMTTYPE=image/png:https://danvillechurch.org/wp-content/uploads/2025/06/1-1.png
END:VEVENT
BEGIN:VEVENT
DTSTART;TZID=America/Los_Angeles:20280409T110000
DTEND;TZID=America/Los_Angeles:20280409T130000
DTSTAMP:20260423T092518
CREATED:20250918T194959Z
LAST-MODIFIED:20250918T195000Z
UID:10007550-1838890800-1838898000@danvillechurch.org
SUMMARY:Youth Group
DESCRIPTION:
URL:https://danvillechurch.org/event/youth-group-2-2/2028-04-09/
LOCATION:Agape Lounge – Youth Room
CATEGORIES:Youth Ministry
ATTACH;FMTTYPE=image/jpeg:https://danvillechurch.org/wp-content/uploads/2025/07/Picture-of-the-Week-3.23-1-scaled.jpg
END:VEVENT
BEGIN:VEVENT
DTSTART;TZID=America/Los_Angeles:20280409T111500
DTEND;TZID=America/Los_Angeles:20280409T121500
DTSTAMP:20260423T092518
CREATED:20251027T160730Z
LAST-MODIFIED:20251103T172349Z
UID:10001066-1838891700-1838895300@danvillechurch.org
SUMMARY:Buildings and Grounds Commission Meeting - Spirit Room
DESCRIPTION:
URL:https://danvillechurch.org/event/buildings-and-grounds-commission-meeting-2/2028-04-09/
LOCATION:Koinonia Hall – Spirit Room\, 989 San Ramon Valley Blvd\, Danville\, CA\, 94526\, United States
CATEGORIES:Meeting
ATTACH;FMTTYPE=image/png:https://danvillechurch.org/wp-content/uploads/2025/06/meeting-2.png
END:VEVENT
BEGIN:VEVENT
DTSTART;TZID=America/Los_Angeles:20280409T111500
DTEND;TZID=America/Los_Angeles:20280409T121500
DTSTAMP:20260423T092518
CREATED:20251027T161844Z
LAST-MODIFIED:20251027T172158Z
UID:10004116-1838891700-1838895300@danvillechurch.org
SUMMARY:Outreach Commission Meeting
DESCRIPTION:
URL:https://danvillechurch.org/event/outreach-commission-meeting-3/2028-04-09/
LOCATION:Agape Lounge – Youth Room
CATEGORIES:Meeting
ATTACH;FMTTYPE=image/png:https://danvillechurch.org/wp-content/uploads/2025/06/meeting-2.png
END:VEVENT
BEGIN:VEVENT
DTSTART;TZID=America/Los_Angeles:20280409T111500
DTEND;TZID=America/Los_Angeles:20280409T121500
DTSTAMP:20260423T092518
CREATED:20251027T163043Z
LAST-MODIFIED:20251027T163043Z
UID:10001126-1838891700-1838895300@danvillechurch.org
SUMMARY:Commission Meetings
DESCRIPTION:
URL:https://danvillechurch.org/event/commission-meetings-2/2028-04-09/
LOCATION:Koinonia Hall\, 989 San Ramon Valley Blvd\, Danville\, CA\, 94526\, United States
CATEGORIES:Meeting
ATTACH;FMTTYPE=image/png:https://danvillechurch.org/wp-content/uploads/2025/06/meeting-2.png
END:VEVENT
BEGIN:VEVENT
DTSTART;TZID=America/Los_Angeles:20280409T111500
DTEND;TZID=America/Los_Angeles:20280409T121500
DTSTAMP:20260423T092518
CREATED:20260406T181350Z
LAST-MODIFIED:20260406T181710Z
UID:10001555-1838891700-1838895300@danvillechurch.org
SUMMARY:Community Life Commission Meeting - Music Room
DESCRIPTION:
URL:https://danvillechurch.org/event/community-life-commission-meeting-2-2-2/2028-04-09/
LOCATION:Music Room\, 989 San Ramon Valley Blvd\, Danville\, 94526\, United States
CATEGORIES:Meeting
ATTACH;FMTTYPE=image/png:https://danvillechurch.org/wp-content/uploads/2025/06/meeting-2.png
END:VEVENT
BEGIN:VEVENT
DTSTART;TZID=America/Los_Angeles:20280409T130000
DTEND;TZID=America/Los_Angeles:20280409T173000
DTSTAMP:20260423T092518
CREATED:20250910T170136Z
LAST-MODIFIED:20260402T195750Z
UID:10007213-1838898000-1838914200@danvillechurch.org
SUMMARY:God's Way
DESCRIPTION:
URL:https://danvillechurch.org/event/gods-way-4/2028-04-09/
LOCATION:Koinonia Hall\, 989 San Ramon Valley Blvd\, Danville\, CA\, 94526\, United States
CATEGORIES:Meeting
ATTACH;FMTTYPE=image/png:https://danvillechurch.org/wp-content/uploads/2025/06/meeting-2.png
END:VEVENT
BEGIN:VEVENT
DTSTART;TZID=America/Los_Angeles:20280410T090000
DTEND;TZID=America/Los_Angeles:20280410T143000
DTSTAMP:20260423T092518
CREATED:20250910T164023Z
LAST-MODIFIED:20260402T195742Z
UID:10004859-1838970000-1838989800@danvillechurch.org
SUMMARY:Danville Dementia Daycare Meeting
DESCRIPTION:Danville Dementia DayCare
URL:https://danvillechurch.org/event/dddmeeting/2028-04-10/
LOCATION:Koinonia Hall\, 989 San Ramon Valley Blvd\, Danville\, CA\, 94526\, United States
CATEGORIES:Support Group
ATTACH;FMTTYPE=image/png:https://danvillechurch.org/wp-content/uploads/2025/06/meeting-2.png
END:VEVENT
BEGIN:VEVENT
DTSTART;TZID=America/Los_Angeles:20280411T113000
DTEND;TZID=America/Los_Angeles:20280411T123000
DTSTAMP:20260423T092518
CREATED:20250623T162343Z
LAST-MODIFIED:20250908T190412Z
UID:10003380-1839065400-1839069000@danvillechurch.org
SUMMARY:Men's Luncheon
DESCRIPTION:
URL:https://danvillechurch.org/event/mens-luncheon/2028-04-11/
LOCATION:Koinonia Hall\, 989 San Ramon Valley Blvd\, Danville\, CA\, 94526\, United States
CATEGORIES:Fellowship
ATTACH;FMTTYPE=image/jpeg:https://danvillechurch.org/wp-content/uploads/2025/06/Picture-of-the-Week-options-5.18-3-scaled.jpg
END:VEVENT
BEGIN:VEVENT
DTSTART;TZID=America/Los_Angeles:20280411T130000
DTEND;TZID=America/Los_Angeles:20280411T150000
DTSTAMP:20260423T092518
CREATED:20250623T162553Z
LAST-MODIFIED:20250623T165228Z
UID:10000625-1839070800-1839078000@danvillechurch.org
SUMMARY:Diaconate Meeting
DESCRIPTION:
URL:https://danvillechurch.org/event/diaconate-meeting/2028-04-11/
LOCATION:Music Room\, 989 San Ramon Valley Blvd\, Danville\, 94526\, United States
CATEGORIES:Meeting
ATTACH;FMTTYPE=image/png:https://danvillechurch.org/wp-content/uploads/2025/06/meeting-2.png
END:VEVENT
END:VCALENDAR