BEGIN:VCALENDAR
VERSION:2.0
PRODID:-//Danville Congregational Church - ECPv6.15.20//NONSGML v1.0//EN
CALSCALE:GREGORIAN
METHOD:PUBLISH
X-WR-CALNAME:Danville Congregational Church
X-ORIGINAL-URL:https://danvillechurch.org
X-WR-CALDESC:Events for Danville Congregational Church
REFRESH-INTERVAL;VALUE=DURATION:PT1H
X-Robots-Tag:noindex
X-PUBLISHED-TTL:PT1H
BEGIN:VTIMEZONE
TZID:America/Los_Angeles
BEGIN:DAYLIGHT
TZOFFSETFROM:-0800
TZOFFSETTO:-0700
TZNAME:PDT
DTSTART:20260308T100000
END:DAYLIGHT
BEGIN:STANDARD
TZOFFSETFROM:-0700
TZOFFSETTO:-0800
TZNAME:PST
DTSTART:20261101T090000
END:STANDARD
BEGIN:DAYLIGHT
TZOFFSETFROM:-0800
TZOFFSETTO:-0700
TZNAME:PDT
DTSTART:20270314T100000
END:DAYLIGHT
BEGIN:STANDARD
TZOFFSETFROM:-0700
TZOFFSETTO:-0800
TZNAME:PST
DTSTART:20271107T090000
END:STANDARD
BEGIN:DAYLIGHT
TZOFFSETFROM:-0800
TZOFFSETTO:-0700
TZNAME:PDT
DTSTART:20280312T100000
END:DAYLIGHT
BEGIN:STANDARD
TZOFFSETFROM:-0700
TZOFFSETTO:-0800
TZNAME:PST
DTSTART:20281105T090000
END:STANDARD
END:VTIMEZONE
BEGIN:VEVENT
DTSTART;TZID=America/Los_Angeles:20270704T093000
DTEND;TZID=America/Los_Angeles:20270704T223000
DTSTAMP:20260419T131838
CREATED:20250623T162746Z
LAST-MODIFIED:20250916T180509Z
UID:10000757-1814693400-1814740200@danvillechurch.org
SUMMARY:Worship
DESCRIPTION:
URL:https://danvillechurch.org/event/worship/2027-07-04/
LOCATION:Sanctuary\, 989 San Ramon Valley Blvd\, Danville\, CA\, 94526\, United States
CATEGORIES:Worship
ATTACH;FMTTYPE=image/png:https://danvillechurch.org/wp-content/uploads/2025/06/1-1.png
END:VEVENT
BEGIN:VEVENT
DTSTART;TZID=America/Los_Angeles:20270704T110000
DTEND;TZID=America/Los_Angeles:20270704T130000
DTSTAMP:20260419T131838
CREATED:20250918T194959Z
LAST-MODIFIED:20250918T195000Z
UID:10007510-1814698800-1814706000@danvillechurch.org
SUMMARY:Youth Group
DESCRIPTION:
URL:https://danvillechurch.org/event/youth-group-2-2/2027-07-04/
LOCATION:Agape Lounge – Youth Room
CATEGORIES:Youth Ministry
ATTACH;FMTTYPE=image/jpeg:https://danvillechurch.org/wp-content/uploads/2025/07/Picture-of-the-Week-3.23-1-scaled.jpg
END:VEVENT
BEGIN:VEVENT
DTSTART;TZID=America/Los_Angeles:20270704T120000
DTEND;TZID=America/Los_Angeles:20270704T140000
DTSTAMP:20260419T131838
CREATED:20250908T201908Z
LAST-MODIFIED:20251021T202131Z
UID:10004044-1814702400-1814709600@danvillechurch.org
SUMMARY:Monthly Lunch Bunch
DESCRIPTION:
URL:https://danvillechurch.org/event/monthly-lunch-bunch/2027-07-04/
CATEGORIES:Fellowship
ATTACH;FMTTYPE=image/jpeg:https://danvillechurch.org/wp-content/uploads/2025/09/Lunch-bunch.jpg
END:VEVENT
BEGIN:VEVENT
DTSTART;TZID=America/Los_Angeles:20270704T120000
DTEND;TZID=America/Los_Angeles:20270704T140000
DTSTAMP:20260419T131838
CREATED:20260330T204934Z
LAST-MODIFIED:20260330T204935Z
UID:10008215-1814702400-1814709600@danvillechurch.org
SUMMARY:Monthly Lunch Bunch
DESCRIPTION:
URL:https://danvillechurch.org/event/monthly-lunch-bunch-3/2027-07-04/
CATEGORIES:Fellowship
ATTACH;FMTTYPE=image/jpeg:https://danvillechurch.org/wp-content/uploads/2025/09/Lunch-bunch.jpg
END:VEVENT
BEGIN:VEVENT
DTSTART;TZID=America/Los_Angeles:20270704T130000
DTEND;TZID=America/Los_Angeles:20270704T173000
DTSTAMP:20260419T131838
CREATED:20250910T170136Z
LAST-MODIFIED:20260402T195750Z
UID:10007173-1814706000-1814722200@danvillechurch.org
SUMMARY:God's Way
DESCRIPTION:
URL:https://danvillechurch.org/event/gods-way-4/2027-07-04/
LOCATION:Koinonia Hall\, 989 San Ramon Valley Blvd\, Danville\, CA\, 94526\, United States
CATEGORIES:Meeting
ATTACH;FMTTYPE=image/png:https://danvillechurch.org/wp-content/uploads/2025/06/meeting-2.png
END:VEVENT
BEGIN:VEVENT
DTSTART;TZID=America/Los_Angeles:20270705T090000
DTEND;TZID=America/Los_Angeles:20270705T143000
DTSTAMP:20260419T131838
CREATED:20250910T164023Z
LAST-MODIFIED:20260402T195742Z
UID:10004739-1814778000-1814797800@danvillechurch.org
SUMMARY:Danville Dementia Daycare Meeting
DESCRIPTION:Danville Dementia DayCare
URL:https://danvillechurch.org/event/dddmeeting/2027-07-05/
LOCATION:Koinonia Hall\, 989 San Ramon Valley Blvd\, Danville\, CA\, 94526\, United States
CATEGORIES:Support Group
ATTACH;FMTTYPE=image/png:https://danvillechurch.org/wp-content/uploads/2025/06/meeting-2.png
END:VEVENT
BEGIN:VEVENT
DTSTART;TZID=America/Los_Angeles:20270706T090000
DTEND;TZID=America/Los_Angeles:20270706T100000
DTSTAMP:20260419T131838
CREATED:20250623T160337Z
LAST-MODIFIED:20250908T190516Z
UID:10000056-1814864400-1814868000@danvillechurch.org
SUMMARY:Men's Coffee & Donuts
DESCRIPTION:
URL:https://danvillechurch.org/event/mens-coffee-donuts/2027-07-06/
LOCATION:Koinonia Hall\, 989 San Ramon Valley Blvd\, Danville\, CA\, 94526\, United States
CATEGORIES:Fellowship
ATTACH;FMTTYPE=image/jpeg:https://danvillechurch.org/wp-content/uploads/2025/06/Picture-of-the-Week-4.13.jpg
END:VEVENT
BEGIN:VEVENT
DTSTART;TZID=America/Los_Angeles:20270706T190000
DTEND;TZID=America/Los_Angeles:20270706T210000
DTSTAMP:20260419T131838
CREATED:20250910T164951Z
LAST-MODIFIED:20260402T200109Z
UID:10005597-1814900400-1814907600@danvillechurch.org
SUMMARY:AA New Beginnings Meeting
DESCRIPTION:
URL:https://danvillechurch.org/event/aa-new-beginnings-meeting/2027-07-06/
LOCATION:Koinonia Hall\, 989 San Ramon Valley Blvd\, Danville\, CA\, 94526\, United States
CATEGORIES:Support Group
ATTACH;FMTTYPE=image/png:https://danvillechurch.org/wp-content/uploads/2025/06/meeting-2.png
END:VEVENT
BEGIN:VEVENT
DTSTART;TZID=America/Los_Angeles:20270707T090000
DTEND;TZID=America/Los_Angeles:20270707T143000
DTSTAMP:20260419T131838
CREATED:20250910T164023Z
LAST-MODIFIED:20260402T195742Z
UID:10004740-1814950800-1814970600@danvillechurch.org
SUMMARY:Danville Dementia Daycare Meeting
DESCRIPTION:Danville Dementia DayCare
URL:https://danvillechurch.org/event/dddmeeting/2027-07-07/
LOCATION:Koinonia Hall\, 989 San Ramon Valley Blvd\, Danville\, CA\, 94526\, United States
CATEGORIES:Support Group
ATTACH;FMTTYPE=image/png:https://danvillechurch.org/wp-content/uploads/2025/06/meeting-2.png
END:VEVENT
BEGIN:VEVENT
DTSTART;TZID=America/Los_Angeles:20270707T100000
DTEND;TZID=America/Los_Angeles:20270707T110000
DTSTAMP:20260419T131838
CREATED:20250623T160949Z
LAST-MODIFIED:20251210T183750Z
UID:10000376-1814954400-1814958000@danvillechurch.org
SUMMARY:Wednesday Morning Prayer
DESCRIPTION:Please contact the office for Zoom login credentials.
URL:https://danvillechurch.org/event/wednesday-morning-prayer/2027-07-07/
LOCATION:Sanctuary\, 989 San Ramon Valley Blvd\, Danville\, CA\, 94526\, United States
CATEGORIES:Worship
ATTACH;FMTTYPE=image/png:https://danvillechurch.org/wp-content/uploads/2025/06/5-1.png
END:VEVENT
BEGIN:VEVENT
DTSTART;TZID=America/Los_Angeles:20270707T190000
DTEND;TZID=America/Los_Angeles:20270707T203000
DTSTAMP:20260419T131838
CREATED:20251014T175941Z
LAST-MODIFIED:20251014T175942Z
UID:10002249-1814986800-1814992200@danvillechurch.org
SUMMARY:Choir Rehearsal
DESCRIPTION:
URL:https://danvillechurch.org/event/choir-rehearsal-2-2/2027-07-07/
LOCATION:Music Room\, 989 San Ramon Valley Blvd\, Danville\, 94526\, United States
CATEGORIES:Meeting
ATTACH;FMTTYPE=image/png:https://danvillechurch.org/wp-content/uploads/2025/06/choir.png
END:VEVENT
BEGIN:VEVENT
DTSTART;TZID=America/Los_Angeles:20270708T190000
DTEND;TZID=America/Los_Angeles:20270708T210000
DTSTAMP:20260419T131838
CREATED:20250910T165146Z
LAST-MODIFIED:20260402T200101Z
UID:10005860-1815073200-1815080400@danvillechurch.org
SUMMARY:Nursery3 Meeting
DESCRIPTION:
URL:https://danvillechurch.org/event/nursery3-meeting/2027-07-08/
LOCATION:Koinonia Hall\, 989 San Ramon Valley Blvd\, Danville\, CA\, 94526\, United States
CATEGORIES:Support Group
ATTACH;FMTTYPE=image/png:https://danvillechurch.org/wp-content/uploads/2025/06/meeting-2.png
END:VEVENT
BEGIN:VEVENT
DTSTART;TZID=America/Los_Angeles:20270709T090000
DTEND;TZID=America/Los_Angeles:20270709T143000
DTSTAMP:20260419T131838
CREATED:20250910T164023Z
LAST-MODIFIED:20260402T195742Z
UID:10004741-1815123600-1815143400@danvillechurch.org
SUMMARY:Danville Dementia Daycare Meeting
DESCRIPTION:Danville Dementia DayCare
URL:https://danvillechurch.org/event/dddmeeting/2027-07-09/
LOCATION:Koinonia Hall\, 989 San Ramon Valley Blvd\, Danville\, CA\, 94526\, United States
CATEGORIES:Support Group
ATTACH;FMTTYPE=image/png:https://danvillechurch.org/wp-content/uploads/2025/06/meeting-2.png
END:VEVENT
BEGIN:VEVENT
DTSTART;TZID=America/Los_Angeles:20270709T163000
DTEND;TZID=America/Los_Angeles:20270709T183000
DTSTAMP:20260419T131838
CREATED:20250910T165343Z
LAST-MODIFIED:20260402T195856Z
UID:10006122-1815150600-1815157800@danvillechurch.org
SUMMARY:AA Happy Hour Meeting
DESCRIPTION:
URL:https://danvillechurch.org/event/aa-happy-hour-meeting/2027-07-09/
LOCATION:Koinonia Hall\, 989 San Ramon Valley Blvd\, Danville\, CA\, 94526\, United States
CATEGORIES:Support Group
ATTACH;FMTTYPE=image/png:https://danvillechurch.org/wp-content/uploads/2025/06/meeting-2.png
END:VEVENT
BEGIN:VEVENT
DTSTART;TZID=America/Los_Angeles:20270709T200000
DTEND;TZID=America/Los_Angeles:20270709T220000
DTSTAMP:20260419T131838
CREATED:20250910T165740Z
LAST-MODIFIED:20260402T195839Z
UID:10006384-1815163200-1815170400@danvillechurch.org
SUMMARY:God's Way
DESCRIPTION:
URL:https://danvillechurch.org/event/gods-way-2/2027-07-09/
LOCATION:Peace Room
CATEGORIES:Meeting
ATTACH;FMTTYPE=image/png:https://danvillechurch.org/wp-content/uploads/2025/06/meeting-2.png
END:VEVENT
BEGIN:VEVENT
DTSTART;TZID=America/Los_Angeles:20270710T060000
DTEND;TZID=America/Los_Angeles:20270710T070000
DTSTAMP:20260419T131838
CREATED:20250910T165942Z
LAST-MODIFIED:20260402T195830Z
UID:10006647-1815199200-1815202800@danvillechurch.org
SUMMARY:God's Way
DESCRIPTION:
URL:https://danvillechurch.org/event/gods-way-3/2027-07-10/
LOCATION:Koinonia Hall\, 989 San Ramon Valley Blvd\, Danville\, CA\, 94526\, United States
CATEGORIES:Meeting
ATTACH;FMTTYPE=image/png:https://danvillechurch.org/wp-content/uploads/2025/06/meeting-2.png
END:VEVENT
BEGIN:VEVENT
DTSTART;TZID=America/Los_Angeles:20270710T073000
DTEND;TZID=America/Los_Angeles:20270710T093000
DTSTAMP:20260419T131838
CREATED:20250910T170327Z
LAST-MODIFIED:20260402T195811Z
UID:10006910-1815204600-1815211800@danvillechurch.org
SUMMARY:NA Early Serenity Meeting
DESCRIPTION:
URL:https://danvillechurch.org/event/na-early-serenity-meeting/2027-07-10/
LOCATION:Koinonia Hall\, 989 San Ramon Valley Blvd\, Danville\, CA\, 94526\, United States
CATEGORIES:Support Group
ATTACH;FMTTYPE=image/png:https://danvillechurch.org/wp-content/uploads/2025/06/meeting-2.png
END:VEVENT
BEGIN:VEVENT
DTSTART;TZID=America/Los_Angeles:20270711T083000
DTEND;TZID=America/Los_Angeles:20270711T091500
DTSTAMP:20260419T131838
CREATED:20250623T173721Z
LAST-MODIFIED:20250623T174122Z
UID:10001679-1815294600-1815297300@danvillechurch.org
SUMMARY:Choir Rehearsal
DESCRIPTION:
URL:https://danvillechurch.org/event/choir-rehearsal/2027-07-11/
LOCATION:Sanctuary\, 989 San Ramon Valley Blvd\, Danville\, CA\, 94526\, United States
CATEGORIES:Meeting
ATTACH;FMTTYPE=image/png:https://danvillechurch.org/wp-content/uploads/2025/06/choir.png
END:VEVENT
BEGIN:VEVENT
DTSTART;TZID=America/Los_Angeles:20270711T093000
DTEND;TZID=America/Los_Angeles:20270711T223000
DTSTAMP:20260419T131838
CREATED:20250623T162746Z
LAST-MODIFIED:20250916T180509Z
UID:10000758-1815298200-1815345000@danvillechurch.org
SUMMARY:Worship
DESCRIPTION:
URL:https://danvillechurch.org/event/worship/2027-07-11/
LOCATION:Sanctuary\, 989 San Ramon Valley Blvd\, Danville\, CA\, 94526\, United States
CATEGORIES:Worship
ATTACH;FMTTYPE=image/png:https://danvillechurch.org/wp-content/uploads/2025/06/1-1.png
END:VEVENT
BEGIN:VEVENT
DTSTART;TZID=America/Los_Angeles:20270711T110000
DTEND;TZID=America/Los_Angeles:20270711T130000
DTSTAMP:20260419T131839
CREATED:20250918T194959Z
LAST-MODIFIED:20250918T195000Z
UID:10007511-1815303600-1815310800@danvillechurch.org
SUMMARY:Youth Group
DESCRIPTION:
URL:https://danvillechurch.org/event/youth-group-2-2/2027-07-11/
LOCATION:Agape Lounge – Youth Room
CATEGORIES:Youth Ministry
ATTACH;FMTTYPE=image/jpeg:https://danvillechurch.org/wp-content/uploads/2025/07/Picture-of-the-Week-3.23-1-scaled.jpg
END:VEVENT
BEGIN:VEVENT
DTSTART;TZID=America/Los_Angeles:20270711T111500
DTEND;TZID=America/Los_Angeles:20270711T121500
DTSTAMP:20260419T131839
CREATED:20251027T160730Z
LAST-MODIFIED:20251103T172349Z
UID:10001057-1815304500-1815308100@danvillechurch.org
SUMMARY:Buildings and Grounds Commission Meeting - Spirit Room
DESCRIPTION:
URL:https://danvillechurch.org/event/buildings-and-grounds-commission-meeting-2/2027-07-11/
LOCATION:Koinonia Hall – Spirit Room\, 989 San Ramon Valley Blvd\, Danville\, CA\, 94526\, United States
CATEGORIES:Meeting
ATTACH;FMTTYPE=image/png:https://danvillechurch.org/wp-content/uploads/2025/06/meeting-2.png
END:VEVENT
BEGIN:VEVENT
DTSTART;TZID=America/Los_Angeles:20270711T111500
DTEND;TZID=America/Los_Angeles:20270711T121500
DTSTAMP:20260419T131839
CREATED:20251027T161844Z
LAST-MODIFIED:20251027T172158Z
UID:10004107-1815304500-1815308100@danvillechurch.org
SUMMARY:Outreach Commission Meeting
DESCRIPTION:
URL:https://danvillechurch.org/event/outreach-commission-meeting-3/2027-07-11/
LOCATION:Agape Lounge – Youth Room
CATEGORIES:Meeting
ATTACH;FMTTYPE=image/png:https://danvillechurch.org/wp-content/uploads/2025/06/meeting-2.png
END:VEVENT
BEGIN:VEVENT
DTSTART;TZID=America/Los_Angeles:20270711T111500
DTEND;TZID=America/Los_Angeles:20270711T121500
DTSTAMP:20260419T131839
CREATED:20251027T163043Z
LAST-MODIFIED:20251027T163043Z
UID:10001117-1815304500-1815308100@danvillechurch.org
SUMMARY:Commission Meetings
DESCRIPTION:
URL:https://danvillechurch.org/event/commission-meetings-2/2027-07-11/
LOCATION:Koinonia Hall\, 989 San Ramon Valley Blvd\, Danville\, CA\, 94526\, United States
CATEGORIES:Meeting
ATTACH;FMTTYPE=image/png:https://danvillechurch.org/wp-content/uploads/2025/06/meeting-2.png
END:VEVENT
BEGIN:VEVENT
DTSTART;TZID=America/Los_Angeles:20270711T111500
DTEND;TZID=America/Los_Angeles:20270711T121500
DTSTAMP:20260419T131839
CREATED:20260406T181350Z
LAST-MODIFIED:20260406T181710Z
UID:10001546-1815304500-1815308100@danvillechurch.org
SUMMARY:Community Life Commission Meeting - Music Room
DESCRIPTION:
URL:https://danvillechurch.org/event/community-life-commission-meeting-2-2-2/2027-07-11/
LOCATION:Music Room\, 989 San Ramon Valley Blvd\, Danville\, 94526\, United States
CATEGORIES:Meeting
ATTACH;FMTTYPE=image/png:https://danvillechurch.org/wp-content/uploads/2025/06/meeting-2.png
END:VEVENT
BEGIN:VEVENT
DTSTART;TZID=America/Los_Angeles:20270711T130000
DTEND;TZID=America/Los_Angeles:20270711T173000
DTSTAMP:20260419T131839
CREATED:20250910T170136Z
LAST-MODIFIED:20260402T195750Z
UID:10007174-1815310800-1815327000@danvillechurch.org
SUMMARY:God's Way
DESCRIPTION:
URL:https://danvillechurch.org/event/gods-way-4/2027-07-11/
LOCATION:Koinonia Hall\, 989 San Ramon Valley Blvd\, Danville\, CA\, 94526\, United States
CATEGORIES:Meeting
ATTACH;FMTTYPE=image/png:https://danvillechurch.org/wp-content/uploads/2025/06/meeting-2.png
END:VEVENT
BEGIN:VEVENT
DTSTART;TZID=America/Los_Angeles:20270712T090000
DTEND;TZID=America/Los_Angeles:20270712T143000
DTSTAMP:20260419T131839
CREATED:20250910T164023Z
LAST-MODIFIED:20260402T195742Z
UID:10004742-1815382800-1815402600@danvillechurch.org
SUMMARY:Danville Dementia Daycare Meeting
DESCRIPTION:Danville Dementia DayCare
URL:https://danvillechurch.org/event/dddmeeting/2027-07-12/
LOCATION:Koinonia Hall\, 989 San Ramon Valley Blvd\, Danville\, CA\, 94526\, United States
CATEGORIES:Support Group
ATTACH;FMTTYPE=image/png:https://danvillechurch.org/wp-content/uploads/2025/06/meeting-2.png
END:VEVENT
BEGIN:VEVENT
DTSTART;TZID=America/Los_Angeles:20270713T113000
DTEND;TZID=America/Los_Angeles:20270713T123000
DTSTAMP:20260419T131839
CREATED:20250623T162343Z
LAST-MODIFIED:20250908T190412Z
UID:10003371-1815478200-1815481800@danvillechurch.org
SUMMARY:Men's Luncheon
DESCRIPTION:
URL:https://danvillechurch.org/event/mens-luncheon/2027-07-13/
LOCATION:Koinonia Hall\, 989 San Ramon Valley Blvd\, Danville\, CA\, 94526\, United States
CATEGORIES:Fellowship
ATTACH;FMTTYPE=image/jpeg:https://danvillechurch.org/wp-content/uploads/2025/06/Picture-of-the-Week-options-5.18-3-scaled.jpg
END:VEVENT
BEGIN:VEVENT
DTSTART;TZID=America/Los_Angeles:20270713T130000
DTEND;TZID=America/Los_Angeles:20270713T150000
DTSTAMP:20260419T131839
CREATED:20250623T162553Z
LAST-MODIFIED:20250623T165228Z
UID:10000616-1815483600-1815490800@danvillechurch.org
SUMMARY:Diaconate Meeting
DESCRIPTION:
URL:https://danvillechurch.org/event/diaconate-meeting/2027-07-13/
LOCATION:Music Room\, 989 San Ramon Valley Blvd\, Danville\, 94526\, United States
CATEGORIES:Meeting
ATTACH;FMTTYPE=image/png:https://danvillechurch.org/wp-content/uploads/2025/06/meeting-2.png
END:VEVENT
BEGIN:VEVENT
DTSTART;TZID=America/Los_Angeles:20270713T190000
DTEND;TZID=America/Los_Angeles:20270713T210000
DTSTAMP:20260419T131839
CREATED:20250910T164951Z
LAST-MODIFIED:20260402T200109Z
UID:10005598-1815505200-1815512400@danvillechurch.org
SUMMARY:AA New Beginnings Meeting
DESCRIPTION:
URL:https://danvillechurch.org/event/aa-new-beginnings-meeting/2027-07-13/
LOCATION:Koinonia Hall\, 989 San Ramon Valley Blvd\, Danville\, CA\, 94526\, United States
CATEGORIES:Support Group
ATTACH;FMTTYPE=image/png:https://danvillechurch.org/wp-content/uploads/2025/06/meeting-2.png
END:VEVENT
BEGIN:VEVENT
DTSTART;TZID=America/Los_Angeles:20270714T090000
DTEND;TZID=America/Los_Angeles:20270714T143000
DTSTAMP:20260419T131839
CREATED:20250910T164023Z
LAST-MODIFIED:20260402T195742Z
UID:10004743-1815555600-1815575400@danvillechurch.org
SUMMARY:Danville Dementia Daycare Meeting
DESCRIPTION:Danville Dementia DayCare
URL:https://danvillechurch.org/event/dddmeeting/2027-07-14/
LOCATION:Koinonia Hall\, 989 San Ramon Valley Blvd\, Danville\, CA\, 94526\, United States
CATEGORIES:Support Group
ATTACH;FMTTYPE=image/png:https://danvillechurch.org/wp-content/uploads/2025/06/meeting-2.png
END:VEVENT
END:VCALENDAR