BEGIN:VCALENDAR
VERSION:2.0
PRODID:-//Danville Congregational Church - ECPv6.15.20//NONSGML v1.0//EN
CALSCALE:GREGORIAN
METHOD:PUBLISH
X-ORIGINAL-URL:https://danvillechurch.org
X-WR-CALDESC:Events for Danville Congregational Church
REFRESH-INTERVAL;VALUE=DURATION:PT1H
X-Robots-Tag:noindex
X-PUBLISHED-TTL:PT1H
BEGIN:VTIMEZONE
TZID:America/Los_Angeles
BEGIN:DAYLIGHT
TZOFFSETFROM:-0800
TZOFFSETTO:-0700
TZNAME:PDT
DTSTART:20270314T100000
END:DAYLIGHT
BEGIN:STANDARD
TZOFFSETFROM:-0700
TZOFFSETTO:-0800
TZNAME:PST
DTSTART:20271107T090000
END:STANDARD
BEGIN:DAYLIGHT
TZOFFSETFROM:-0800
TZOFFSETTO:-0700
TZNAME:PDT
DTSTART:20280312T100000
END:DAYLIGHT
BEGIN:STANDARD
TZOFFSETFROM:-0700
TZOFFSETTO:-0800
TZNAME:PST
DTSTART:20281105T090000
END:STANDARD
BEGIN:DAYLIGHT
TZOFFSETFROM:-0800
TZOFFSETTO:-0700
TZNAME:PDT
DTSTART:20290311T100000
END:DAYLIGHT
BEGIN:STANDARD
TZOFFSETFROM:-0700
TZOFFSETTO:-0800
TZNAME:PST
DTSTART:20291104T090000
END:STANDARD
END:VTIMEZONE
BEGIN:VEVENT
DTSTART;TZID=America/Los_Angeles:20280920T090000
DTEND;TZID=America/Los_Angeles:20280920T143000
DTSTAMP:20260425T095115
CREATED:20250910T164023Z
LAST-MODIFIED:20260402T195742Z
UID:10004929-1853053200-1853073000@danvillechurch.org
SUMMARY:Danville Dementia Daycare Meeting
DESCRIPTION:Danville Dementia DayCare
URL:https://danvillechurch.org/event/dddmeeting/2028-09-20/
LOCATION:Koinonia Hall\, 989 San Ramon Valley Blvd\, Danville\, CA\, 94526\, United States
CATEGORIES:Support Group
ATTACH;FMTTYPE=image/png:https://danvillechurch.org/wp-content/uploads/2025/06/meeting-2.png
END:VEVENT
BEGIN:VEVENT
DTSTART;TZID=America/Los_Angeles:20280920T100000
DTEND;TZID=America/Los_Angeles:20280920T110000
DTSTAMP:20260425T095115
CREATED:20250623T160949Z
LAST-MODIFIED:20251210T183750Z
UID:10000439-1853056800-1853060400@danvillechurch.org
SUMMARY:Wednesday Morning Prayer
DESCRIPTION:Please contact the office for Zoom login credentials.
URL:https://danvillechurch.org/event/wednesday-morning-prayer/2028-09-20/
LOCATION:Sanctuary\, 989 San Ramon Valley Blvd\, Danville\, CA\, 94526\, United States
CATEGORIES:Worship
ATTACH;FMTTYPE=image/png:https://danvillechurch.org/wp-content/uploads/2025/06/5-1.png
END:VEVENT
BEGIN:VEVENT
DTSTART;TZID=America/Los_Angeles:20280920T100000
DTEND;TZID=America/Los_Angeles:20280920T140000
DTSTAMP:20260425T095115
CREATED:20250623T165816Z
LAST-MODIFIED:20250908T183249Z
UID:10001251-1853056800-1853071200@danvillechurch.org
SUMMARY:Prayer Shawl Ministry
DESCRIPTION:
URL:https://danvillechurch.org/event/prayer-shawl-ministry/2028-09-20/
LOCATION:Peace Room
CATEGORIES:Fellowship
ATTACH;FMTTYPE=image/jpeg:https://danvillechurch.org/wp-content/uploads/2025/06/prayer-shaw-ministry-1121-scaled.jpg
END:VEVENT
BEGIN:VEVENT
DTSTART;TZID=America/Los_Angeles:20280920T180000
DTEND;TZID=America/Los_Angeles:20280920T213000
DTSTAMP:20260425T095115
CREATED:20251215T182527Z
LAST-MODIFIED:20260402T195408Z
UID:10007739-1853085600-1853098200@danvillechurch.org
SUMMARY:Diablo Valley Quilters - Sanctuary and Koinonia
DESCRIPTION:
URL:https://danvillechurch.org/event/diablo-valley-quilters-2/2028-09-20/
LOCATION:Koinonia Hall\, 989 San Ramon Valley Blvd\, Danville\, CA\, 94526\, United States
CATEGORIES:Private Event
ATTACH;FMTTYPE=image/png:https://danvillechurch.org/wp-content/uploads/2025/06/meeting-2.png
END:VEVENT
BEGIN:VEVENT
DTSTART;TZID=America/Los_Angeles:20280920T190000
DTEND;TZID=America/Los_Angeles:20280920T203000
DTSTAMP:20260425T095115
CREATED:20251014T175941Z
LAST-MODIFIED:20251014T175942Z
UID:10002312-1853089200-1853094600@danvillechurch.org
SUMMARY:Choir Rehearsal
DESCRIPTION:
URL:https://danvillechurch.org/event/choir-rehearsal-2-2/2028-09-20/
LOCATION:Music Room\, 989 San Ramon Valley Blvd\, Danville\, 94526\, United States
CATEGORIES:Meeting
ATTACH;FMTTYPE=image/png:https://danvillechurch.org/wp-content/uploads/2025/06/choir.png
END:VEVENT
BEGIN:VEVENT
DTSTART;TZID=America/Los_Angeles:20280921T140000
DTEND;TZID=America/Los_Angeles:20280921T153000
DTSTAMP:20260425T095115
CREATED:20250623T170542Z
LAST-MODIFIED:20250908T184238Z
UID:10001371-1853157600-1853163000@danvillechurch.org
SUMMARY:Spirited Sisters
DESCRIPTION:
URL:https://danvillechurch.org/event/spirited-sisters/2028-09-21/
LOCATION:Koinonia Hall\, 989 San Ramon Valley Blvd\, Danville\, CA\, 94526\, United States
CATEGORIES:Fellowship
ATTACH;FMTTYPE=image/jpeg:https://danvillechurch.org/wp-content/uploads/2025/06/Spirited-Sisters-Group.jpg
ORGANIZER;CN="Donna Lenhardt":MAILTO:fishktcher@aol.com
END:VEVENT
BEGIN:VEVENT
DTSTART;TZID=America/Los_Angeles:20280921T190000
DTEND;TZID=America/Los_Angeles:20280921T210000
DTSTAMP:20260425T095115
CREATED:20250910T165146Z
LAST-MODIFIED:20260402T200101Z
UID:10005923-1853175600-1853182800@danvillechurch.org
SUMMARY:Nursery3 Meeting
DESCRIPTION:
URL:https://danvillechurch.org/event/nursery3-meeting/2028-09-21/
LOCATION:Koinonia Hall\, 989 San Ramon Valley Blvd\, Danville\, CA\, 94526\, United States
CATEGORIES:Support Group
ATTACH;FMTTYPE=image/png:https://danvillechurch.org/wp-content/uploads/2025/06/meeting-2.png
END:VEVENT
BEGIN:VEVENT
DTSTART;TZID=America/Los_Angeles:20280922T090000
DTEND;TZID=America/Los_Angeles:20280922T143000
DTSTAMP:20260425T095115
CREATED:20250910T164023Z
LAST-MODIFIED:20260402T195742Z
UID:10004930-1853226000-1853245800@danvillechurch.org
SUMMARY:Danville Dementia Daycare Meeting
DESCRIPTION:Danville Dementia DayCare
URL:https://danvillechurch.org/event/dddmeeting/2028-09-22/
LOCATION:Koinonia Hall\, 989 San Ramon Valley Blvd\, Danville\, CA\, 94526\, United States
CATEGORIES:Support Group
ATTACH;FMTTYPE=image/png:https://danvillechurch.org/wp-content/uploads/2025/06/meeting-2.png
END:VEVENT
BEGIN:VEVENT
DTSTART;TZID=America/Los_Angeles:20280922T163000
DTEND;TZID=America/Los_Angeles:20280922T183000
DTSTAMP:20260425T095115
CREATED:20250910T165343Z
LAST-MODIFIED:20260402T195856Z
UID:10006185-1853253000-1853260200@danvillechurch.org
SUMMARY:AA Happy Hour Meeting
DESCRIPTION:
URL:https://danvillechurch.org/event/aa-happy-hour-meeting/2028-09-22/
LOCATION:Koinonia Hall\, 989 San Ramon Valley Blvd\, Danville\, CA\, 94526\, United States
CATEGORIES:Support Group
ATTACH;FMTTYPE=image/png:https://danvillechurch.org/wp-content/uploads/2025/06/meeting-2.png
END:VEVENT
BEGIN:VEVENT
DTSTART;TZID=America/Los_Angeles:20280922T200000
DTEND;TZID=America/Los_Angeles:20280922T220000
DTSTAMP:20260425T095115
CREATED:20250910T165740Z
LAST-MODIFIED:20260402T195839Z
UID:10006447-1853265600-1853272800@danvillechurch.org
SUMMARY:God's Way
DESCRIPTION:
URL:https://danvillechurch.org/event/gods-way-2/2028-09-22/
LOCATION:Peace Room
CATEGORIES:Meeting
ATTACH;FMTTYPE=image/png:https://danvillechurch.org/wp-content/uploads/2025/06/meeting-2.png
END:VEVENT
BEGIN:VEVENT
DTSTART;TZID=America/Los_Angeles:20280923T060000
DTEND;TZID=America/Los_Angeles:20280923T070000
DTSTAMP:20260425T095115
CREATED:20250910T165942Z
LAST-MODIFIED:20260402T195830Z
UID:10006710-1853301600-1853305200@danvillechurch.org
SUMMARY:God's Way
DESCRIPTION:
URL:https://danvillechurch.org/event/gods-way-3/2028-09-23/
LOCATION:Koinonia Hall\, 989 San Ramon Valley Blvd\, Danville\, CA\, 94526\, United States
CATEGORIES:Meeting
ATTACH;FMTTYPE=image/png:https://danvillechurch.org/wp-content/uploads/2025/06/meeting-2.png
END:VEVENT
BEGIN:VEVENT
DTSTART;TZID=America/Los_Angeles:20280923T073000
DTEND;TZID=America/Los_Angeles:20280923T093000
DTSTAMP:20260425T095115
CREATED:20250910T170327Z
LAST-MODIFIED:20260402T195811Z
UID:10006973-1853307000-1853314200@danvillechurch.org
SUMMARY:NA Early Serenity Meeting
DESCRIPTION:
URL:https://danvillechurch.org/event/na-early-serenity-meeting/2028-09-23/
LOCATION:Koinonia Hall\, 989 San Ramon Valley Blvd\, Danville\, CA\, 94526\, United States
CATEGORIES:Support Group
ATTACH;FMTTYPE=image/png:https://danvillechurch.org/wp-content/uploads/2025/06/meeting-2.png
END:VEVENT
BEGIN:VEVENT
DTSTART;TZID=America/Los_Angeles:20280924T083000
DTEND;TZID=America/Los_Angeles:20280924T091500
DTSTAMP:20260425T095115
CREATED:20250623T173721Z
LAST-MODIFIED:20250623T174122Z
UID:10001742-1853397000-1853399700@danvillechurch.org
SUMMARY:Choir Rehearsal
DESCRIPTION:
URL:https://danvillechurch.org/event/choir-rehearsal/2028-09-24/
LOCATION:Sanctuary\, 989 San Ramon Valley Blvd\, Danville\, CA\, 94526\, United States
CATEGORIES:Meeting
ATTACH;FMTTYPE=image/png:https://danvillechurch.org/wp-content/uploads/2025/06/choir.png
END:VEVENT
BEGIN:VEVENT
DTSTART;TZID=America/Los_Angeles:20280924T093000
DTEND;TZID=America/Los_Angeles:20280924T223000
DTSTAMP:20260425T095115
CREATED:20250623T162746Z
LAST-MODIFIED:20250916T180509Z
UID:10000821-1853400600-1853447400@danvillechurch.org
SUMMARY:Worship
DESCRIPTION:
URL:https://danvillechurch.org/event/worship/2028-09-24/
LOCATION:Sanctuary\, 989 San Ramon Valley Blvd\, Danville\, CA\, 94526\, United States
CATEGORIES:Worship
ATTACH;FMTTYPE=image/png:https://danvillechurch.org/wp-content/uploads/2025/06/1-1.png
END:VEVENT
BEGIN:VEVENT
DTSTART;TZID=America/Los_Angeles:20280924T110000
DTEND;TZID=America/Los_Angeles:20280924T130000
DTSTAMP:20260425T095115
CREATED:20250918T194959Z
LAST-MODIFIED:20250918T195000Z
UID:10007574-1853406000-1853413200@danvillechurch.org
SUMMARY:Youth Group
DESCRIPTION:
URL:https://danvillechurch.org/event/youth-group-2-2/2028-09-24/
LOCATION:Agape Lounge – Youth Room
CATEGORIES:Youth Ministry
ATTACH;FMTTYPE=image/jpeg:https://danvillechurch.org/wp-content/uploads/2025/07/Picture-of-the-Week-3.23-1-scaled.jpg
END:VEVENT
BEGIN:VEVENT
DTSTART;TZID=America/Los_Angeles:20280924T130000
DTEND;TZID=America/Los_Angeles:20280924T173000
DTSTAMP:20260425T095115
CREATED:20250910T170136Z
LAST-MODIFIED:20260402T195750Z
UID:10007237-1853413200-1853429400@danvillechurch.org
SUMMARY:God's Way
DESCRIPTION:
URL:https://danvillechurch.org/event/gods-way-4/2028-09-24/
LOCATION:Koinonia Hall\, 989 San Ramon Valley Blvd\, Danville\, CA\, 94526\, United States
CATEGORIES:Meeting
ATTACH;FMTTYPE=image/png:https://danvillechurch.org/wp-content/uploads/2025/06/meeting-2.png
END:VEVENT
BEGIN:VEVENT
DTSTART;TZID=America/Los_Angeles:20280925T090000
DTEND;TZID=America/Los_Angeles:20280925T143000
DTSTAMP:20260425T095115
CREATED:20250910T164023Z
LAST-MODIFIED:20260402T195742Z
UID:10004931-1853485200-1853505000@danvillechurch.org
SUMMARY:Danville Dementia Daycare Meeting
DESCRIPTION:Danville Dementia DayCare
URL:https://danvillechurch.org/event/dddmeeting/2028-09-25/
LOCATION:Koinonia Hall\, 989 San Ramon Valley Blvd\, Danville\, CA\, 94526\, United States
CATEGORIES:Support Group
ATTACH;FMTTYPE=image/png:https://danvillechurch.org/wp-content/uploads/2025/06/meeting-2.png
END:VEVENT
BEGIN:VEVENT
DTSTART;TZID=America/Los_Angeles:20280926T090000
DTEND;TZID=America/Los_Angeles:20280926T100000
DTSTAMP:20260425T095115
CREATED:20250623T160337Z
LAST-MODIFIED:20250908T190516Z
UID:10000088-1853571600-1853575200@danvillechurch.org
SUMMARY:Men's Coffee & Donuts
DESCRIPTION:
URL:https://danvillechurch.org/event/mens-coffee-donuts/2028-09-26/
LOCATION:Koinonia Hall\, 989 San Ramon Valley Blvd\, Danville\, CA\, 94526\, United States
CATEGORIES:Fellowship
ATTACH;FMTTYPE=image/jpeg:https://danvillechurch.org/wp-content/uploads/2025/06/Picture-of-the-Week-4.13.jpg
END:VEVENT
BEGIN:VEVENT
DTSTART;TZID=America/Los_Angeles:20280926T190000
DTEND;TZID=America/Los_Angeles:20280926T210000
DTSTAMP:20260425T095115
CREATED:20250910T164951Z
LAST-MODIFIED:20260402T200109Z
UID:10005661-1853607600-1853614800@danvillechurch.org
SUMMARY:AA New Beginnings Meeting
DESCRIPTION:
URL:https://danvillechurch.org/event/aa-new-beginnings-meeting/2028-09-26/
LOCATION:Koinonia Hall\, 989 San Ramon Valley Blvd\, Danville\, CA\, 94526\, United States
CATEGORIES:Support Group
ATTACH;FMTTYPE=image/png:https://danvillechurch.org/wp-content/uploads/2025/06/meeting-2.png
END:VEVENT
BEGIN:VEVENT
DTSTART;TZID=America/Los_Angeles:20280927T090000
DTEND;TZID=America/Los_Angeles:20280927T143000
DTSTAMP:20260425T095115
CREATED:20250910T164023Z
LAST-MODIFIED:20260402T195742Z
UID:10004932-1853658000-1853677800@danvillechurch.org
SUMMARY:Danville Dementia Daycare Meeting
DESCRIPTION:Danville Dementia DayCare
URL:https://danvillechurch.org/event/dddmeeting/2028-09-27/
LOCATION:Koinonia Hall\, 989 San Ramon Valley Blvd\, Danville\, CA\, 94526\, United States
CATEGORIES:Support Group
ATTACH;FMTTYPE=image/png:https://danvillechurch.org/wp-content/uploads/2025/06/meeting-2.png
END:VEVENT
BEGIN:VEVENT
DTSTART;TZID=America/Los_Angeles:20280927T100000
DTEND;TZID=America/Los_Angeles:20280927T110000
DTSTAMP:20260425T095115
CREATED:20250623T160949Z
LAST-MODIFIED:20251210T183750Z
UID:10000440-1853661600-1853665200@danvillechurch.org
SUMMARY:Wednesday Morning Prayer
DESCRIPTION:Please contact the office for Zoom login credentials.
URL:https://danvillechurch.org/event/wednesday-morning-prayer/2028-09-27/
LOCATION:Sanctuary\, 989 San Ramon Valley Blvd\, Danville\, CA\, 94526\, United States
CATEGORIES:Worship
ATTACH;FMTTYPE=image/png:https://danvillechurch.org/wp-content/uploads/2025/06/5-1.png
END:VEVENT
BEGIN:VEVENT
DTSTART;TZID=America/Los_Angeles:20280927T190000
DTEND;TZID=America/Los_Angeles:20280927T203000
DTSTAMP:20260425T095115
CREATED:20251014T175941Z
LAST-MODIFIED:20251014T175942Z
UID:10002313-1853694000-1853699400@danvillechurch.org
SUMMARY:Choir Rehearsal
DESCRIPTION:
URL:https://danvillechurch.org/event/choir-rehearsal-2-2/2028-09-27/
LOCATION:Music Room\, 989 San Ramon Valley Blvd\, Danville\, 94526\, United States
CATEGORIES:Meeting
ATTACH;FMTTYPE=image/png:https://danvillechurch.org/wp-content/uploads/2025/06/choir.png
END:VEVENT
BEGIN:VEVENT
DTSTART;TZID=America/Los_Angeles:20280928T190000
DTEND;TZID=America/Los_Angeles:20280928T210000
DTSTAMP:20260425T095115
CREATED:20250910T165146Z
LAST-MODIFIED:20260402T200101Z
UID:10005924-1853780400-1853787600@danvillechurch.org
SUMMARY:Nursery3 Meeting
DESCRIPTION:
URL:https://danvillechurch.org/event/nursery3-meeting/2028-09-28/
LOCATION:Koinonia Hall\, 989 San Ramon Valley Blvd\, Danville\, CA\, 94526\, United States
CATEGORIES:Support Group
ATTACH;FMTTYPE=image/png:https://danvillechurch.org/wp-content/uploads/2025/06/meeting-2.png
END:VEVENT
BEGIN:VEVENT
DTSTART;TZID=America/Los_Angeles:20280929T090000
DTEND;TZID=America/Los_Angeles:20280929T143000
DTSTAMP:20260425T095115
CREATED:20250910T164023Z
LAST-MODIFIED:20260402T195742Z
UID:10004933-1853830800-1853850600@danvillechurch.org
SUMMARY:Danville Dementia Daycare Meeting
DESCRIPTION:Danville Dementia DayCare
URL:https://danvillechurch.org/event/dddmeeting/2028-09-29/
LOCATION:Koinonia Hall\, 989 San Ramon Valley Blvd\, Danville\, CA\, 94526\, United States
CATEGORIES:Support Group
ATTACH;FMTTYPE=image/png:https://danvillechurch.org/wp-content/uploads/2025/06/meeting-2.png
END:VEVENT
BEGIN:VEVENT
DTSTART;TZID=America/Los_Angeles:20280929T163000
DTEND;TZID=America/Los_Angeles:20280929T183000
DTSTAMP:20260425T095115
CREATED:20250910T165343Z
LAST-MODIFIED:20260402T195856Z
UID:10006186-1853857800-1853865000@danvillechurch.org
SUMMARY:AA Happy Hour Meeting
DESCRIPTION:
URL:https://danvillechurch.org/event/aa-happy-hour-meeting/2028-09-29/
LOCATION:Koinonia Hall\, 989 San Ramon Valley Blvd\, Danville\, CA\, 94526\, United States
CATEGORIES:Support Group
ATTACH;FMTTYPE=image/png:https://danvillechurch.org/wp-content/uploads/2025/06/meeting-2.png
END:VEVENT
BEGIN:VEVENT
DTSTART;TZID=America/Los_Angeles:20280929T200000
DTEND;TZID=America/Los_Angeles:20280929T220000
DTSTAMP:20260425T095115
CREATED:20250910T165740Z
LAST-MODIFIED:20260402T195839Z
UID:10006448-1853870400-1853877600@danvillechurch.org
SUMMARY:God's Way
DESCRIPTION:
URL:https://danvillechurch.org/event/gods-way-2/2028-09-29/
LOCATION:Peace Room
CATEGORIES:Meeting
ATTACH;FMTTYPE=image/png:https://danvillechurch.org/wp-content/uploads/2025/06/meeting-2.png
END:VEVENT
BEGIN:VEVENT
DTSTART;TZID=America/Los_Angeles:20280930T060000
DTEND;TZID=America/Los_Angeles:20280930T070000
DTSTAMP:20260425T095115
CREATED:20250910T165942Z
LAST-MODIFIED:20260402T195830Z
UID:10006711-1853906400-1853910000@danvillechurch.org
SUMMARY:God's Way
DESCRIPTION:
URL:https://danvillechurch.org/event/gods-way-3/2028-09-30/
LOCATION:Koinonia Hall\, 989 San Ramon Valley Blvd\, Danville\, CA\, 94526\, United States
CATEGORIES:Meeting
ATTACH;FMTTYPE=image/png:https://danvillechurch.org/wp-content/uploads/2025/06/meeting-2.png
END:VEVENT
BEGIN:VEVENT
DTSTART;TZID=America/Los_Angeles:20280930T073000
DTEND;TZID=America/Los_Angeles:20280930T093000
DTSTAMP:20260425T095115
CREATED:20250910T170327Z
LAST-MODIFIED:20260402T195811Z
UID:10006974-1853911800-1853919000@danvillechurch.org
SUMMARY:NA Early Serenity Meeting
DESCRIPTION:
URL:https://danvillechurch.org/event/na-early-serenity-meeting/2028-09-30/
LOCATION:Koinonia Hall\, 989 San Ramon Valley Blvd\, Danville\, CA\, 94526\, United States
CATEGORIES:Support Group
ATTACH;FMTTYPE=image/png:https://danvillechurch.org/wp-content/uploads/2025/06/meeting-2.png
END:VEVENT
BEGIN:VEVENT
DTSTART;VALUE=DATE:20281001
DTEND;VALUE=DATE:20281002
DTSTAMP:20260425T095115
CREATED:20250623T163757Z
LAST-MODIFIED:20250623T163757Z
UID:10000952-1853971200-1854057599@danvillechurch.org
SUMMARY:Communion Sunday
DESCRIPTION:
URL:https://danvillechurch.org/event/communion-sunday/2028-10-01/
LOCATION:Sanctuary\, 989 San Ramon Valley Blvd\, Danville\, CA\, 94526\, United States
CATEGORIES:Worship
ATTACH;FMTTYPE=image/png:https://danvillechurch.org/wp-content/uploads/2025/06/communion.png
END:VEVENT
BEGIN:VEVENT
DTSTART;TZID=America/Los_Angeles:20281001T083000
DTEND;TZID=America/Los_Angeles:20281001T091500
DTSTAMP:20260425T095115
CREATED:20250623T173721Z
LAST-MODIFIED:20250623T174122Z
UID:10001743-1854001800-1854004500@danvillechurch.org
SUMMARY:Choir Rehearsal
DESCRIPTION:
URL:https://danvillechurch.org/event/choir-rehearsal/2028-10-01/
LOCATION:Sanctuary\, 989 San Ramon Valley Blvd\, Danville\, CA\, 94526\, United States
CATEGORIES:Meeting
ATTACH;FMTTYPE=image/png:https://danvillechurch.org/wp-content/uploads/2025/06/choir.png
END:VEVENT
END:VCALENDAR