BEGIN:VCALENDAR
VERSION:2.0
PRODID:-//Danville Congregational Church - ECPv6.15.20//NONSGML v1.0//EN
CALSCALE:GREGORIAN
METHOD:PUBLISH
X-ORIGINAL-URL:https://danvillechurch.org
X-WR-CALDESC:Events for Danville Congregational Church
REFRESH-INTERVAL;VALUE=DURATION:PT1H
X-Robots-Tag:noindex
X-PUBLISHED-TTL:PT1H
BEGIN:VTIMEZONE
TZID:America/Los_Angeles
BEGIN:DAYLIGHT
TZOFFSETFROM:-0800
TZOFFSETTO:-0700
TZNAME:PDT
DTSTART:20270314T100000
END:DAYLIGHT
BEGIN:STANDARD
TZOFFSETFROM:-0700
TZOFFSETTO:-0800
TZNAME:PST
DTSTART:20271107T090000
END:STANDARD
BEGIN:DAYLIGHT
TZOFFSETFROM:-0800
TZOFFSETTO:-0700
TZNAME:PDT
DTSTART:20280312T100000
END:DAYLIGHT
BEGIN:STANDARD
TZOFFSETFROM:-0700
TZOFFSETTO:-0800
TZNAME:PST
DTSTART:20281105T090000
END:STANDARD
BEGIN:DAYLIGHT
TZOFFSETFROM:-0800
TZOFFSETTO:-0700
TZNAME:PDT
DTSTART:20290311T100000
END:DAYLIGHT
BEGIN:STANDARD
TZOFFSETFROM:-0700
TZOFFSETTO:-0800
TZNAME:PST
DTSTART:20291104T090000
END:STANDARD
END:VTIMEZONE
BEGIN:VEVENT
DTSTART;TZID=America/Los_Angeles:20280509T113000
DTEND;TZID=America/Los_Angeles:20280509T123000
DTSTAMP:20260425T095224
CREATED:20250623T162343Z
LAST-MODIFIED:20250908T190412Z
UID:10003381-1841484600-1841488200@danvillechurch.org
SUMMARY:Men's Luncheon
DESCRIPTION:
URL:https://danvillechurch.org/event/mens-luncheon/2028-05-09/
LOCATION:Koinonia Hall\, 989 San Ramon Valley Blvd\, Danville\, CA\, 94526\, United States
CATEGORIES:Fellowship
ATTACH;FMTTYPE=image/jpeg:https://danvillechurch.org/wp-content/uploads/2025/06/Picture-of-the-Week-options-5.18-3-scaled.jpg
END:VEVENT
BEGIN:VEVENT
DTSTART;TZID=America/Los_Angeles:20280509T130000
DTEND;TZID=America/Los_Angeles:20280509T150000
DTSTAMP:20260425T095224
CREATED:20250623T162553Z
LAST-MODIFIED:20250623T165228Z
UID:10000626-1841490000-1841497200@danvillechurch.org
SUMMARY:Diaconate Meeting
DESCRIPTION:
URL:https://danvillechurch.org/event/diaconate-meeting/2028-05-09/
LOCATION:Music Room\, 989 San Ramon Valley Blvd\, Danville\, 94526\, United States
CATEGORIES:Meeting
ATTACH;FMTTYPE=image/png:https://danvillechurch.org/wp-content/uploads/2025/06/meeting-2.png
END:VEVENT
BEGIN:VEVENT
DTSTART;TZID=America/Los_Angeles:20280509T190000
DTEND;TZID=America/Los_Angeles:20280509T210000
DTSTAMP:20260425T095224
CREATED:20250910T164951Z
LAST-MODIFIED:20260402T200109Z
UID:10005641-1841511600-1841518800@danvillechurch.org
SUMMARY:AA New Beginnings Meeting
DESCRIPTION:
URL:https://danvillechurch.org/event/aa-new-beginnings-meeting/2028-05-09/
LOCATION:Koinonia Hall\, 989 San Ramon Valley Blvd\, Danville\, CA\, 94526\, United States
CATEGORIES:Support Group
ATTACH;FMTTYPE=image/png:https://danvillechurch.org/wp-content/uploads/2025/06/meeting-2.png
END:VEVENT
BEGIN:VEVENT
DTSTART;TZID=America/Los_Angeles:20280510T090000
DTEND;TZID=America/Los_Angeles:20280510T143000
DTSTAMP:20260425T095225
CREATED:20250910T164023Z
LAST-MODIFIED:20260402T195742Z
UID:10004872-1841562000-1841581800@danvillechurch.org
SUMMARY:Danville Dementia Daycare Meeting
DESCRIPTION:Danville Dementia DayCare
URL:https://danvillechurch.org/event/dddmeeting/2028-05-10/
LOCATION:Koinonia Hall\, 989 San Ramon Valley Blvd\, Danville\, CA\, 94526\, United States
CATEGORIES:Support Group
ATTACH;FMTTYPE=image/png:https://danvillechurch.org/wp-content/uploads/2025/06/meeting-2.png
END:VEVENT
BEGIN:VEVENT
DTSTART;TZID=America/Los_Angeles:20280510T100000
DTEND;TZID=America/Los_Angeles:20280510T110000
DTSTAMP:20260425T095225
CREATED:20250623T160949Z
LAST-MODIFIED:20251210T183750Z
UID:10000420-1841565600-1841569200@danvillechurch.org
SUMMARY:Wednesday Morning Prayer
DESCRIPTION:Please contact the office for Zoom login credentials.
URL:https://danvillechurch.org/event/wednesday-morning-prayer/2028-05-10/
LOCATION:Sanctuary\, 989 San Ramon Valley Blvd\, Danville\, CA\, 94526\, United States
CATEGORIES:Worship
ATTACH;FMTTYPE=image/png:https://danvillechurch.org/wp-content/uploads/2025/06/5-1.png
END:VEVENT
BEGIN:VEVENT
DTSTART;TZID=America/Los_Angeles:20280510T143000
DTEND;TZID=America/Los_Angeles:20280510T153000
DTSTAMP:20260425T095225
CREATED:20250915T175734Z
LAST-MODIFIED:20250915T175734Z
UID:10007374-1841581800-1841585400@danvillechurch.org
SUMMARY:CARE Support Group
DESCRIPTION:
URL:https://danvillechurch.org/event/care-support-group-3/2028-05-10/
LOCATION:Music Room\, 989 San Ramon Valley Blvd\, Danville\, 94526\, United States
CATEGORIES:Support Group
ATTACH;FMTTYPE=image/png:https://danvillechurch.org/wp-content/uploads/2025/06/support.png
END:VEVENT
BEGIN:VEVENT
DTSTART;TZID=America/Los_Angeles:20280510T190000
DTEND;TZID=America/Los_Angeles:20280510T203000
DTSTAMP:20260425T095225
CREATED:20251014T175941Z
LAST-MODIFIED:20251014T175942Z
UID:10002293-1841598000-1841603400@danvillechurch.org
SUMMARY:Choir Rehearsal
DESCRIPTION:
URL:https://danvillechurch.org/event/choir-rehearsal-2-2/2028-05-10/
LOCATION:Music Room\, 989 San Ramon Valley Blvd\, Danville\, 94526\, United States
CATEGORIES:Meeting
ATTACH;FMTTYPE=image/png:https://danvillechurch.org/wp-content/uploads/2025/06/choir.png
END:VEVENT
BEGIN:VEVENT
DTSTART;TZID=America/Los_Angeles:20280511T190000
DTEND;TZID=America/Los_Angeles:20280511T210000
DTSTAMP:20260425T095225
CREATED:20250910T165146Z
LAST-MODIFIED:20260402T200101Z
UID:10005904-1841684400-1841691600@danvillechurch.org
SUMMARY:Nursery3 Meeting
DESCRIPTION:
URL:https://danvillechurch.org/event/nursery3-meeting/2028-05-11/
LOCATION:Koinonia Hall\, 989 San Ramon Valley Blvd\, Danville\, CA\, 94526\, United States
CATEGORIES:Support Group
ATTACH;FMTTYPE=image/png:https://danvillechurch.org/wp-content/uploads/2025/06/meeting-2.png
END:VEVENT
BEGIN:VEVENT
DTSTART;TZID=America/Los_Angeles:20280512T090000
DTEND;TZID=America/Los_Angeles:20280512T143000
DTSTAMP:20260425T095225
CREATED:20250910T164023Z
LAST-MODIFIED:20260402T195742Z
UID:10004873-1841734800-1841754600@danvillechurch.org
SUMMARY:Danville Dementia Daycare Meeting
DESCRIPTION:Danville Dementia DayCare
URL:https://danvillechurch.org/event/dddmeeting/2028-05-12/
LOCATION:Koinonia Hall\, 989 San Ramon Valley Blvd\, Danville\, CA\, 94526\, United States
CATEGORIES:Support Group
ATTACH;FMTTYPE=image/png:https://danvillechurch.org/wp-content/uploads/2025/06/meeting-2.png
END:VEVENT
BEGIN:VEVENT
DTSTART;TZID=America/Los_Angeles:20280512T163000
DTEND;TZID=America/Los_Angeles:20280512T183000
DTSTAMP:20260425T095225
CREATED:20250910T165343Z
LAST-MODIFIED:20260402T195856Z
UID:10006166-1841761800-1841769000@danvillechurch.org
SUMMARY:AA Happy Hour Meeting
DESCRIPTION:
URL:https://danvillechurch.org/event/aa-happy-hour-meeting/2028-05-12/
LOCATION:Koinonia Hall\, 989 San Ramon Valley Blvd\, Danville\, CA\, 94526\, United States
CATEGORIES:Support Group
ATTACH;FMTTYPE=image/png:https://danvillechurch.org/wp-content/uploads/2025/06/meeting-2.png
END:VEVENT
BEGIN:VEVENT
DTSTART;TZID=America/Los_Angeles:20280512T200000
DTEND;TZID=America/Los_Angeles:20280512T220000
DTSTAMP:20260425T095225
CREATED:20250910T165740Z
LAST-MODIFIED:20260402T195839Z
UID:10006428-1841774400-1841781600@danvillechurch.org
SUMMARY:God's Way
DESCRIPTION:
URL:https://danvillechurch.org/event/gods-way-2/2028-05-12/
LOCATION:Peace Room
CATEGORIES:Meeting
ATTACH;FMTTYPE=image/png:https://danvillechurch.org/wp-content/uploads/2025/06/meeting-2.png
END:VEVENT
BEGIN:VEVENT
DTSTART;TZID=America/Los_Angeles:20280513T060000
DTEND;TZID=America/Los_Angeles:20280513T070000
DTSTAMP:20260425T095225
CREATED:20250910T165942Z
LAST-MODIFIED:20260402T195830Z
UID:10006691-1841810400-1841814000@danvillechurch.org
SUMMARY:God's Way
DESCRIPTION:
URL:https://danvillechurch.org/event/gods-way-3/2028-05-13/
LOCATION:Koinonia Hall\, 989 San Ramon Valley Blvd\, Danville\, CA\, 94526\, United States
CATEGORIES:Meeting
ATTACH;FMTTYPE=image/png:https://danvillechurch.org/wp-content/uploads/2025/06/meeting-2.png
END:VEVENT
BEGIN:VEVENT
DTSTART;TZID=America/Los_Angeles:20280513T073000
DTEND;TZID=America/Los_Angeles:20280513T093000
DTSTAMP:20260425T095225
CREATED:20250910T170327Z
LAST-MODIFIED:20260402T195811Z
UID:10006954-1841815800-1841823000@danvillechurch.org
SUMMARY:NA Early Serenity Meeting
DESCRIPTION:
URL:https://danvillechurch.org/event/na-early-serenity-meeting/2028-05-13/
LOCATION:Koinonia Hall\, 989 San Ramon Valley Blvd\, Danville\, CA\, 94526\, United States
CATEGORIES:Support Group
ATTACH;FMTTYPE=image/png:https://danvillechurch.org/wp-content/uploads/2025/06/meeting-2.png
END:VEVENT
BEGIN:VEVENT
DTSTART;TZID=America/Los_Angeles:20280514T083000
DTEND;TZID=America/Los_Angeles:20280514T091500
DTSTAMP:20260425T095225
CREATED:20250623T173721Z
LAST-MODIFIED:20250623T174122Z
UID:10001723-1841905800-1841908500@danvillechurch.org
SUMMARY:Choir Rehearsal
DESCRIPTION:
URL:https://danvillechurch.org/event/choir-rehearsal/2028-05-14/
LOCATION:Sanctuary\, 989 San Ramon Valley Blvd\, Danville\, CA\, 94526\, United States
CATEGORIES:Meeting
ATTACH;FMTTYPE=image/png:https://danvillechurch.org/wp-content/uploads/2025/06/choir.png
END:VEVENT
BEGIN:VEVENT
DTSTART;TZID=America/Los_Angeles:20280514T093000
DTEND;TZID=America/Los_Angeles:20280514T223000
DTSTAMP:20260425T095225
CREATED:20250623T162746Z
LAST-MODIFIED:20250916T180509Z
UID:10000802-1841909400-1841956200@danvillechurch.org
SUMMARY:Worship
DESCRIPTION:
URL:https://danvillechurch.org/event/worship/2028-05-14/
LOCATION:Sanctuary\, 989 San Ramon Valley Blvd\, Danville\, CA\, 94526\, United States
CATEGORIES:Worship
ATTACH;FMTTYPE=image/png:https://danvillechurch.org/wp-content/uploads/2025/06/1-1.png
END:VEVENT
BEGIN:VEVENT
DTSTART;TZID=America/Los_Angeles:20280514T110000
DTEND;TZID=America/Los_Angeles:20280514T130000
DTSTAMP:20260425T095225
CREATED:20250918T194959Z
LAST-MODIFIED:20250918T195000Z
UID:10007555-1841914800-1841922000@danvillechurch.org
SUMMARY:Youth Group
DESCRIPTION:
URL:https://danvillechurch.org/event/youth-group-2-2/2028-05-14/
LOCATION:Agape Lounge – Youth Room
CATEGORIES:Youth Ministry
ATTACH;FMTTYPE=image/jpeg:https://danvillechurch.org/wp-content/uploads/2025/07/Picture-of-the-Week-3.23-1-scaled.jpg
END:VEVENT
BEGIN:VEVENT
DTSTART;TZID=America/Los_Angeles:20280514T111500
DTEND;TZID=America/Los_Angeles:20280514T121500
DTSTAMP:20260425T095225
CREATED:20251027T160730Z
LAST-MODIFIED:20251103T172349Z
UID:10001067-1841915700-1841919300@danvillechurch.org
SUMMARY:Buildings and Grounds Commission Meeting - Spirit Room
DESCRIPTION:
URL:https://danvillechurch.org/event/buildings-and-grounds-commission-meeting-2/2028-05-14/
LOCATION:Koinonia Hall – Spirit Room\, 989 San Ramon Valley Blvd\, Danville\, CA\, 94526\, United States
CATEGORIES:Meeting
ATTACH;FMTTYPE=image/png:https://danvillechurch.org/wp-content/uploads/2025/06/meeting-2.png
END:VEVENT
BEGIN:VEVENT
DTSTART;TZID=America/Los_Angeles:20280514T111500
DTEND;TZID=America/Los_Angeles:20280514T121500
DTSTAMP:20260425T095225
CREATED:20251027T161844Z
LAST-MODIFIED:20251027T172158Z
UID:10004117-1841915700-1841919300@danvillechurch.org
SUMMARY:Outreach Commission Meeting
DESCRIPTION:
URL:https://danvillechurch.org/event/outreach-commission-meeting-3/2028-05-14/
LOCATION:Agape Lounge – Youth Room
CATEGORIES:Meeting
ATTACH;FMTTYPE=image/png:https://danvillechurch.org/wp-content/uploads/2025/06/meeting-2.png
END:VEVENT
BEGIN:VEVENT
DTSTART;TZID=America/Los_Angeles:20280514T111500
DTEND;TZID=America/Los_Angeles:20280514T121500
DTSTAMP:20260425T095225
CREATED:20251027T163043Z
LAST-MODIFIED:20251027T163043Z
UID:10001127-1841915700-1841919300@danvillechurch.org
SUMMARY:Commission Meetings
DESCRIPTION:
URL:https://danvillechurch.org/event/commission-meetings-2/2028-05-14/
LOCATION:Koinonia Hall\, 989 San Ramon Valley Blvd\, Danville\, CA\, 94526\, United States
CATEGORIES:Meeting
ATTACH;FMTTYPE=image/png:https://danvillechurch.org/wp-content/uploads/2025/06/meeting-2.png
END:VEVENT
BEGIN:VEVENT
DTSTART;TZID=America/Los_Angeles:20280514T111500
DTEND;TZID=America/Los_Angeles:20280514T121500
DTSTAMP:20260425T095225
CREATED:20260406T181350Z
LAST-MODIFIED:20260406T181710Z
UID:10001556-1841915700-1841919300@danvillechurch.org
SUMMARY:Community Life Commission Meeting - Music Room
DESCRIPTION:
URL:https://danvillechurch.org/event/community-life-commission-meeting-2-2-2/2028-05-14/
LOCATION:Music Room\, 989 San Ramon Valley Blvd\, Danville\, 94526\, United States
CATEGORIES:Meeting
ATTACH;FMTTYPE=image/png:https://danvillechurch.org/wp-content/uploads/2025/06/meeting-2.png
END:VEVENT
BEGIN:VEVENT
DTSTART;TZID=America/Los_Angeles:20280514T130000
DTEND;TZID=America/Los_Angeles:20280514T173000
DTSTAMP:20260425T095225
CREATED:20250910T170136Z
LAST-MODIFIED:20260402T195750Z
UID:10007218-1841922000-1841938200@danvillechurch.org
SUMMARY:God's Way
DESCRIPTION:
URL:https://danvillechurch.org/event/gods-way-4/2028-05-14/
LOCATION:Koinonia Hall\, 989 San Ramon Valley Blvd\, Danville\, CA\, 94526\, United States
CATEGORIES:Meeting
ATTACH;FMTTYPE=image/png:https://danvillechurch.org/wp-content/uploads/2025/06/meeting-2.png
END:VEVENT
BEGIN:VEVENT
DTSTART;TZID=America/Los_Angeles:20280515T090000
DTEND;TZID=America/Los_Angeles:20280515T143000
DTSTAMP:20260425T095225
CREATED:20250910T164023Z
LAST-MODIFIED:20260402T195742Z
UID:10004874-1841994000-1842013800@danvillechurch.org
SUMMARY:Danville Dementia Daycare Meeting
DESCRIPTION:Danville Dementia DayCare
URL:https://danvillechurch.org/event/dddmeeting/2028-05-15/
LOCATION:Koinonia Hall\, 989 San Ramon Valley Blvd\, Danville\, CA\, 94526\, United States
CATEGORIES:Support Group
ATTACH;FMTTYPE=image/png:https://danvillechurch.org/wp-content/uploads/2025/06/meeting-2.png
END:VEVENT
BEGIN:VEVENT
DTSTART;TZID=America/Los_Angeles:20280516T090000
DTEND;TZID=America/Los_Angeles:20280516T100000
DTSTAMP:20260425T095225
CREATED:20250623T160337Z
LAST-MODIFIED:20250908T190516Z
UID:10000209-1842080400-1842084000@danvillechurch.org
SUMMARY:Men's Coffee & Donuts
DESCRIPTION:
URL:https://danvillechurch.org/event/mens-coffee-donuts/2028-05-16/
LOCATION:Koinonia Hall\, 989 San Ramon Valley Blvd\, Danville\, CA\, 94526\, United States
CATEGORIES:Fellowship
ATTACH;FMTTYPE=image/jpeg:https://danvillechurch.org/wp-content/uploads/2025/06/Picture-of-the-Week-4.13.jpg
END:VEVENT
BEGIN:VEVENT
DTSTART;TZID=America/Los_Angeles:20280516T160000
DTEND;TZID=America/Los_Angeles:20280516T180000
DTSTAMP:20260425T095225
CREATED:20251106T183030Z
LAST-MODIFIED:20251106T183030Z
UID:10001187-1842105600-1842112800@danvillechurch.org
SUMMARY:Finance Committee
DESCRIPTION:
URL:https://danvillechurch.org/event/finance-committee-2/2028-05-16/
LOCATION:Agape Lounge – Youth Room
CATEGORIES:Meeting
ATTACH;FMTTYPE=image/png:https://danvillechurch.org/wp-content/uploads/2025/06/4-1.png
END:VEVENT
BEGIN:VEVENT
DTSTART;TZID=America/Los_Angeles:20280516T190000
DTEND;TZID=America/Los_Angeles:20280516T210000
DTSTAMP:20260425T095225
CREATED:20250910T164951Z
LAST-MODIFIED:20260402T200109Z
UID:10005642-1842116400-1842123600@danvillechurch.org
SUMMARY:AA New Beginnings Meeting
DESCRIPTION:
URL:https://danvillechurch.org/event/aa-new-beginnings-meeting/2028-05-16/
LOCATION:Koinonia Hall\, 989 San Ramon Valley Blvd\, Danville\, CA\, 94526\, United States
CATEGORIES:Support Group
ATTACH;FMTTYPE=image/png:https://danvillechurch.org/wp-content/uploads/2025/06/meeting-2.png
END:VEVENT
BEGIN:VEVENT
DTSTART;TZID=America/Los_Angeles:20280517T090000
DTEND;TZID=America/Los_Angeles:20280517T143000
DTSTAMP:20260425T095225
CREATED:20250910T164023Z
LAST-MODIFIED:20260402T195742Z
UID:10004875-1842166800-1842186600@danvillechurch.org
SUMMARY:Danville Dementia Daycare Meeting
DESCRIPTION:Danville Dementia DayCare
URL:https://danvillechurch.org/event/dddmeeting/2028-05-17/
LOCATION:Koinonia Hall\, 989 San Ramon Valley Blvd\, Danville\, CA\, 94526\, United States
CATEGORIES:Support Group
ATTACH;FMTTYPE=image/png:https://danvillechurch.org/wp-content/uploads/2025/06/meeting-2.png
END:VEVENT
BEGIN:VEVENT
DTSTART;TZID=America/Los_Angeles:20280517T100000
DTEND;TZID=America/Los_Angeles:20280517T110000
DTSTAMP:20260425T095225
CREATED:20250623T160949Z
LAST-MODIFIED:20251210T183750Z
UID:10000421-1842170400-1842174000@danvillechurch.org
SUMMARY:Wednesday Morning Prayer
DESCRIPTION:Please contact the office for Zoom login credentials.
URL:https://danvillechurch.org/event/wednesday-morning-prayer/2028-05-17/
LOCATION:Sanctuary\, 989 San Ramon Valley Blvd\, Danville\, CA\, 94526\, United States
CATEGORIES:Worship
ATTACH;FMTTYPE=image/png:https://danvillechurch.org/wp-content/uploads/2025/06/5-1.png
END:VEVENT
BEGIN:VEVENT
DTSTART;TZID=America/Los_Angeles:20280517T100000
DTEND;TZID=America/Los_Angeles:20280517T140000
DTSTAMP:20260425T095225
CREATED:20250623T165816Z
LAST-MODIFIED:20250908T183249Z
UID:10001247-1842170400-1842184800@danvillechurch.org
SUMMARY:Prayer Shawl Ministry
DESCRIPTION:
URL:https://danvillechurch.org/event/prayer-shawl-ministry/2028-05-17/
LOCATION:Peace Room
CATEGORIES:Fellowship
ATTACH;FMTTYPE=image/jpeg:https://danvillechurch.org/wp-content/uploads/2025/06/prayer-shaw-ministry-1121-scaled.jpg
END:VEVENT
BEGIN:VEVENT
DTSTART;TZID=America/Los_Angeles:20280517T180000
DTEND;TZID=America/Los_Angeles:20280517T213000
DTSTAMP:20260425T095225
CREATED:20251215T182527Z
LAST-MODIFIED:20260402T195408Z
UID:10007735-1842199200-1842211800@danvillechurch.org
SUMMARY:Diablo Valley Quilters - Sanctuary and Koinonia
DESCRIPTION:
URL:https://danvillechurch.org/event/diablo-valley-quilters-2/2028-05-17/
LOCATION:Koinonia Hall\, 989 San Ramon Valley Blvd\, Danville\, CA\, 94526\, United States
CATEGORIES:Private Event
ATTACH;FMTTYPE=image/png:https://danvillechurch.org/wp-content/uploads/2025/06/meeting-2.png
END:VEVENT
BEGIN:VEVENT
DTSTART;TZID=America/Los_Angeles:20280517T190000
DTEND;TZID=America/Los_Angeles:20280517T203000
DTSTAMP:20260425T095225
CREATED:20251014T175941Z
LAST-MODIFIED:20251014T175942Z
UID:10002294-1842202800-1842208200@danvillechurch.org
SUMMARY:Choir Rehearsal
DESCRIPTION:
URL:https://danvillechurch.org/event/choir-rehearsal-2-2/2028-05-17/
LOCATION:Music Room\, 989 San Ramon Valley Blvd\, Danville\, 94526\, United States
CATEGORIES:Meeting
ATTACH;FMTTYPE=image/png:https://danvillechurch.org/wp-content/uploads/2025/06/choir.png
END:VEVENT
END:VCALENDAR