BEGIN:VCALENDAR
VERSION:2.0
PRODID:-//Danville Congregational Church - ECPv6.15.20//NONSGML v1.0//EN
CALSCALE:GREGORIAN
METHOD:PUBLISH
X-ORIGINAL-URL:https://danvillechurch.org
X-WR-CALDESC:Events for Danville Congregational Church
REFRESH-INTERVAL;VALUE=DURATION:PT1H
X-Robots-Tag:noindex
X-PUBLISHED-TTL:PT1H
BEGIN:VTIMEZONE
TZID:America/Los_Angeles
BEGIN:DAYLIGHT
TZOFFSETFROM:-0800
TZOFFSETTO:-0700
TZNAME:PDT
DTSTART:20260308T100000
END:DAYLIGHT
BEGIN:STANDARD
TZOFFSETFROM:-0700
TZOFFSETTO:-0800
TZNAME:PST
DTSTART:20261101T090000
END:STANDARD
BEGIN:DAYLIGHT
TZOFFSETFROM:-0800
TZOFFSETTO:-0700
TZNAME:PDT
DTSTART:20270314T100000
END:DAYLIGHT
BEGIN:STANDARD
TZOFFSETFROM:-0700
TZOFFSETTO:-0800
TZNAME:PST
DTSTART:20271107T090000
END:STANDARD
BEGIN:DAYLIGHT
TZOFFSETFROM:-0800
TZOFFSETTO:-0700
TZNAME:PDT
DTSTART:20280312T100000
END:DAYLIGHT
BEGIN:STANDARD
TZOFFSETFROM:-0700
TZOFFSETTO:-0800
TZNAME:PST
DTSTART:20281105T090000
END:STANDARD
END:VTIMEZONE
BEGIN:VEVENT
DTSTART;TZID=America/Los_Angeles:20271101T090000
DTEND;TZID=America/Los_Angeles:20271101T143000
DTSTAMP:20260420T193430
CREATED:20250910T164023Z
LAST-MODIFIED:20260402T195742Z
UID:10004790-1825059600-1825079400@danvillechurch.org
SUMMARY:Danville Dementia Daycare Meeting
DESCRIPTION:Danville Dementia DayCare
URL:https://danvillechurch.org/event/dddmeeting/2027-11-01/
LOCATION:Koinonia Hall\, 989 San Ramon Valley Blvd\, Danville\, CA\, 94526\, United States
CATEGORIES:Support Group
ATTACH;FMTTYPE=image/png:https://danvillechurch.org/wp-content/uploads/2025/06/meeting-2.png
END:VEVENT
BEGIN:VEVENT
DTSTART;TZID=America/Los_Angeles:20271102T090000
DTEND;TZID=America/Los_Angeles:20271102T100000
DTSTAMP:20260420T193430
CREATED:20250623T160337Z
LAST-MODIFIED:20250908T190516Z
UID:10000195-1825146000-1825149600@danvillechurch.org
SUMMARY:Men's Coffee & Donuts
DESCRIPTION:
URL:https://danvillechurch.org/event/mens-coffee-donuts/2027-11-02/
LOCATION:Koinonia Hall\, 989 San Ramon Valley Blvd\, Danville\, CA\, 94526\, United States
CATEGORIES:Fellowship
ATTACH;FMTTYPE=image/jpeg:https://danvillechurch.org/wp-content/uploads/2025/06/Picture-of-the-Week-4.13.jpg
END:VEVENT
BEGIN:VEVENT
DTSTART;TZID=America/Los_Angeles:20271102T190000
DTEND;TZID=America/Los_Angeles:20271102T210000
DTSTAMP:20260420T193430
CREATED:20250910T164951Z
LAST-MODIFIED:20260402T200109Z
UID:10005614-1825182000-1825189200@danvillechurch.org
SUMMARY:AA New Beginnings Meeting
DESCRIPTION:
URL:https://danvillechurch.org/event/aa-new-beginnings-meeting/2027-11-02/
LOCATION:Koinonia Hall\, 989 San Ramon Valley Blvd\, Danville\, CA\, 94526\, United States
CATEGORIES:Support Group
ATTACH;FMTTYPE=image/png:https://danvillechurch.org/wp-content/uploads/2025/06/meeting-2.png
END:VEVENT
BEGIN:VEVENT
DTSTART;TZID=America/Los_Angeles:20271103T090000
DTEND;TZID=America/Los_Angeles:20271103T143000
DTSTAMP:20260420T193430
CREATED:20250910T164023Z
LAST-MODIFIED:20260402T195742Z
UID:10004791-1825232400-1825252200@danvillechurch.org
SUMMARY:Danville Dementia Daycare Meeting
DESCRIPTION:Danville Dementia DayCare
URL:https://danvillechurch.org/event/dddmeeting/2027-11-03/
LOCATION:Koinonia Hall\, 989 San Ramon Valley Blvd\, Danville\, CA\, 94526\, United States
CATEGORIES:Support Group
ATTACH;FMTTYPE=image/png:https://danvillechurch.org/wp-content/uploads/2025/06/meeting-2.png
END:VEVENT
BEGIN:VEVENT
DTSTART;TZID=America/Los_Angeles:20271103T100000
DTEND;TZID=America/Los_Angeles:20271103T110000
DTSTAMP:20260420T193430
CREATED:20250623T160949Z
LAST-MODIFIED:20251210T183750Z
UID:10000393-1825236000-1825239600@danvillechurch.org
SUMMARY:Wednesday Morning Prayer
DESCRIPTION:Please contact the office for Zoom login credentials.
URL:https://danvillechurch.org/event/wednesday-morning-prayer/2027-11-03/
LOCATION:Sanctuary\, 989 San Ramon Valley Blvd\, Danville\, CA\, 94526\, United States
CATEGORIES:Worship
ATTACH;FMTTYPE=image/png:https://danvillechurch.org/wp-content/uploads/2025/06/5-1.png
END:VEVENT
BEGIN:VEVENT
DTSTART;TZID=America/Los_Angeles:20271103T190000
DTEND;TZID=America/Los_Angeles:20271103T203000
DTSTAMP:20260420T193430
CREATED:20251014T175941Z
LAST-MODIFIED:20251014T175942Z
UID:10002266-1825268400-1825273800@danvillechurch.org
SUMMARY:Choir Rehearsal
DESCRIPTION:
URL:https://danvillechurch.org/event/choir-rehearsal-2-2/2027-11-03/
LOCATION:Music Room\, 989 San Ramon Valley Blvd\, Danville\, 94526\, United States
CATEGORIES:Meeting
ATTACH;FMTTYPE=image/png:https://danvillechurch.org/wp-content/uploads/2025/06/choir.png
END:VEVENT
BEGIN:VEVENT
DTSTART;TZID=America/Los_Angeles:20271104T190000
DTEND;TZID=America/Los_Angeles:20271104T210000
DTSTAMP:20260420T193430
CREATED:20250910T165146Z
LAST-MODIFIED:20260402T200101Z
UID:10005877-1825354800-1825362000@danvillechurch.org
SUMMARY:Nursery3 Meeting
DESCRIPTION:
URL:https://danvillechurch.org/event/nursery3-meeting/2027-11-04/
LOCATION:Koinonia Hall\, 989 San Ramon Valley Blvd\, Danville\, CA\, 94526\, United States
CATEGORIES:Support Group
ATTACH;FMTTYPE=image/png:https://danvillechurch.org/wp-content/uploads/2025/06/meeting-2.png
END:VEVENT
BEGIN:VEVENT
DTSTART;TZID=America/Los_Angeles:20271105T090000
DTEND;TZID=America/Los_Angeles:20271105T143000
DTSTAMP:20260420T193430
CREATED:20250910T164023Z
LAST-MODIFIED:20260402T195742Z
UID:10004792-1825405200-1825425000@danvillechurch.org
SUMMARY:Danville Dementia Daycare Meeting
DESCRIPTION:Danville Dementia DayCare
URL:https://danvillechurch.org/event/dddmeeting/2027-11-05/
LOCATION:Koinonia Hall\, 989 San Ramon Valley Blvd\, Danville\, CA\, 94526\, United States
CATEGORIES:Support Group
ATTACH;FMTTYPE=image/png:https://danvillechurch.org/wp-content/uploads/2025/06/meeting-2.png
END:VEVENT
BEGIN:VEVENT
DTSTART;TZID=America/Los_Angeles:20271105T163000
DTEND;TZID=America/Los_Angeles:20271105T183000
DTSTAMP:20260420T193430
CREATED:20250910T165343Z
LAST-MODIFIED:20260402T195856Z
UID:10006139-1825432200-1825439400@danvillechurch.org
SUMMARY:AA Happy Hour Meeting
DESCRIPTION:
URL:https://danvillechurch.org/event/aa-happy-hour-meeting/2027-11-05/
LOCATION:Koinonia Hall\, 989 San Ramon Valley Blvd\, Danville\, CA\, 94526\, United States
CATEGORIES:Support Group
ATTACH;FMTTYPE=image/png:https://danvillechurch.org/wp-content/uploads/2025/06/meeting-2.png
END:VEVENT
BEGIN:VEVENT
DTSTART;TZID=America/Los_Angeles:20271105T200000
DTEND;TZID=America/Los_Angeles:20271105T220000
DTSTAMP:20260420T193430
CREATED:20250910T165740Z
LAST-MODIFIED:20260402T195839Z
UID:10006401-1825444800-1825452000@danvillechurch.org
SUMMARY:God's Way
DESCRIPTION:
URL:https://danvillechurch.org/event/gods-way-2/2027-11-05/
LOCATION:Peace Room
CATEGORIES:Meeting
ATTACH;FMTTYPE=image/png:https://danvillechurch.org/wp-content/uploads/2025/06/meeting-2.png
END:VEVENT
BEGIN:VEVENT
DTSTART;TZID=America/Los_Angeles:20271106T060000
DTEND;TZID=America/Los_Angeles:20271106T070000
DTSTAMP:20260420T193430
CREATED:20250910T165942Z
LAST-MODIFIED:20260402T195830Z
UID:10006664-1825480800-1825484400@danvillechurch.org
SUMMARY:God's Way
DESCRIPTION:
URL:https://danvillechurch.org/event/gods-way-3/2027-11-06/
LOCATION:Koinonia Hall\, 989 San Ramon Valley Blvd\, Danville\, CA\, 94526\, United States
CATEGORIES:Meeting
ATTACH;FMTTYPE=image/png:https://danvillechurch.org/wp-content/uploads/2025/06/meeting-2.png
END:VEVENT
BEGIN:VEVENT
DTSTART;TZID=America/Los_Angeles:20271106T073000
DTEND;TZID=America/Los_Angeles:20271106T093000
DTSTAMP:20260420T193430
CREATED:20250910T170327Z
LAST-MODIFIED:20260402T195811Z
UID:10006927-1825486200-1825493400@danvillechurch.org
SUMMARY:NA Early Serenity Meeting
DESCRIPTION:
URL:https://danvillechurch.org/event/na-early-serenity-meeting/2027-11-06/
LOCATION:Koinonia Hall\, 989 San Ramon Valley Blvd\, Danville\, CA\, 94526\, United States
CATEGORIES:Support Group
ATTACH;FMTTYPE=image/png:https://danvillechurch.org/wp-content/uploads/2025/06/meeting-2.png
END:VEVENT
BEGIN:VEVENT
DTSTART;VALUE=DATE:20271107
DTEND;VALUE=DATE:20271108
DTSTAMP:20260420T193430
CREATED:20250623T163757Z
LAST-MODIFIED:20250623T163757Z
UID:10000941-1825545600-1825628399@danvillechurch.org
SUMMARY:Communion Sunday
DESCRIPTION:
URL:https://danvillechurch.org/event/communion-sunday/2027-11-07/
LOCATION:Sanctuary\, 989 San Ramon Valley Blvd\, Danville\, CA\, 94526\, United States
CATEGORIES:Worship
ATTACH;FMTTYPE=image/png:https://danvillechurch.org/wp-content/uploads/2025/06/communion.png
END:VEVENT
BEGIN:VEVENT
DTSTART;TZID=America/Los_Angeles:20271107T083000
DTEND;TZID=America/Los_Angeles:20271107T091500
DTSTAMP:20260420T193430
CREATED:20250623T173721Z
LAST-MODIFIED:20250623T174122Z
UID:10001696-1825576200-1825578900@danvillechurch.org
SUMMARY:Choir Rehearsal
DESCRIPTION:
URL:https://danvillechurch.org/event/choir-rehearsal/2027-11-07/
LOCATION:Sanctuary\, 989 San Ramon Valley Blvd\, Danville\, CA\, 94526\, United States
CATEGORIES:Meeting
ATTACH;FMTTYPE=image/png:https://danvillechurch.org/wp-content/uploads/2025/06/choir.png
END:VEVENT
BEGIN:VEVENT
DTSTART;TZID=America/Los_Angeles:20271107T093000
DTEND;TZID=America/Los_Angeles:20271107T103000
DTSTAMP:20260420T193430
CREATED:20250623T164007Z
LAST-MODIFIED:20250908T182550Z
UID:10001001-1825579800-1825583400@danvillechurch.org
SUMMARY:Godly Play
DESCRIPTION:
URL:https://danvillechurch.org/event/godly-play/2027-11-07/
CATEGORIES:Children's Ministry
ATTACH;FMTTYPE=image/jpeg:https://danvillechurch.org/wp-content/uploads/2025/08/godlyplay_seal_fullcolor.jpg
END:VEVENT
BEGIN:VEVENT
DTSTART;TZID=America/Los_Angeles:20271107T093000
DTEND;TZID=America/Los_Angeles:20271107T223000
DTSTAMP:20260420T193430
CREATED:20250623T162746Z
LAST-MODIFIED:20250916T180509Z
UID:10000775-1825579800-1825626600@danvillechurch.org
SUMMARY:Worship
DESCRIPTION:
URL:https://danvillechurch.org/event/worship/2027-11-07/
LOCATION:Sanctuary\, 989 San Ramon Valley Blvd\, Danville\, CA\, 94526\, United States
CATEGORIES:Worship
ATTACH;FMTTYPE=image/png:https://danvillechurch.org/wp-content/uploads/2025/06/1-1.png
END:VEVENT
BEGIN:VEVENT
DTSTART;TZID=America/Los_Angeles:20271107T110000
DTEND;TZID=America/Los_Angeles:20271107T130000
DTSTAMP:20260420T193430
CREATED:20250918T194959Z
LAST-MODIFIED:20250918T195000Z
UID:10007528-1825585200-1825592400@danvillechurch.org
SUMMARY:Youth Group
DESCRIPTION:
URL:https://danvillechurch.org/event/youth-group-2-2/2027-11-07/
LOCATION:Agape Lounge – Youth Room
CATEGORIES:Youth Ministry
ATTACH;FMTTYPE=image/jpeg:https://danvillechurch.org/wp-content/uploads/2025/07/Picture-of-the-Week-3.23-1-scaled.jpg
END:VEVENT
BEGIN:VEVENT
DTSTART;TZID=America/Los_Angeles:20271107T120000
DTEND;TZID=America/Los_Angeles:20271107T140000
DTSTAMP:20260420T193430
CREATED:20250908T201908Z
LAST-MODIFIED:20251021T202131Z
UID:10004048-1825588800-1825596000@danvillechurch.org
SUMMARY:Monthly Lunch Bunch
DESCRIPTION:
URL:https://danvillechurch.org/event/monthly-lunch-bunch/2027-11-07/
CATEGORIES:Fellowship
ATTACH;FMTTYPE=image/jpeg:https://danvillechurch.org/wp-content/uploads/2025/09/Lunch-bunch.jpg
END:VEVENT
BEGIN:VEVENT
DTSTART;TZID=America/Los_Angeles:20271107T120000
DTEND;TZID=America/Los_Angeles:20271107T140000
DTSTAMP:20260420T193430
CREATED:20260330T204934Z
LAST-MODIFIED:20260330T204935Z
UID:10008219-1825588800-1825596000@danvillechurch.org
SUMMARY:Monthly Lunch Bunch
DESCRIPTION:
URL:https://danvillechurch.org/event/monthly-lunch-bunch-3/2027-11-07/
CATEGORIES:Fellowship
ATTACH;FMTTYPE=image/jpeg:https://danvillechurch.org/wp-content/uploads/2025/09/Lunch-bunch.jpg
END:VEVENT
BEGIN:VEVENT
DTSTART;TZID=America/Los_Angeles:20271107T130000
DTEND;TZID=America/Los_Angeles:20271107T173000
DTSTAMP:20260420T193430
CREATED:20250910T170136Z
LAST-MODIFIED:20260402T195750Z
UID:10007191-1825592400-1825608600@danvillechurch.org
SUMMARY:God's Way
DESCRIPTION:
URL:https://danvillechurch.org/event/gods-way-4/2027-11-07/
LOCATION:Koinonia Hall\, 989 San Ramon Valley Blvd\, Danville\, CA\, 94526\, United States
CATEGORIES:Meeting
ATTACH;FMTTYPE=image/png:https://danvillechurch.org/wp-content/uploads/2025/06/meeting-2.png
END:VEVENT
BEGIN:VEVENT
DTSTART;TZID=America/Los_Angeles:20271108T090000
DTEND;TZID=America/Los_Angeles:20271108T143000
DTSTAMP:20260420T193430
CREATED:20250910T164023Z
LAST-MODIFIED:20260402T195742Z
UID:10004793-1825664400-1825684200@danvillechurch.org
SUMMARY:Danville Dementia Daycare Meeting
DESCRIPTION:Danville Dementia DayCare
URL:https://danvillechurch.org/event/dddmeeting/2027-11-08/
LOCATION:Koinonia Hall\, 989 San Ramon Valley Blvd\, Danville\, CA\, 94526\, United States
CATEGORIES:Support Group
ATTACH;FMTTYPE=image/png:https://danvillechurch.org/wp-content/uploads/2025/06/meeting-2.png
END:VEVENT
BEGIN:VEVENT
DTSTART;TZID=America/Los_Angeles:20271109T113000
DTEND;TZID=America/Los_Angeles:20271109T123000
DTSTAMP:20260420T193430
CREATED:20250623T162343Z
LAST-MODIFIED:20250908T190412Z
UID:10003375-1825759800-1825763400@danvillechurch.org
SUMMARY:Men's Luncheon
DESCRIPTION:
URL:https://danvillechurch.org/event/mens-luncheon/2027-11-09/
LOCATION:Koinonia Hall\, 989 San Ramon Valley Blvd\, Danville\, CA\, 94526\, United States
CATEGORIES:Fellowship
ATTACH;FMTTYPE=image/jpeg:https://danvillechurch.org/wp-content/uploads/2025/06/Picture-of-the-Week-options-5.18-3-scaled.jpg
END:VEVENT
BEGIN:VEVENT
DTSTART;TZID=America/Los_Angeles:20271109T130000
DTEND;TZID=America/Los_Angeles:20271109T150000
DTSTAMP:20260420T193430
CREATED:20250623T162553Z
LAST-MODIFIED:20250623T165228Z
UID:10000620-1825765200-1825772400@danvillechurch.org
SUMMARY:Diaconate Meeting
DESCRIPTION:
URL:https://danvillechurch.org/event/diaconate-meeting/2027-11-09/
LOCATION:Music Room\, 989 San Ramon Valley Blvd\, Danville\, 94526\, United States
CATEGORIES:Meeting
ATTACH;FMTTYPE=image/png:https://danvillechurch.org/wp-content/uploads/2025/06/meeting-2.png
END:VEVENT
BEGIN:VEVENT
DTSTART;TZID=America/Los_Angeles:20271109T190000
DTEND;TZID=America/Los_Angeles:20271109T210000
DTSTAMP:20260420T193430
CREATED:20250910T164951Z
LAST-MODIFIED:20260402T200109Z
UID:10005615-1825786800-1825794000@danvillechurch.org
SUMMARY:AA New Beginnings Meeting
DESCRIPTION:
URL:https://danvillechurch.org/event/aa-new-beginnings-meeting/2027-11-09/
LOCATION:Koinonia Hall\, 989 San Ramon Valley Blvd\, Danville\, CA\, 94526\, United States
CATEGORIES:Support Group
ATTACH;FMTTYPE=image/png:https://danvillechurch.org/wp-content/uploads/2025/06/meeting-2.png
END:VEVENT
BEGIN:VEVENT
DTSTART;TZID=America/Los_Angeles:20271110T090000
DTEND;TZID=America/Los_Angeles:20271110T143000
DTSTAMP:20260420T193430
CREATED:20250910T164023Z
LAST-MODIFIED:20260402T195742Z
UID:10004794-1825837200-1825857000@danvillechurch.org
SUMMARY:Danville Dementia Daycare Meeting
DESCRIPTION:Danville Dementia DayCare
URL:https://danvillechurch.org/event/dddmeeting/2027-11-10/
LOCATION:Koinonia Hall\, 989 San Ramon Valley Blvd\, Danville\, CA\, 94526\, United States
CATEGORIES:Support Group
ATTACH;FMTTYPE=image/png:https://danvillechurch.org/wp-content/uploads/2025/06/meeting-2.png
END:VEVENT
BEGIN:VEVENT
DTSTART;TZID=America/Los_Angeles:20271110T100000
DTEND;TZID=America/Los_Angeles:20271110T110000
DTSTAMP:20260420T193430
CREATED:20250623T160949Z
LAST-MODIFIED:20251210T183750Z
UID:10000394-1825840800-1825844400@danvillechurch.org
SUMMARY:Wednesday Morning Prayer
DESCRIPTION:Please contact the office for Zoom login credentials.
URL:https://danvillechurch.org/event/wednesday-morning-prayer/2027-11-10/
LOCATION:Sanctuary\, 989 San Ramon Valley Blvd\, Danville\, CA\, 94526\, United States
CATEGORIES:Worship
ATTACH;FMTTYPE=image/png:https://danvillechurch.org/wp-content/uploads/2025/06/5-1.png
END:VEVENT
BEGIN:VEVENT
DTSTART;TZID=America/Los_Angeles:20271110T143000
DTEND;TZID=America/Los_Angeles:20271110T153000
DTSTAMP:20260420T193430
CREATED:20250915T175734Z
LAST-MODIFIED:20250915T175734Z
UID:10007368-1825857000-1825860600@danvillechurch.org
SUMMARY:CARE Support Group
DESCRIPTION:
URL:https://danvillechurch.org/event/care-support-group-3/2027-11-10/
LOCATION:Music Room\, 989 San Ramon Valley Blvd\, Danville\, 94526\, United States
CATEGORIES:Support Group
ATTACH;FMTTYPE=image/png:https://danvillechurch.org/wp-content/uploads/2025/06/support.png
END:VEVENT
BEGIN:VEVENT
DTSTART;TZID=America/Los_Angeles:20271110T190000
DTEND;TZID=America/Los_Angeles:20271110T203000
DTSTAMP:20260420T193430
CREATED:20251014T175941Z
LAST-MODIFIED:20251014T175942Z
UID:10002267-1825873200-1825878600@danvillechurch.org
SUMMARY:Choir Rehearsal
DESCRIPTION:
URL:https://danvillechurch.org/event/choir-rehearsal-2-2/2027-11-10/
LOCATION:Music Room\, 989 San Ramon Valley Blvd\, Danville\, 94526\, United States
CATEGORIES:Meeting
ATTACH;FMTTYPE=image/png:https://danvillechurch.org/wp-content/uploads/2025/06/choir.png
END:VEVENT
BEGIN:VEVENT
DTSTART;TZID=America/Los_Angeles:20271111T190000
DTEND;TZID=America/Los_Angeles:20271111T210000
DTSTAMP:20260420T193430
CREATED:20250910T165146Z
LAST-MODIFIED:20260402T200101Z
UID:10005878-1825959600-1825966800@danvillechurch.org
SUMMARY:Nursery3 Meeting
DESCRIPTION:
URL:https://danvillechurch.org/event/nursery3-meeting/2027-11-11/
LOCATION:Koinonia Hall\, 989 San Ramon Valley Blvd\, Danville\, CA\, 94526\, United States
CATEGORIES:Support Group
ATTACH;FMTTYPE=image/png:https://danvillechurch.org/wp-content/uploads/2025/06/meeting-2.png
END:VEVENT
BEGIN:VEVENT
DTSTART;TZID=America/Los_Angeles:20271112T090000
DTEND;TZID=America/Los_Angeles:20271112T143000
DTSTAMP:20260420T193430
CREATED:20250910T164023Z
LAST-MODIFIED:20260402T195742Z
UID:10004795-1826010000-1826029800@danvillechurch.org
SUMMARY:Danville Dementia Daycare Meeting
DESCRIPTION:Danville Dementia DayCare
URL:https://danvillechurch.org/event/dddmeeting/2027-11-12/
LOCATION:Koinonia Hall\, 989 San Ramon Valley Blvd\, Danville\, CA\, 94526\, United States
CATEGORIES:Support Group
ATTACH;FMTTYPE=image/png:https://danvillechurch.org/wp-content/uploads/2025/06/meeting-2.png
END:VEVENT
END:VCALENDAR