BEGIN:VCALENDAR
VERSION:2.0
PRODID:-//Danville Congregational Church - ECPv6.15.20//NONSGML v1.0//EN
CALSCALE:GREGORIAN
METHOD:PUBLISH
X-WR-CALNAME:Danville Congregational Church
X-ORIGINAL-URL:https://danvillechurch.org
X-WR-CALDESC:Events for Danville Congregational Church
REFRESH-INTERVAL;VALUE=DURATION:PT1H
X-Robots-Tag:noindex
X-PUBLISHED-TTL:PT1H
BEGIN:VTIMEZONE
TZID:America/Los_Angeles
BEGIN:DAYLIGHT
TZOFFSETFROM:-0800
TZOFFSETTO:-0700
TZNAME:PDT
DTSTART:20240310T100000
END:DAYLIGHT
BEGIN:STANDARD
TZOFFSETFROM:-0700
TZOFFSETTO:-0800
TZNAME:PST
DTSTART:20241103T090000
END:STANDARD
BEGIN:DAYLIGHT
TZOFFSETFROM:-0800
TZOFFSETTO:-0700
TZNAME:PDT
DTSTART:20250309T100000
END:DAYLIGHT
BEGIN:STANDARD
TZOFFSETFROM:-0700
TZOFFSETTO:-0800
TZNAME:PST
DTSTART:20251102T090000
END:STANDARD
BEGIN:DAYLIGHT
TZOFFSETFROM:-0800
TZOFFSETTO:-0700
TZNAME:PDT
DTSTART:20260308T100000
END:DAYLIGHT
BEGIN:STANDARD
TZOFFSETFROM:-0700
TZOFFSETTO:-0800
TZNAME:PST
DTSTART:20261101T090000
END:STANDARD
END:VTIMEZONE
BEGIN:VEVENT
DTSTART;VALUE=DATE:20250921
DTEND;VALUE=DATE:20250922
DTSTAMP:20260419T185624
CREATED:20250623T171301Z
LAST-MODIFIED:20250623T171301Z
UID:10001396-1758412800-1758499199@danvillechurch.org
SUMMARY:Ingathering Sunday
DESCRIPTION:
URL:https://danvillechurch.org/event/ingathering-sunday/2025-09-21/
LOCATION:CA
CATEGORIES:Worship
ATTACH;FMTTYPE=image/png:https://danvillechurch.org/wp-content/uploads/2025/06/ingatheringsunday.png
END:VEVENT
BEGIN:VEVENT
DTSTART;TZID=America/Los_Angeles:20250921T093000
DTEND;TZID=America/Los_Angeles:20250921T223000
DTSTAMP:20260419T185624
CREATED:20250623T162746Z
LAST-MODIFIED:20250916T180509Z
UID:10000664-1758447000-1758493800@danvillechurch.org
SUMMARY:Worship
DESCRIPTION:
URL:https://danvillechurch.org/event/worship/2025-09-21/
LOCATION:Sanctuary\, 989 San Ramon Valley Blvd\, Danville\, CA\, 94526\, United States
CATEGORIES:Worship
ATTACH;FMTTYPE=image/png:https://danvillechurch.org/wp-content/uploads/2025/06/1-1.png
END:VEVENT
BEGIN:VEVENT
DTSTART;TZID=America/Los_Angeles:20250921T153000
DTEND;TZID=America/Los_Angeles:20250921T183000
DTSTAMP:20260419T185624
CREATED:20250908T195255Z
LAST-MODIFIED:20250908T195255Z
UID:10004019-1758468600-1758479400@danvillechurch.org
SUMMARY:Rev. Melissa's Installation Ceremony
DESCRIPTION:
URL:https://danvillechurch.org/event/rev-melissas-installation-ceremony/2025-09-21/
LOCATION:Sanctuary\, 989 San Ramon Valley Blvd\, Danville\, CA\, 94526\, United States
CATEGORIES:Worship
ATTACH;FMTTYPE=image/jpeg:https://danvillechurch.org/wp-content/uploads/2025/09/Rev.-Melissa.jpg
END:VEVENT
BEGIN:VEVENT
DTSTART;TZID=America/Los_Angeles:20250924T100000
DTEND;TZID=America/Los_Angeles:20250924T110000
DTSTAMP:20260419T185624
CREATED:20250623T160949Z
LAST-MODIFIED:20251210T183750Z
UID:10000283-1758708000-1758711600@danvillechurch.org
SUMMARY:Wednesday Morning Prayer
DESCRIPTION:Please contact the office for Zoom login credentials.
URL:https://danvillechurch.org/event/wednesday-morning-prayer/2025-09-24/
LOCATION:Sanctuary\, 989 San Ramon Valley Blvd\, Danville\, CA\, 94526\, United States
CATEGORIES:Worship
ATTACH;FMTTYPE=image/png:https://danvillechurch.org/wp-content/uploads/2025/06/5-1.png
END:VEVENT
END:VCALENDAR