BEGIN:VCALENDAR
VERSION:2.0
PRODID:-//Danville Congregational Church - ECPv6.15.20//NONSGML v1.0//EN
CALSCALE:GREGORIAN
METHOD:PUBLISH
X-ORIGINAL-URL:https://danvillechurch.org
X-WR-CALDESC:Events for Danville Congregational Church
REFRESH-INTERVAL;VALUE=DURATION:PT1H
X-Robots-Tag:noindex
X-PUBLISHED-TTL:PT1H
BEGIN:VTIMEZONE
TZID:America/Los_Angeles
BEGIN:DAYLIGHT
TZOFFSETFROM:-0800
TZOFFSETTO:-0700
TZNAME:PDT
DTSTART:20270314T100000
END:DAYLIGHT
BEGIN:STANDARD
TZOFFSETFROM:-0700
TZOFFSETTO:-0800
TZNAME:PST
DTSTART:20271107T090000
END:STANDARD
BEGIN:DAYLIGHT
TZOFFSETFROM:-0800
TZOFFSETTO:-0700
TZNAME:PDT
DTSTART:20280312T100000
END:DAYLIGHT
BEGIN:STANDARD
TZOFFSETFROM:-0700
TZOFFSETTO:-0800
TZNAME:PST
DTSTART:20281105T090000
END:STANDARD
BEGIN:DAYLIGHT
TZOFFSETFROM:-0800
TZOFFSETTO:-0700
TZNAME:PDT
DTSTART:20290311T100000
END:DAYLIGHT
BEGIN:STANDARD
TZOFFSETFROM:-0700
TZOFFSETTO:-0800
TZNAME:PST
DTSTART:20291104T090000
END:STANDARD
END:VTIMEZONE
BEGIN:VEVENT
DTSTART;TZID=America/Los_Angeles:20280823T100000
DTEND;TZID=America/Los_Angeles:20280823T110000
DTSTAMP:20260421T151918
CREATED:20250623T160949Z
LAST-MODIFIED:20251210T183750Z
UID:10000435-1850637600-1850641200@danvillechurch.org
SUMMARY:Wednesday Morning Prayer
DESCRIPTION:Please contact the office for Zoom login credentials.
URL:https://danvillechurch.org/event/wednesday-morning-prayer/2028-08-23/
LOCATION:Sanctuary\, 989 San Ramon Valley Blvd\, Danville\, CA\, 94526\, United States
CATEGORIES:Worship
ATTACH;FMTTYPE=image/png:https://danvillechurch.org/wp-content/uploads/2025/06/5-1.png
END:VEVENT
BEGIN:VEVENT
DTSTART;TZID=America/Los_Angeles:20280827T093000
DTEND;TZID=America/Los_Angeles:20280827T223000
DTSTAMP:20260421T151918
CREATED:20250623T162746Z
LAST-MODIFIED:20250916T180509Z
UID:10000817-1850981400-1851028200@danvillechurch.org
SUMMARY:Worship
DESCRIPTION:
URL:https://danvillechurch.org/event/worship/2028-08-27/
LOCATION:Sanctuary\, 989 San Ramon Valley Blvd\, Danville\, CA\, 94526\, United States
CATEGORIES:Worship
ATTACH;FMTTYPE=image/png:https://danvillechurch.org/wp-content/uploads/2025/06/1-1.png
END:VEVENT
BEGIN:VEVENT
DTSTART;TZID=America/Los_Angeles:20280830T100000
DTEND;TZID=America/Los_Angeles:20280830T110000
DTSTAMP:20260421T151918
CREATED:20250623T160949Z
LAST-MODIFIED:20251210T183750Z
UID:10000436-1851242400-1851246000@danvillechurch.org
SUMMARY:Wednesday Morning Prayer
DESCRIPTION:Please contact the office for Zoom login credentials.
URL:https://danvillechurch.org/event/wednesday-morning-prayer/2028-08-30/
LOCATION:Sanctuary\, 989 San Ramon Valley Blvd\, Danville\, CA\, 94526\, United States
CATEGORIES:Worship
ATTACH;FMTTYPE=image/png:https://danvillechurch.org/wp-content/uploads/2025/06/5-1.png
END:VEVENT
BEGIN:VEVENT
DTSTART;VALUE=DATE:20280903
DTEND;VALUE=DATE:20280904
DTSTAMP:20260421T151918
CREATED:20250623T163757Z
LAST-MODIFIED:20250623T163757Z
UID:10000951-1851552000-1851638399@danvillechurch.org
SUMMARY:Communion Sunday
DESCRIPTION:
URL:https://danvillechurch.org/event/communion-sunday/2028-09-03/
LOCATION:Sanctuary\, 989 San Ramon Valley Blvd\, Danville\, CA\, 94526\, United States
CATEGORIES:Worship
ATTACH;FMTTYPE=image/png:https://danvillechurch.org/wp-content/uploads/2025/06/communion.png
END:VEVENT
BEGIN:VEVENT
DTSTART;TZID=America/Los_Angeles:20280903T093000
DTEND;TZID=America/Los_Angeles:20280903T223000
DTSTAMP:20260421T151918
CREATED:20250623T162746Z
LAST-MODIFIED:20250916T180509Z
UID:10000818-1851586200-1851633000@danvillechurch.org
SUMMARY:Worship
DESCRIPTION:
URL:https://danvillechurch.org/event/worship/2028-09-03/
LOCATION:Sanctuary\, 989 San Ramon Valley Blvd\, Danville\, CA\, 94526\, United States
CATEGORIES:Worship
ATTACH;FMTTYPE=image/png:https://danvillechurch.org/wp-content/uploads/2025/06/1-1.png
END:VEVENT
BEGIN:VEVENT
DTSTART;TZID=America/Los_Angeles:20280906T100000
DTEND;TZID=America/Los_Angeles:20280906T110000
DTSTAMP:20260421T151918
CREATED:20250623T160949Z
LAST-MODIFIED:20251210T183750Z
UID:10000437-1851847200-1851850800@danvillechurch.org
SUMMARY:Wednesday Morning Prayer
DESCRIPTION:Please contact the office for Zoom login credentials.
URL:https://danvillechurch.org/event/wednesday-morning-prayer/2028-09-06/
LOCATION:Sanctuary\, 989 San Ramon Valley Blvd\, Danville\, CA\, 94526\, United States
CATEGORIES:Worship
ATTACH;FMTTYPE=image/png:https://danvillechurch.org/wp-content/uploads/2025/06/5-1.png
END:VEVENT
BEGIN:VEVENT
DTSTART;TZID=America/Los_Angeles:20280910T093000
DTEND;TZID=America/Los_Angeles:20280910T223000
DTSTAMP:20260421T151918
CREATED:20250623T162746Z
LAST-MODIFIED:20250916T180509Z
UID:10000819-1852191000-1852237800@danvillechurch.org
SUMMARY:Worship
DESCRIPTION:
URL:https://danvillechurch.org/event/worship/2028-09-10/
LOCATION:Sanctuary\, 989 San Ramon Valley Blvd\, Danville\, CA\, 94526\, United States
CATEGORIES:Worship
ATTACH;FMTTYPE=image/png:https://danvillechurch.org/wp-content/uploads/2025/06/1-1.png
END:VEVENT
BEGIN:VEVENT
DTSTART;TZID=America/Los_Angeles:20280913T100000
DTEND;TZID=America/Los_Angeles:20280913T110000
DTSTAMP:20260421T151918
CREATED:20250623T160949Z
LAST-MODIFIED:20251210T183750Z
UID:10000438-1852452000-1852455600@danvillechurch.org
SUMMARY:Wednesday Morning Prayer
DESCRIPTION:Please contact the office for Zoom login credentials.
URL:https://danvillechurch.org/event/wednesday-morning-prayer/2028-09-13/
LOCATION:Sanctuary\, 989 San Ramon Valley Blvd\, Danville\, CA\, 94526\, United States
CATEGORIES:Worship
ATTACH;FMTTYPE=image/png:https://danvillechurch.org/wp-content/uploads/2025/06/5-1.png
END:VEVENT
BEGIN:VEVENT
DTSTART;VALUE=DATE:20280917
DTEND;VALUE=DATE:20280918
DTSTAMP:20260421T151918
CREATED:20250623T171301Z
LAST-MODIFIED:20250623T171301Z
UID:10001432-1852761600-1852847999@danvillechurch.org
SUMMARY:Ingathering Sunday
DESCRIPTION:
URL:https://danvillechurch.org/event/ingathering-sunday/2028-09-17/
LOCATION:CA
CATEGORIES:Worship
ATTACH;FMTTYPE=image/png:https://danvillechurch.org/wp-content/uploads/2025/06/ingatheringsunday.png
END:VEVENT
BEGIN:VEVENT
DTSTART;TZID=America/Los_Angeles:20280917T093000
DTEND;TZID=America/Los_Angeles:20280917T223000
DTSTAMP:20260421T151918
CREATED:20250623T162746Z
LAST-MODIFIED:20250916T180509Z
UID:10000820-1852795800-1852842600@danvillechurch.org
SUMMARY:Worship
DESCRIPTION:
URL:https://danvillechurch.org/event/worship/2028-09-17/
LOCATION:Sanctuary\, 989 San Ramon Valley Blvd\, Danville\, CA\, 94526\, United States
CATEGORIES:Worship
ATTACH;FMTTYPE=image/png:https://danvillechurch.org/wp-content/uploads/2025/06/1-1.png
END:VEVENT
BEGIN:VEVENT
DTSTART;TZID=America/Los_Angeles:20280920T100000
DTEND;TZID=America/Los_Angeles:20280920T110000
DTSTAMP:20260421T151918
CREATED:20250623T160949Z
LAST-MODIFIED:20251210T183750Z
UID:10000439-1853056800-1853060400@danvillechurch.org
SUMMARY:Wednesday Morning Prayer
DESCRIPTION:Please contact the office for Zoom login credentials.
URL:https://danvillechurch.org/event/wednesday-morning-prayer/2028-09-20/
LOCATION:Sanctuary\, 989 San Ramon Valley Blvd\, Danville\, CA\, 94526\, United States
CATEGORIES:Worship
ATTACH;FMTTYPE=image/png:https://danvillechurch.org/wp-content/uploads/2025/06/5-1.png
END:VEVENT
BEGIN:VEVENT
DTSTART;TZID=America/Los_Angeles:20280924T093000
DTEND;TZID=America/Los_Angeles:20280924T223000
DTSTAMP:20260421T151918
CREATED:20250623T162746Z
LAST-MODIFIED:20250916T180509Z
UID:10000821-1853400600-1853447400@danvillechurch.org
SUMMARY:Worship
DESCRIPTION:
URL:https://danvillechurch.org/event/worship/2028-09-24/
LOCATION:Sanctuary\, 989 San Ramon Valley Blvd\, Danville\, CA\, 94526\, United States
CATEGORIES:Worship
ATTACH;FMTTYPE=image/png:https://danvillechurch.org/wp-content/uploads/2025/06/1-1.png
END:VEVENT
BEGIN:VEVENT
DTSTART;TZID=America/Los_Angeles:20280927T100000
DTEND;TZID=America/Los_Angeles:20280927T110000
DTSTAMP:20260421T151918
CREATED:20250623T160949Z
LAST-MODIFIED:20251210T183750Z
UID:10000440-1853661600-1853665200@danvillechurch.org
SUMMARY:Wednesday Morning Prayer
DESCRIPTION:Please contact the office for Zoom login credentials.
URL:https://danvillechurch.org/event/wednesday-morning-prayer/2028-09-27/
LOCATION:Sanctuary\, 989 San Ramon Valley Blvd\, Danville\, CA\, 94526\, United States
CATEGORIES:Worship
ATTACH;FMTTYPE=image/png:https://danvillechurch.org/wp-content/uploads/2025/06/5-1.png
END:VEVENT
BEGIN:VEVENT
DTSTART;VALUE=DATE:20281001
DTEND;VALUE=DATE:20281002
DTSTAMP:20260421T151918
CREATED:20250623T163757Z
LAST-MODIFIED:20250623T163757Z
UID:10000952-1853971200-1854057599@danvillechurch.org
SUMMARY:Communion Sunday
DESCRIPTION:
URL:https://danvillechurch.org/event/communion-sunday/2028-10-01/
LOCATION:Sanctuary\, 989 San Ramon Valley Blvd\, Danville\, CA\, 94526\, United States
CATEGORIES:Worship
ATTACH;FMTTYPE=image/png:https://danvillechurch.org/wp-content/uploads/2025/06/communion.png
END:VEVENT
BEGIN:VEVENT
DTSTART;TZID=America/Los_Angeles:20281001T093000
DTEND;TZID=America/Los_Angeles:20281001T223000
DTSTAMP:20260421T151918
CREATED:20250623T162746Z
LAST-MODIFIED:20250916T180509Z
UID:10000822-1854005400-1854052200@danvillechurch.org
SUMMARY:Worship
DESCRIPTION:
URL:https://danvillechurch.org/event/worship/2028-10-01/
LOCATION:Sanctuary\, 989 San Ramon Valley Blvd\, Danville\, CA\, 94526\, United States
CATEGORIES:Worship
ATTACH;FMTTYPE=image/png:https://danvillechurch.org/wp-content/uploads/2025/06/1-1.png
END:VEVENT
BEGIN:VEVENT
DTSTART;TZID=America/Los_Angeles:20281004T100000
DTEND;TZID=America/Los_Angeles:20281004T110000
DTSTAMP:20260421T151918
CREATED:20250623T160949Z
LAST-MODIFIED:20251210T183750Z
UID:10000441-1854266400-1854270000@danvillechurch.org
SUMMARY:Wednesday Morning Prayer
DESCRIPTION:Please contact the office for Zoom login credentials.
URL:https://danvillechurch.org/event/wednesday-morning-prayer/2028-10-04/
LOCATION:Sanctuary\, 989 San Ramon Valley Blvd\, Danville\, CA\, 94526\, United States
CATEGORIES:Worship
ATTACH;FMTTYPE=image/png:https://danvillechurch.org/wp-content/uploads/2025/06/5-1.png
END:VEVENT
BEGIN:VEVENT
DTSTART;TZID=America/Los_Angeles:20281008T093000
DTEND;TZID=America/Los_Angeles:20281008T223000
DTSTAMP:20260421T151918
CREATED:20250623T162746Z
LAST-MODIFIED:20250916T180509Z
UID:10000823-1854610200-1854657000@danvillechurch.org
SUMMARY:Worship
DESCRIPTION:
URL:https://danvillechurch.org/event/worship/2028-10-08/
LOCATION:Sanctuary\, 989 San Ramon Valley Blvd\, Danville\, CA\, 94526\, United States
CATEGORIES:Worship
ATTACH;FMTTYPE=image/png:https://danvillechurch.org/wp-content/uploads/2025/06/1-1.png
END:VEVENT
BEGIN:VEVENT
DTSTART;TZID=America/Los_Angeles:20281011T100000
DTEND;TZID=America/Los_Angeles:20281011T110000
DTSTAMP:20260421T151918
CREATED:20250623T160949Z
LAST-MODIFIED:20251210T183750Z
UID:10000442-1854871200-1854874800@danvillechurch.org
SUMMARY:Wednesday Morning Prayer
DESCRIPTION:Please contact the office for Zoom login credentials.
URL:https://danvillechurch.org/event/wednesday-morning-prayer/2028-10-11/
LOCATION:Sanctuary\, 989 San Ramon Valley Blvd\, Danville\, CA\, 94526\, United States
CATEGORIES:Worship
ATTACH;FMTTYPE=image/png:https://danvillechurch.org/wp-content/uploads/2025/06/5-1.png
END:VEVENT
BEGIN:VEVENT
DTSTART;VALUE=DATE:20281015
DTEND;VALUE=DATE:20281016
DTSTAMP:20260421T151918
CREATED:20250623T171301Z
LAST-MODIFIED:20250623T171301Z
UID:10001433-1855180800-1855267199@danvillechurch.org
SUMMARY:Ingathering Sunday
DESCRIPTION:
URL:https://danvillechurch.org/event/ingathering-sunday/2028-10-15/
LOCATION:CA
CATEGORIES:Worship
ATTACH;FMTTYPE=image/png:https://danvillechurch.org/wp-content/uploads/2025/06/ingatheringsunday.png
END:VEVENT
BEGIN:VEVENT
DTSTART;TZID=America/Los_Angeles:20281015T093000
DTEND;TZID=America/Los_Angeles:20281015T223000
DTSTAMP:20260421T151918
CREATED:20250623T162746Z
LAST-MODIFIED:20250916T180509Z
UID:10000824-1855215000-1855261800@danvillechurch.org
SUMMARY:Worship
DESCRIPTION:
URL:https://danvillechurch.org/event/worship/2028-10-15/
LOCATION:Sanctuary\, 989 San Ramon Valley Blvd\, Danville\, CA\, 94526\, United States
CATEGORIES:Worship
ATTACH;FMTTYPE=image/png:https://danvillechurch.org/wp-content/uploads/2025/06/1-1.png
END:VEVENT
BEGIN:VEVENT
DTSTART;TZID=America/Los_Angeles:20281018T100000
DTEND;TZID=America/Los_Angeles:20281018T110000
DTSTAMP:20260421T151918
CREATED:20250623T160949Z
LAST-MODIFIED:20251210T183750Z
UID:10000443-1855476000-1855479600@danvillechurch.org
SUMMARY:Wednesday Morning Prayer
DESCRIPTION:Please contact the office for Zoom login credentials.
URL:https://danvillechurch.org/event/wednesday-morning-prayer/2028-10-18/
LOCATION:Sanctuary\, 989 San Ramon Valley Blvd\, Danville\, CA\, 94526\, United States
CATEGORIES:Worship
ATTACH;FMTTYPE=image/png:https://danvillechurch.org/wp-content/uploads/2025/06/5-1.png
END:VEVENT
BEGIN:VEVENT
DTSTART;TZID=America/Los_Angeles:20281022T093000
DTEND;TZID=America/Los_Angeles:20281022T223000
DTSTAMP:20260421T151918
CREATED:20250623T162746Z
LAST-MODIFIED:20250916T180509Z
UID:10000825-1855819800-1855866600@danvillechurch.org
SUMMARY:Worship
DESCRIPTION:
URL:https://danvillechurch.org/event/worship/2028-10-22/
LOCATION:Sanctuary\, 989 San Ramon Valley Blvd\, Danville\, CA\, 94526\, United States
CATEGORIES:Worship
ATTACH;FMTTYPE=image/png:https://danvillechurch.org/wp-content/uploads/2025/06/1-1.png
END:VEVENT
BEGIN:VEVENT
DTSTART;TZID=America/Los_Angeles:20281025T100000
DTEND;TZID=America/Los_Angeles:20281025T110000
DTSTAMP:20260421T151918
CREATED:20250623T160949Z
LAST-MODIFIED:20251210T183750Z
UID:10000444-1856080800-1856084400@danvillechurch.org
SUMMARY:Wednesday Morning Prayer
DESCRIPTION:Please contact the office for Zoom login credentials.
URL:https://danvillechurch.org/event/wednesday-morning-prayer/2028-10-25/
LOCATION:Sanctuary\, 989 San Ramon Valley Blvd\, Danville\, CA\, 94526\, United States
CATEGORIES:Worship
ATTACH;FMTTYPE=image/png:https://danvillechurch.org/wp-content/uploads/2025/06/5-1.png
END:VEVENT
BEGIN:VEVENT
DTSTART;TZID=America/Los_Angeles:20281029T093000
DTEND;TZID=America/Los_Angeles:20281029T223000
DTSTAMP:20260421T151918
CREATED:20250623T162746Z
LAST-MODIFIED:20250916T180509Z
UID:10000826-1856424600-1856471400@danvillechurch.org
SUMMARY:Worship
DESCRIPTION:
URL:https://danvillechurch.org/event/worship/2028-10-29/
LOCATION:Sanctuary\, 989 San Ramon Valley Blvd\, Danville\, CA\, 94526\, United States
CATEGORIES:Worship
ATTACH;FMTTYPE=image/png:https://danvillechurch.org/wp-content/uploads/2025/06/1-1.png
END:VEVENT
BEGIN:VEVENT
DTSTART;TZID=America/Los_Angeles:20281101T100000
DTEND;TZID=America/Los_Angeles:20281101T110000
DTSTAMP:20260421T151918
CREATED:20250623T160949Z
LAST-MODIFIED:20251210T183750Z
UID:10000445-1856685600-1856689200@danvillechurch.org
SUMMARY:Wednesday Morning Prayer
DESCRIPTION:Please contact the office for Zoom login credentials.
URL:https://danvillechurch.org/event/wednesday-morning-prayer/2028-11-01/
LOCATION:Sanctuary\, 989 San Ramon Valley Blvd\, Danville\, CA\, 94526\, United States
CATEGORIES:Worship
ATTACH;FMTTYPE=image/png:https://danvillechurch.org/wp-content/uploads/2025/06/5-1.png
END:VEVENT
BEGIN:VEVENT
DTSTART;VALUE=DATE:20281105
DTEND;VALUE=DATE:20281106
DTSTAMP:20260421T151918
CREATED:20250623T163757Z
LAST-MODIFIED:20250623T163757Z
UID:10000953-1856995200-1857077999@danvillechurch.org
SUMMARY:Communion Sunday
DESCRIPTION:
URL:https://danvillechurch.org/event/communion-sunday/2028-11-05/
LOCATION:Sanctuary\, 989 San Ramon Valley Blvd\, Danville\, CA\, 94526\, United States
CATEGORIES:Worship
ATTACH;FMTTYPE=image/png:https://danvillechurch.org/wp-content/uploads/2025/06/communion.png
END:VEVENT
BEGIN:VEVENT
DTSTART;TZID=America/Los_Angeles:20281105T093000
DTEND;TZID=America/Los_Angeles:20281105T223000
DTSTAMP:20260421T151918
CREATED:20250623T162746Z
LAST-MODIFIED:20250916T180509Z
UID:10000827-1857029400-1857076200@danvillechurch.org
SUMMARY:Worship
DESCRIPTION:
URL:https://danvillechurch.org/event/worship/2028-11-05/
LOCATION:Sanctuary\, 989 San Ramon Valley Blvd\, Danville\, CA\, 94526\, United States
CATEGORIES:Worship
ATTACH;FMTTYPE=image/png:https://danvillechurch.org/wp-content/uploads/2025/06/1-1.png
END:VEVENT
BEGIN:VEVENT
DTSTART;TZID=America/Los_Angeles:20281108T100000
DTEND;TZID=America/Los_Angeles:20281108T110000
DTSTAMP:20260421T151918
CREATED:20250623T160949Z
LAST-MODIFIED:20251210T183750Z
UID:10000446-1857290400-1857294000@danvillechurch.org
SUMMARY:Wednesday Morning Prayer
DESCRIPTION:Please contact the office for Zoom login credentials.
URL:https://danvillechurch.org/event/wednesday-morning-prayer/2028-11-08/
LOCATION:Sanctuary\, 989 San Ramon Valley Blvd\, Danville\, CA\, 94526\, United States
CATEGORIES:Worship
ATTACH;FMTTYPE=image/png:https://danvillechurch.org/wp-content/uploads/2025/06/5-1.png
END:VEVENT
BEGIN:VEVENT
DTSTART;TZID=America/Los_Angeles:20281112T093000
DTEND;TZID=America/Los_Angeles:20281112T223000
DTSTAMP:20260421T151918
CREATED:20250623T162746Z
LAST-MODIFIED:20250916T180509Z
UID:10000828-1857634200-1857681000@danvillechurch.org
SUMMARY:Worship
DESCRIPTION:
URL:https://danvillechurch.org/event/worship/2028-11-12/
LOCATION:Sanctuary\, 989 San Ramon Valley Blvd\, Danville\, CA\, 94526\, United States
CATEGORIES:Worship
ATTACH;FMTTYPE=image/png:https://danvillechurch.org/wp-content/uploads/2025/06/1-1.png
END:VEVENT
BEGIN:VEVENT
DTSTART;TZID=America/Los_Angeles:20281115T100000
DTEND;TZID=America/Los_Angeles:20281115T110000
DTSTAMP:20260421T151918
CREATED:20250623T160949Z
LAST-MODIFIED:20251210T183750Z
UID:10000447-1857895200-1857898800@danvillechurch.org
SUMMARY:Wednesday Morning Prayer
DESCRIPTION:Please contact the office for Zoom login credentials.
URL:https://danvillechurch.org/event/wednesday-morning-prayer/2028-11-15/
LOCATION:Sanctuary\, 989 San Ramon Valley Blvd\, Danville\, CA\, 94526\, United States
CATEGORIES:Worship
ATTACH;FMTTYPE=image/png:https://danvillechurch.org/wp-content/uploads/2025/06/5-1.png
END:VEVENT
END:VCALENDAR