BEGIN:VCALENDAR
VERSION:2.0
PRODID:-//Danville Congregational Church - ECPv6.15.20//NONSGML v1.0//EN
CALSCALE:GREGORIAN
METHOD:PUBLISH
X-WR-CALNAME:Danville Congregational Church
X-ORIGINAL-URL:https://danvillechurch.org
X-WR-CALDESC:Events for Danville Congregational Church
REFRESH-INTERVAL;VALUE=DURATION:PT1H
X-Robots-Tag:noindex
X-PUBLISHED-TTL:PT1H
BEGIN:VTIMEZONE
TZID:America/Los_Angeles
BEGIN:DAYLIGHT
TZOFFSETFROM:-0800
TZOFFSETTO:-0700
TZNAME:PDT
DTSTART:20270314T100000
END:DAYLIGHT
BEGIN:STANDARD
TZOFFSETFROM:-0700
TZOFFSETTO:-0800
TZNAME:PST
DTSTART:20271107T090000
END:STANDARD
BEGIN:DAYLIGHT
TZOFFSETFROM:-0800
TZOFFSETTO:-0700
TZNAME:PDT
DTSTART:20280312T100000
END:DAYLIGHT
BEGIN:STANDARD
TZOFFSETFROM:-0700
TZOFFSETTO:-0800
TZNAME:PST
DTSTART:20281105T090000
END:STANDARD
BEGIN:DAYLIGHT
TZOFFSETFROM:-0800
TZOFFSETTO:-0700
TZNAME:PDT
DTSTART:20290311T100000
END:DAYLIGHT
BEGIN:STANDARD
TZOFFSETFROM:-0700
TZOFFSETTO:-0800
TZNAME:PST
DTSTART:20291104T090000
END:STANDARD
END:VTIMEZONE
BEGIN:VEVENT
DTSTART;TZID=America/Los_Angeles:20280409T093000
DTEND;TZID=America/Los_Angeles:20280409T223000
DTSTAMP:20260420T063132
CREATED:20250623T162746Z
LAST-MODIFIED:20250916T180509Z
UID:10000797-1838885400-1838932200@danvillechurch.org
SUMMARY:Worship
DESCRIPTION:
URL:https://danvillechurch.org/event/worship/2028-04-09/
LOCATION:Sanctuary\, 989 San Ramon Valley Blvd\, Danville\, CA\, 94526\, United States
CATEGORIES:Worship
ATTACH;FMTTYPE=image/png:https://danvillechurch.org/wp-content/uploads/2025/06/1-1.png
END:VEVENT
BEGIN:VEVENT
DTSTART;TZID=America/Los_Angeles:20280412T100000
DTEND;TZID=America/Los_Angeles:20280412T110000
DTSTAMP:20260420T063132
CREATED:20250623T160949Z
LAST-MODIFIED:20251210T183750Z
UID:10000416-1839146400-1839150000@danvillechurch.org
SUMMARY:Wednesday Morning Prayer
DESCRIPTION:Please contact the office for Zoom login credentials.
URL:https://danvillechurch.org/event/wednesday-morning-prayer/2028-04-12/
LOCATION:Sanctuary\, 989 San Ramon Valley Blvd\, Danville\, CA\, 94526\, United States
CATEGORIES:Worship
ATTACH;FMTTYPE=image/png:https://danvillechurch.org/wp-content/uploads/2025/06/5-1.png
END:VEVENT
BEGIN:VEVENT
DTSTART;VALUE=DATE:20280416
DTEND;VALUE=DATE:20280417
DTSTAMP:20260420T063132
CREATED:20250623T171301Z
LAST-MODIFIED:20250623T171301Z
UID:10001427-1839456000-1839542399@danvillechurch.org
SUMMARY:Ingathering Sunday
DESCRIPTION:
URL:https://danvillechurch.org/event/ingathering-sunday/2028-04-16/
LOCATION:CA
CATEGORIES:Worship
ATTACH;FMTTYPE=image/png:https://danvillechurch.org/wp-content/uploads/2025/06/ingatheringsunday.png
END:VEVENT
BEGIN:VEVENT
DTSTART;TZID=America/Los_Angeles:20280416T093000
DTEND;TZID=America/Los_Angeles:20280416T223000
DTSTAMP:20260420T063132
CREATED:20250623T162746Z
LAST-MODIFIED:20250916T180509Z
UID:10000798-1839490200-1839537000@danvillechurch.org
SUMMARY:Worship
DESCRIPTION:
URL:https://danvillechurch.org/event/worship/2028-04-16/
LOCATION:Sanctuary\, 989 San Ramon Valley Blvd\, Danville\, CA\, 94526\, United States
CATEGORIES:Worship
ATTACH;FMTTYPE=image/png:https://danvillechurch.org/wp-content/uploads/2025/06/1-1.png
END:VEVENT
BEGIN:VEVENT
DTSTART;TZID=America/Los_Angeles:20280419T100000
DTEND;TZID=America/Los_Angeles:20280419T110000
DTSTAMP:20260420T063132
CREATED:20250623T160949Z
LAST-MODIFIED:20251210T183750Z
UID:10000417-1839751200-1839754800@danvillechurch.org
SUMMARY:Wednesday Morning Prayer
DESCRIPTION:Please contact the office for Zoom login credentials.
URL:https://danvillechurch.org/event/wednesday-morning-prayer/2028-04-19/
LOCATION:Sanctuary\, 989 San Ramon Valley Blvd\, Danville\, CA\, 94526\, United States
CATEGORIES:Worship
ATTACH;FMTTYPE=image/png:https://danvillechurch.org/wp-content/uploads/2025/06/5-1.png
END:VEVENT
BEGIN:VEVENT
DTSTART;TZID=America/Los_Angeles:20280423T093000
DTEND;TZID=America/Los_Angeles:20280423T223000
DTSTAMP:20260420T063132
CREATED:20250623T162746Z
LAST-MODIFIED:20250916T180509Z
UID:10000799-1840095000-1840141800@danvillechurch.org
SUMMARY:Worship
DESCRIPTION:
URL:https://danvillechurch.org/event/worship/2028-04-23/
LOCATION:Sanctuary\, 989 San Ramon Valley Blvd\, Danville\, CA\, 94526\, United States
CATEGORIES:Worship
ATTACH;FMTTYPE=image/png:https://danvillechurch.org/wp-content/uploads/2025/06/1-1.png
END:VEVENT
BEGIN:VEVENT
DTSTART;TZID=America/Los_Angeles:20280426T100000
DTEND;TZID=America/Los_Angeles:20280426T110000
DTSTAMP:20260420T063132
CREATED:20250623T160949Z
LAST-MODIFIED:20251210T183750Z
UID:10000418-1840356000-1840359600@danvillechurch.org
SUMMARY:Wednesday Morning Prayer
DESCRIPTION:Please contact the office for Zoom login credentials.
URL:https://danvillechurch.org/event/wednesday-morning-prayer/2028-04-26/
LOCATION:Sanctuary\, 989 San Ramon Valley Blvd\, Danville\, CA\, 94526\, United States
CATEGORIES:Worship
ATTACH;FMTTYPE=image/png:https://danvillechurch.org/wp-content/uploads/2025/06/5-1.png
END:VEVENT
BEGIN:VEVENT
DTSTART;TZID=America/Los_Angeles:20280430T093000
DTEND;TZID=America/Los_Angeles:20280430T223000
DTSTAMP:20260420T063132
CREATED:20250623T162746Z
LAST-MODIFIED:20250916T180509Z
UID:10000800-1840699800-1840746600@danvillechurch.org
SUMMARY:Worship
DESCRIPTION:
URL:https://danvillechurch.org/event/worship/2028-04-30/
LOCATION:Sanctuary\, 989 San Ramon Valley Blvd\, Danville\, CA\, 94526\, United States
CATEGORIES:Worship
ATTACH;FMTTYPE=image/png:https://danvillechurch.org/wp-content/uploads/2025/06/1-1.png
END:VEVENT
BEGIN:VEVENT
DTSTART;TZID=America/Los_Angeles:20280503T100000
DTEND;TZID=America/Los_Angeles:20280503T110000
DTSTAMP:20260420T063132
CREATED:20250623T160949Z
LAST-MODIFIED:20251210T183750Z
UID:10000419-1840960800-1840964400@danvillechurch.org
SUMMARY:Wednesday Morning Prayer
DESCRIPTION:Please contact the office for Zoom login credentials.
URL:https://danvillechurch.org/event/wednesday-morning-prayer/2028-05-03/
LOCATION:Sanctuary\, 989 San Ramon Valley Blvd\, Danville\, CA\, 94526\, United States
CATEGORIES:Worship
ATTACH;FMTTYPE=image/png:https://danvillechurch.org/wp-content/uploads/2025/06/5-1.png
END:VEVENT
BEGIN:VEVENT
DTSTART;VALUE=DATE:20280507
DTEND;VALUE=DATE:20280508
DTSTAMP:20260420T063132
CREATED:20250623T163757Z
LAST-MODIFIED:20250623T163757Z
UID:10000947-1841270400-1841356799@danvillechurch.org
SUMMARY:Communion Sunday
DESCRIPTION:
URL:https://danvillechurch.org/event/communion-sunday/2028-05-07/
LOCATION:Sanctuary\, 989 San Ramon Valley Blvd\, Danville\, CA\, 94526\, United States
CATEGORIES:Worship
ATTACH;FMTTYPE=image/png:https://danvillechurch.org/wp-content/uploads/2025/06/communion.png
END:VEVENT
BEGIN:VEVENT
DTSTART;TZID=America/Los_Angeles:20280507T093000
DTEND;TZID=America/Los_Angeles:20280507T223000
DTSTAMP:20260420T063132
CREATED:20250623T162746Z
LAST-MODIFIED:20250916T180509Z
UID:10000801-1841304600-1841351400@danvillechurch.org
SUMMARY:Worship
DESCRIPTION:
URL:https://danvillechurch.org/event/worship/2028-05-07/
LOCATION:Sanctuary\, 989 San Ramon Valley Blvd\, Danville\, CA\, 94526\, United States
CATEGORIES:Worship
ATTACH;FMTTYPE=image/png:https://danvillechurch.org/wp-content/uploads/2025/06/1-1.png
END:VEVENT
BEGIN:VEVENT
DTSTART;TZID=America/Los_Angeles:20280510T100000
DTEND;TZID=America/Los_Angeles:20280510T110000
DTSTAMP:20260420T063132
CREATED:20250623T160949Z
LAST-MODIFIED:20251210T183750Z
UID:10000420-1841565600-1841569200@danvillechurch.org
SUMMARY:Wednesday Morning Prayer
DESCRIPTION:Please contact the office for Zoom login credentials.
URL:https://danvillechurch.org/event/wednesday-morning-prayer/2028-05-10/
LOCATION:Sanctuary\, 989 San Ramon Valley Blvd\, Danville\, CA\, 94526\, United States
CATEGORIES:Worship
ATTACH;FMTTYPE=image/png:https://danvillechurch.org/wp-content/uploads/2025/06/5-1.png
END:VEVENT
BEGIN:VEVENT
DTSTART;TZID=America/Los_Angeles:20280514T093000
DTEND;TZID=America/Los_Angeles:20280514T223000
DTSTAMP:20260420T063132
CREATED:20250623T162746Z
LAST-MODIFIED:20250916T180509Z
UID:10000802-1841909400-1841956200@danvillechurch.org
SUMMARY:Worship
DESCRIPTION:
URL:https://danvillechurch.org/event/worship/2028-05-14/
LOCATION:Sanctuary\, 989 San Ramon Valley Blvd\, Danville\, CA\, 94526\, United States
CATEGORIES:Worship
ATTACH;FMTTYPE=image/png:https://danvillechurch.org/wp-content/uploads/2025/06/1-1.png
END:VEVENT
BEGIN:VEVENT
DTSTART;TZID=America/Los_Angeles:20280517T100000
DTEND;TZID=America/Los_Angeles:20280517T110000
DTSTAMP:20260420T063132
CREATED:20250623T160949Z
LAST-MODIFIED:20251210T183750Z
UID:10000421-1842170400-1842174000@danvillechurch.org
SUMMARY:Wednesday Morning Prayer
DESCRIPTION:Please contact the office for Zoom login credentials.
URL:https://danvillechurch.org/event/wednesday-morning-prayer/2028-05-17/
LOCATION:Sanctuary\, 989 San Ramon Valley Blvd\, Danville\, CA\, 94526\, United States
CATEGORIES:Worship
ATTACH;FMTTYPE=image/png:https://danvillechurch.org/wp-content/uploads/2025/06/5-1.png
END:VEVENT
BEGIN:VEVENT
DTSTART;VALUE=DATE:20280521
DTEND;VALUE=DATE:20280522
DTSTAMP:20260420T063132
CREATED:20250623T171301Z
LAST-MODIFIED:20250623T171301Z
UID:10001428-1842480000-1842566399@danvillechurch.org
SUMMARY:Ingathering Sunday
DESCRIPTION:
URL:https://danvillechurch.org/event/ingathering-sunday/2028-05-21/
LOCATION:CA
CATEGORIES:Worship
ATTACH;FMTTYPE=image/png:https://danvillechurch.org/wp-content/uploads/2025/06/ingatheringsunday.png
END:VEVENT
BEGIN:VEVENT
DTSTART;TZID=America/Los_Angeles:20280521T093000
DTEND;TZID=America/Los_Angeles:20280521T223000
DTSTAMP:20260420T063132
CREATED:20250623T162746Z
LAST-MODIFIED:20250916T180509Z
UID:10000803-1842514200-1842561000@danvillechurch.org
SUMMARY:Worship
DESCRIPTION:
URL:https://danvillechurch.org/event/worship/2028-05-21/
LOCATION:Sanctuary\, 989 San Ramon Valley Blvd\, Danville\, CA\, 94526\, United States
CATEGORIES:Worship
ATTACH;FMTTYPE=image/png:https://danvillechurch.org/wp-content/uploads/2025/06/1-1.png
END:VEVENT
BEGIN:VEVENT
DTSTART;TZID=America/Los_Angeles:20280524T100000
DTEND;TZID=America/Los_Angeles:20280524T110000
DTSTAMP:20260420T063132
CREATED:20250623T160949Z
LAST-MODIFIED:20251210T183750Z
UID:10000422-1842775200-1842778800@danvillechurch.org
SUMMARY:Wednesday Morning Prayer
DESCRIPTION:Please contact the office for Zoom login credentials.
URL:https://danvillechurch.org/event/wednesday-morning-prayer/2028-05-24/
LOCATION:Sanctuary\, 989 San Ramon Valley Blvd\, Danville\, CA\, 94526\, United States
CATEGORIES:Worship
ATTACH;FMTTYPE=image/png:https://danvillechurch.org/wp-content/uploads/2025/06/5-1.png
END:VEVENT
BEGIN:VEVENT
DTSTART;TZID=America/Los_Angeles:20280528T093000
DTEND;TZID=America/Los_Angeles:20280528T223000
DTSTAMP:20260420T063132
CREATED:20250623T162746Z
LAST-MODIFIED:20250916T180509Z
UID:10000804-1843119000-1843165800@danvillechurch.org
SUMMARY:Worship
DESCRIPTION:
URL:https://danvillechurch.org/event/worship/2028-05-28/
LOCATION:Sanctuary\, 989 San Ramon Valley Blvd\, Danville\, CA\, 94526\, United States
CATEGORIES:Worship
ATTACH;FMTTYPE=image/png:https://danvillechurch.org/wp-content/uploads/2025/06/1-1.png
END:VEVENT
BEGIN:VEVENT
DTSTART;TZID=America/Los_Angeles:20280531T100000
DTEND;TZID=America/Los_Angeles:20280531T110000
DTSTAMP:20260420T063132
CREATED:20250623T160949Z
LAST-MODIFIED:20251210T183750Z
UID:10000423-1843380000-1843383600@danvillechurch.org
SUMMARY:Wednesday Morning Prayer
DESCRIPTION:Please contact the office for Zoom login credentials.
URL:https://danvillechurch.org/event/wednesday-morning-prayer/2028-05-31/
LOCATION:Sanctuary\, 989 San Ramon Valley Blvd\, Danville\, CA\, 94526\, United States
CATEGORIES:Worship
ATTACH;FMTTYPE=image/png:https://danvillechurch.org/wp-content/uploads/2025/06/5-1.png
END:VEVENT
BEGIN:VEVENT
DTSTART;VALUE=DATE:20280604
DTEND;VALUE=DATE:20280605
DTSTAMP:20260420T063132
CREATED:20250623T163757Z
LAST-MODIFIED:20250623T163757Z
UID:10000948-1843689600-1843775999@danvillechurch.org
SUMMARY:Communion Sunday
DESCRIPTION:
URL:https://danvillechurch.org/event/communion-sunday/2028-06-04/
LOCATION:Sanctuary\, 989 San Ramon Valley Blvd\, Danville\, CA\, 94526\, United States
CATEGORIES:Worship
ATTACH;FMTTYPE=image/png:https://danvillechurch.org/wp-content/uploads/2025/06/communion.png
END:VEVENT
BEGIN:VEVENT
DTSTART;TZID=America/Los_Angeles:20280604T093000
DTEND;TZID=America/Los_Angeles:20280604T223000
DTSTAMP:20260420T063132
CREATED:20250623T162746Z
LAST-MODIFIED:20250916T180509Z
UID:10000805-1843723800-1843770600@danvillechurch.org
SUMMARY:Worship
DESCRIPTION:
URL:https://danvillechurch.org/event/worship/2028-06-04/
LOCATION:Sanctuary\, 989 San Ramon Valley Blvd\, Danville\, CA\, 94526\, United States
CATEGORIES:Worship
ATTACH;FMTTYPE=image/png:https://danvillechurch.org/wp-content/uploads/2025/06/1-1.png
END:VEVENT
BEGIN:VEVENT
DTSTART;TZID=America/Los_Angeles:20280607T100000
DTEND;TZID=America/Los_Angeles:20280607T110000
DTSTAMP:20260420T063132
CREATED:20250623T160949Z
LAST-MODIFIED:20251210T183750Z
UID:10000424-1843984800-1843988400@danvillechurch.org
SUMMARY:Wednesday Morning Prayer
DESCRIPTION:Please contact the office for Zoom login credentials.
URL:https://danvillechurch.org/event/wednesday-morning-prayer/2028-06-07/
LOCATION:Sanctuary\, 989 San Ramon Valley Blvd\, Danville\, CA\, 94526\, United States
CATEGORIES:Worship
ATTACH;FMTTYPE=image/png:https://danvillechurch.org/wp-content/uploads/2025/06/5-1.png
END:VEVENT
BEGIN:VEVENT
DTSTART;TZID=America/Los_Angeles:20280611T093000
DTEND;TZID=America/Los_Angeles:20280611T223000
DTSTAMP:20260420T063132
CREATED:20250623T162746Z
LAST-MODIFIED:20250916T180509Z
UID:10000806-1844328600-1844375400@danvillechurch.org
SUMMARY:Worship
DESCRIPTION:
URL:https://danvillechurch.org/event/worship/2028-06-11/
LOCATION:Sanctuary\, 989 San Ramon Valley Blvd\, Danville\, CA\, 94526\, United States
CATEGORIES:Worship
ATTACH;FMTTYPE=image/png:https://danvillechurch.org/wp-content/uploads/2025/06/1-1.png
END:VEVENT
BEGIN:VEVENT
DTSTART;TZID=America/Los_Angeles:20280614T100000
DTEND;TZID=America/Los_Angeles:20280614T110000
DTSTAMP:20260420T063132
CREATED:20250623T160949Z
LAST-MODIFIED:20251210T183750Z
UID:10000425-1844589600-1844593200@danvillechurch.org
SUMMARY:Wednesday Morning Prayer
DESCRIPTION:Please contact the office for Zoom login credentials.
URL:https://danvillechurch.org/event/wednesday-morning-prayer/2028-06-14/
LOCATION:Sanctuary\, 989 San Ramon Valley Blvd\, Danville\, CA\, 94526\, United States
CATEGORIES:Worship
ATTACH;FMTTYPE=image/png:https://danvillechurch.org/wp-content/uploads/2025/06/5-1.png
END:VEVENT
BEGIN:VEVENT
DTSTART;VALUE=DATE:20280618
DTEND;VALUE=DATE:20280619
DTSTAMP:20260420T063132
CREATED:20250623T171301Z
LAST-MODIFIED:20250623T171301Z
UID:10001429-1844899200-1844985599@danvillechurch.org
SUMMARY:Ingathering Sunday
DESCRIPTION:
URL:https://danvillechurch.org/event/ingathering-sunday/2028-06-18/
LOCATION:CA
CATEGORIES:Worship
ATTACH;FMTTYPE=image/png:https://danvillechurch.org/wp-content/uploads/2025/06/ingatheringsunday.png
END:VEVENT
BEGIN:VEVENT
DTSTART;TZID=America/Los_Angeles:20280618T093000
DTEND;TZID=America/Los_Angeles:20280618T223000
DTSTAMP:20260420T063132
CREATED:20250623T162746Z
LAST-MODIFIED:20250916T180509Z
UID:10000807-1844933400-1844980200@danvillechurch.org
SUMMARY:Worship
DESCRIPTION:
URL:https://danvillechurch.org/event/worship/2028-06-18/
LOCATION:Sanctuary\, 989 San Ramon Valley Blvd\, Danville\, CA\, 94526\, United States
CATEGORIES:Worship
ATTACH;FMTTYPE=image/png:https://danvillechurch.org/wp-content/uploads/2025/06/1-1.png
END:VEVENT
BEGIN:VEVENT
DTSTART;TZID=America/Los_Angeles:20280621T100000
DTEND;TZID=America/Los_Angeles:20280621T110000
DTSTAMP:20260420T063132
CREATED:20250623T160949Z
LAST-MODIFIED:20251210T183750Z
UID:10000426-1845194400-1845198000@danvillechurch.org
SUMMARY:Wednesday Morning Prayer
DESCRIPTION:Please contact the office for Zoom login credentials.
URL:https://danvillechurch.org/event/wednesday-morning-prayer/2028-06-21/
LOCATION:Sanctuary\, 989 San Ramon Valley Blvd\, Danville\, CA\, 94526\, United States
CATEGORIES:Worship
ATTACH;FMTTYPE=image/png:https://danvillechurch.org/wp-content/uploads/2025/06/5-1.png
END:VEVENT
BEGIN:VEVENT
DTSTART;TZID=America/Los_Angeles:20280625T093000
DTEND;TZID=America/Los_Angeles:20280625T223000
DTSTAMP:20260420T063132
CREATED:20250623T162746Z
LAST-MODIFIED:20250916T180509Z
UID:10000808-1845538200-1845585000@danvillechurch.org
SUMMARY:Worship
DESCRIPTION:
URL:https://danvillechurch.org/event/worship/2028-06-25/
LOCATION:Sanctuary\, 989 San Ramon Valley Blvd\, Danville\, CA\, 94526\, United States
CATEGORIES:Worship
ATTACH;FMTTYPE=image/png:https://danvillechurch.org/wp-content/uploads/2025/06/1-1.png
END:VEVENT
BEGIN:VEVENT
DTSTART;TZID=America/Los_Angeles:20280628T100000
DTEND;TZID=America/Los_Angeles:20280628T110000
DTSTAMP:20260420T063132
CREATED:20250623T160949Z
LAST-MODIFIED:20251210T183750Z
UID:10000427-1845799200-1845802800@danvillechurch.org
SUMMARY:Wednesday Morning Prayer
DESCRIPTION:Please contact the office for Zoom login credentials.
URL:https://danvillechurch.org/event/wednesday-morning-prayer/2028-06-28/
LOCATION:Sanctuary\, 989 San Ramon Valley Blvd\, Danville\, CA\, 94526\, United States
CATEGORIES:Worship
ATTACH;FMTTYPE=image/png:https://danvillechurch.org/wp-content/uploads/2025/06/5-1.png
END:VEVENT
BEGIN:VEVENT
DTSTART;VALUE=DATE:20280702
DTEND;VALUE=DATE:20280703
DTSTAMP:20260420T063132
CREATED:20250623T163757Z
LAST-MODIFIED:20250623T163757Z
UID:10000949-1846108800-1846195199@danvillechurch.org
SUMMARY:Communion Sunday
DESCRIPTION:
URL:https://danvillechurch.org/event/communion-sunday/2028-07-02/
LOCATION:Sanctuary\, 989 San Ramon Valley Blvd\, Danville\, CA\, 94526\, United States
CATEGORIES:Worship
ATTACH;FMTTYPE=image/png:https://danvillechurch.org/wp-content/uploads/2025/06/communion.png
END:VEVENT
END:VCALENDAR