BEGIN:VCALENDAR
VERSION:2.0
PRODID:-//Danville Congregational Church - ECPv6.15.20//NONSGML v1.0//EN
CALSCALE:GREGORIAN
METHOD:PUBLISH
X-WR-CALNAME:Danville Congregational Church
X-ORIGINAL-URL:https://danvillechurch.org
X-WR-CALDESC:Events for Danville Congregational Church
REFRESH-INTERVAL;VALUE=DURATION:PT1H
X-Robots-Tag:noindex
X-PUBLISHED-TTL:PT1H
BEGIN:VTIMEZONE
TZID:America/Los_Angeles
BEGIN:DAYLIGHT
TZOFFSETFROM:-0800
TZOFFSETTO:-0700
TZNAME:PDT
DTSTART:20260308T100000
END:DAYLIGHT
BEGIN:STANDARD
TZOFFSETFROM:-0700
TZOFFSETTO:-0800
TZNAME:PST
DTSTART:20261101T090000
END:STANDARD
BEGIN:DAYLIGHT
TZOFFSETFROM:-0800
TZOFFSETTO:-0700
TZNAME:PDT
DTSTART:20270314T100000
END:DAYLIGHT
BEGIN:STANDARD
TZOFFSETFROM:-0700
TZOFFSETTO:-0800
TZNAME:PST
DTSTART:20271107T090000
END:STANDARD
BEGIN:DAYLIGHT
TZOFFSETFROM:-0800
TZOFFSETTO:-0700
TZNAME:PDT
DTSTART:20280312T100000
END:DAYLIGHT
BEGIN:STANDARD
TZOFFSETFROM:-0700
TZOFFSETTO:-0800
TZNAME:PST
DTSTART:20281105T090000
END:STANDARD
END:VTIMEZONE
BEGIN:VEVENT
DTSTART;VALUE=DATE:20270704
DTEND;VALUE=DATE:20270705
DTSTAMP:20260425T060100
CREATED:20250623T163757Z
LAST-MODIFIED:20250623T163757Z
UID:10000937-1814659200-1814745599@danvillechurch.org
SUMMARY:Communion Sunday
DESCRIPTION:
URL:https://danvillechurch.org/event/communion-sunday/2027-07-04/
LOCATION:Sanctuary\, 989 San Ramon Valley Blvd\, Danville\, CA\, 94526\, United States
CATEGORIES:Worship
ATTACH;FMTTYPE=image/png:https://danvillechurch.org/wp-content/uploads/2025/06/communion.png
END:VEVENT
BEGIN:VEVENT
DTSTART;TZID=America/Los_Angeles:20270704T093000
DTEND;TZID=America/Los_Angeles:20270704T223000
DTSTAMP:20260425T060100
CREATED:20250623T162746Z
LAST-MODIFIED:20250916T180509Z
UID:10000757-1814693400-1814740200@danvillechurch.org
SUMMARY:Worship
DESCRIPTION:
URL:https://danvillechurch.org/event/worship/2027-07-04/
LOCATION:Sanctuary\, 989 San Ramon Valley Blvd\, Danville\, CA\, 94526\, United States
CATEGORIES:Worship
ATTACH;FMTTYPE=image/png:https://danvillechurch.org/wp-content/uploads/2025/06/1-1.png
END:VEVENT
BEGIN:VEVENT
DTSTART;TZID=America/Los_Angeles:20270707T100000
DTEND;TZID=America/Los_Angeles:20270707T110000
DTSTAMP:20260425T060100
CREATED:20250623T160949Z
LAST-MODIFIED:20251210T183750Z
UID:10000376-1814954400-1814958000@danvillechurch.org
SUMMARY:Wednesday Morning Prayer
DESCRIPTION:Please contact the office for Zoom login credentials.
URL:https://danvillechurch.org/event/wednesday-morning-prayer/2027-07-07/
LOCATION:Sanctuary\, 989 San Ramon Valley Blvd\, Danville\, CA\, 94526\, United States
CATEGORIES:Worship
ATTACH;FMTTYPE=image/png:https://danvillechurch.org/wp-content/uploads/2025/06/5-1.png
END:VEVENT
BEGIN:VEVENT
DTSTART;TZID=America/Los_Angeles:20270711T093000
DTEND;TZID=America/Los_Angeles:20270711T223000
DTSTAMP:20260425T060100
CREATED:20250623T162746Z
LAST-MODIFIED:20250916T180509Z
UID:10000758-1815298200-1815345000@danvillechurch.org
SUMMARY:Worship
DESCRIPTION:
URL:https://danvillechurch.org/event/worship/2027-07-11/
LOCATION:Sanctuary\, 989 San Ramon Valley Blvd\, Danville\, CA\, 94526\, United States
CATEGORIES:Worship
ATTACH;FMTTYPE=image/png:https://danvillechurch.org/wp-content/uploads/2025/06/1-1.png
END:VEVENT
BEGIN:VEVENT
DTSTART;TZID=America/Los_Angeles:20270714T100000
DTEND;TZID=America/Los_Angeles:20270714T110000
DTSTAMP:20260425T060100
CREATED:20250623T160949Z
LAST-MODIFIED:20251210T183750Z
UID:10000377-1815559200-1815562800@danvillechurch.org
SUMMARY:Wednesday Morning Prayer
DESCRIPTION:Please contact the office for Zoom login credentials.
URL:https://danvillechurch.org/event/wednesday-morning-prayer/2027-07-14/
LOCATION:Sanctuary\, 989 San Ramon Valley Blvd\, Danville\, CA\, 94526\, United States
CATEGORIES:Worship
ATTACH;FMTTYPE=image/png:https://danvillechurch.org/wp-content/uploads/2025/06/5-1.png
END:VEVENT
BEGIN:VEVENT
DTSTART;VALUE=DATE:20270718
DTEND;VALUE=DATE:20270719
DTSTAMP:20260425T060100
CREATED:20250623T171301Z
LAST-MODIFIED:20250623T171301Z
UID:10001418-1815868800-1815955199@danvillechurch.org
SUMMARY:Ingathering Sunday
DESCRIPTION:
URL:https://danvillechurch.org/event/ingathering-sunday/2027-07-18/
LOCATION:CA
CATEGORIES:Worship
ATTACH;FMTTYPE=image/png:https://danvillechurch.org/wp-content/uploads/2025/06/ingatheringsunday.png
END:VEVENT
BEGIN:VEVENT
DTSTART;TZID=America/Los_Angeles:20270718T093000
DTEND;TZID=America/Los_Angeles:20270718T223000
DTSTAMP:20260425T060100
CREATED:20250623T162746Z
LAST-MODIFIED:20250916T180509Z
UID:10000759-1815903000-1815949800@danvillechurch.org
SUMMARY:Worship
DESCRIPTION:
URL:https://danvillechurch.org/event/worship/2027-07-18/
LOCATION:Sanctuary\, 989 San Ramon Valley Blvd\, Danville\, CA\, 94526\, United States
CATEGORIES:Worship
ATTACH;FMTTYPE=image/png:https://danvillechurch.org/wp-content/uploads/2025/06/1-1.png
END:VEVENT
BEGIN:VEVENT
DTSTART;TZID=America/Los_Angeles:20270721T100000
DTEND;TZID=America/Los_Angeles:20270721T110000
DTSTAMP:20260425T060100
CREATED:20250623T160949Z
LAST-MODIFIED:20251210T183750Z
UID:10000378-1816164000-1816167600@danvillechurch.org
SUMMARY:Wednesday Morning Prayer
DESCRIPTION:Please contact the office for Zoom login credentials.
URL:https://danvillechurch.org/event/wednesday-morning-prayer/2027-07-21/
LOCATION:Sanctuary\, 989 San Ramon Valley Blvd\, Danville\, CA\, 94526\, United States
CATEGORIES:Worship
ATTACH;FMTTYPE=image/png:https://danvillechurch.org/wp-content/uploads/2025/06/5-1.png
END:VEVENT
BEGIN:VEVENT
DTSTART;TZID=America/Los_Angeles:20270725T093000
DTEND;TZID=America/Los_Angeles:20270725T223000
DTSTAMP:20260425T060100
CREATED:20250623T162746Z
LAST-MODIFIED:20250916T180509Z
UID:10000760-1816507800-1816554600@danvillechurch.org
SUMMARY:Worship
DESCRIPTION:
URL:https://danvillechurch.org/event/worship/2027-07-25/
LOCATION:Sanctuary\, 989 San Ramon Valley Blvd\, Danville\, CA\, 94526\, United States
CATEGORIES:Worship
ATTACH;FMTTYPE=image/png:https://danvillechurch.org/wp-content/uploads/2025/06/1-1.png
END:VEVENT
BEGIN:VEVENT
DTSTART;TZID=America/Los_Angeles:20270728T100000
DTEND;TZID=America/Los_Angeles:20270728T110000
DTSTAMP:20260425T060100
CREATED:20250623T160949Z
LAST-MODIFIED:20251210T183750Z
UID:10000379-1816768800-1816772400@danvillechurch.org
SUMMARY:Wednesday Morning Prayer
DESCRIPTION:Please contact the office for Zoom login credentials.
URL:https://danvillechurch.org/event/wednesday-morning-prayer/2027-07-28/
LOCATION:Sanctuary\, 989 San Ramon Valley Blvd\, Danville\, CA\, 94526\, United States
CATEGORIES:Worship
ATTACH;FMTTYPE=image/png:https://danvillechurch.org/wp-content/uploads/2025/06/5-1.png
END:VEVENT
END:VCALENDAR