BEGIN:VCALENDAR
VERSION:2.0
PRODID:-//Danville Congregational Church - ECPv6.15.20//NONSGML v1.0//EN
CALSCALE:GREGORIAN
METHOD:PUBLISH
X-ORIGINAL-URL:https://danvillechurch.org
X-WR-CALDESC:Events for Danville Congregational Church
REFRESH-INTERVAL;VALUE=DURATION:PT1H
X-Robots-Tag:noindex
X-PUBLISHED-TTL:PT1H
BEGIN:VTIMEZONE
TZID:America/Los_Angeles
BEGIN:DAYLIGHT
TZOFFSETFROM:-0800
TZOFFSETTO:-0700
TZNAME:PDT
DTSTART:20260308T100000
END:DAYLIGHT
BEGIN:STANDARD
TZOFFSETFROM:-0700
TZOFFSETTO:-0800
TZNAME:PST
DTSTART:20261101T090000
END:STANDARD
BEGIN:DAYLIGHT
TZOFFSETFROM:-0800
TZOFFSETTO:-0700
TZNAME:PDT
DTSTART:20270314T100000
END:DAYLIGHT
BEGIN:STANDARD
TZOFFSETFROM:-0700
TZOFFSETTO:-0800
TZNAME:PST
DTSTART:20271107T090000
END:STANDARD
BEGIN:DAYLIGHT
TZOFFSETFROM:-0800
TZOFFSETTO:-0700
TZNAME:PDT
DTSTART:20280312T100000
END:DAYLIGHT
BEGIN:STANDARD
TZOFFSETFROM:-0700
TZOFFSETTO:-0800
TZNAME:PST
DTSTART:20281105T090000
END:STANDARD
END:VTIMEZONE
BEGIN:VEVENT
DTSTART;TZID=America/Los_Angeles:20271018T090000
DTEND;TZID=America/Los_Angeles:20271018T143000
DTSTAMP:20260420T193555
CREATED:20250910T164023Z
LAST-MODIFIED:20260402T195742Z
UID:10004784-1823850000-1823869800@danvillechurch.org
SUMMARY:Danville Dementia Daycare Meeting
DESCRIPTION:Danville Dementia DayCare
URL:https://danvillechurch.org/event/dddmeeting/2027-10-18/
LOCATION:Koinonia Hall\, 989 San Ramon Valley Blvd\, Danville\, CA\, 94526\, United States
CATEGORIES:Support Group
ATTACH;FMTTYPE=image/png:https://danvillechurch.org/wp-content/uploads/2025/06/meeting-2.png
END:VEVENT
BEGIN:VEVENT
DTSTART;TZID=America/Los_Angeles:20271019T190000
DTEND;TZID=America/Los_Angeles:20271019T210000
DTSTAMP:20260420T193555
CREATED:20250910T164951Z
LAST-MODIFIED:20260402T200109Z
UID:10005612-1823972400-1823979600@danvillechurch.org
SUMMARY:AA New Beginnings Meeting
DESCRIPTION:
URL:https://danvillechurch.org/event/aa-new-beginnings-meeting/2027-10-19/
LOCATION:Koinonia Hall\, 989 San Ramon Valley Blvd\, Danville\, CA\, 94526\, United States
CATEGORIES:Support Group
ATTACH;FMTTYPE=image/png:https://danvillechurch.org/wp-content/uploads/2025/06/meeting-2.png
END:VEVENT
BEGIN:VEVENT
DTSTART;TZID=America/Los_Angeles:20271020T090000
DTEND;TZID=America/Los_Angeles:20271020T143000
DTSTAMP:20260420T193555
CREATED:20250910T164023Z
LAST-MODIFIED:20260402T195742Z
UID:10004785-1824022800-1824042600@danvillechurch.org
SUMMARY:Danville Dementia Daycare Meeting
DESCRIPTION:Danville Dementia DayCare
URL:https://danvillechurch.org/event/dddmeeting/2027-10-20/
LOCATION:Koinonia Hall\, 989 San Ramon Valley Blvd\, Danville\, CA\, 94526\, United States
CATEGORIES:Support Group
ATTACH;FMTTYPE=image/png:https://danvillechurch.org/wp-content/uploads/2025/06/meeting-2.png
END:VEVENT
BEGIN:VEVENT
DTSTART;TZID=America/Los_Angeles:20271021T190000
DTEND;TZID=America/Los_Angeles:20271021T210000
DTSTAMP:20260420T193555
CREATED:20250910T165146Z
LAST-MODIFIED:20260402T200101Z
UID:10005875-1824145200-1824152400@danvillechurch.org
SUMMARY:Nursery3 Meeting
DESCRIPTION:
URL:https://danvillechurch.org/event/nursery3-meeting/2027-10-21/
LOCATION:Koinonia Hall\, 989 San Ramon Valley Blvd\, Danville\, CA\, 94526\, United States
CATEGORIES:Support Group
ATTACH;FMTTYPE=image/png:https://danvillechurch.org/wp-content/uploads/2025/06/meeting-2.png
END:VEVENT
BEGIN:VEVENT
DTSTART;TZID=America/Los_Angeles:20271022T090000
DTEND;TZID=America/Los_Angeles:20271022T143000
DTSTAMP:20260420T193555
CREATED:20250910T164023Z
LAST-MODIFIED:20260402T195742Z
UID:10004786-1824195600-1824215400@danvillechurch.org
SUMMARY:Danville Dementia Daycare Meeting
DESCRIPTION:Danville Dementia DayCare
URL:https://danvillechurch.org/event/dddmeeting/2027-10-22/
LOCATION:Koinonia Hall\, 989 San Ramon Valley Blvd\, Danville\, CA\, 94526\, United States
CATEGORIES:Support Group
ATTACH;FMTTYPE=image/png:https://danvillechurch.org/wp-content/uploads/2025/06/meeting-2.png
END:VEVENT
BEGIN:VEVENT
DTSTART;TZID=America/Los_Angeles:20271022T163000
DTEND;TZID=America/Los_Angeles:20271022T183000
DTSTAMP:20260420T193555
CREATED:20250910T165343Z
LAST-MODIFIED:20260402T195856Z
UID:10006137-1824222600-1824229800@danvillechurch.org
SUMMARY:AA Happy Hour Meeting
DESCRIPTION:
URL:https://danvillechurch.org/event/aa-happy-hour-meeting/2027-10-22/
LOCATION:Koinonia Hall\, 989 San Ramon Valley Blvd\, Danville\, CA\, 94526\, United States
CATEGORIES:Support Group
ATTACH;FMTTYPE=image/png:https://danvillechurch.org/wp-content/uploads/2025/06/meeting-2.png
END:VEVENT
BEGIN:VEVENT
DTSTART;TZID=America/Los_Angeles:20271023T073000
DTEND;TZID=America/Los_Angeles:20271023T093000
DTSTAMP:20260420T193555
CREATED:20250910T170327Z
LAST-MODIFIED:20260402T195811Z
UID:10006925-1824276600-1824283800@danvillechurch.org
SUMMARY:NA Early Serenity Meeting
DESCRIPTION:
URL:https://danvillechurch.org/event/na-early-serenity-meeting/2027-10-23/
LOCATION:Koinonia Hall\, 989 San Ramon Valley Blvd\, Danville\, CA\, 94526\, United States
CATEGORIES:Support Group
ATTACH;FMTTYPE=image/png:https://danvillechurch.org/wp-content/uploads/2025/06/meeting-2.png
END:VEVENT
END:VCALENDAR