BEGIN:VCALENDAR
VERSION:2.0
PRODID:-//Danville Congregational Church - ECPv6.15.20//NONSGML v1.0//EN
CALSCALE:GREGORIAN
METHOD:PUBLISH
X-ORIGINAL-URL:https://danvillechurch.org
X-WR-CALDESC:Events for Danville Congregational Church
REFRESH-INTERVAL;VALUE=DURATION:PT1H
X-Robots-Tag:noindex
X-PUBLISHED-TTL:PT1H
BEGIN:VTIMEZONE
TZID:America/Los_Angeles
BEGIN:DAYLIGHT
TZOFFSETFROM:-0800
TZOFFSETTO:-0700
TZNAME:PDT
DTSTART:20240310T100000
END:DAYLIGHT
BEGIN:STANDARD
TZOFFSETFROM:-0700
TZOFFSETTO:-0800
TZNAME:PST
DTSTART:20241103T090000
END:STANDARD
BEGIN:DAYLIGHT
TZOFFSETFROM:-0800
TZOFFSETTO:-0700
TZNAME:PDT
DTSTART:20250309T100000
END:DAYLIGHT
BEGIN:STANDARD
TZOFFSETFROM:-0700
TZOFFSETTO:-0800
TZNAME:PST
DTSTART:20251102T090000
END:STANDARD
BEGIN:DAYLIGHT
TZOFFSETFROM:-0800
TZOFFSETTO:-0700
TZNAME:PDT
DTSTART:20260308T100000
END:DAYLIGHT
BEGIN:STANDARD
TZOFFSETFROM:-0700
TZOFFSETTO:-0800
TZNAME:PST
DTSTART:20261101T090000
END:STANDARD
END:VTIMEZONE
BEGIN:VEVENT
DTSTART;TZID=America/Los_Angeles:20251019T083000
DTEND;TZID=America/Los_Angeles:20251019T091500
DTSTAMP:20260419T074302
CREATED:20250623T173721Z
LAST-MODIFIED:20250623T174122Z
UID:10001589-1760862600-1760865300@danvillechurch.org
SUMMARY:Choir Rehearsal
DESCRIPTION:
URL:https://danvillechurch.org/event/choir-rehearsal/2025-10-19/
LOCATION:Sanctuary\, 989 San Ramon Valley Blvd\, Danville\, CA\, 94526\, United States
CATEGORIES:Meeting
ATTACH;FMTTYPE=image/png:https://danvillechurch.org/wp-content/uploads/2025/06/choir.png
END:VEVENT
BEGIN:VEVENT
DTSTART;TZID=America/Los_Angeles:20251019T130000
DTEND;TZID=America/Los_Angeles:20251019T150000
DTSTAMP:20260419T074302
CREATED:20250909T200216Z
LAST-MODIFIED:20250909T203025Z
UID:10003217-1760878800-1760886000@danvillechurch.org
SUMMARY:Celebration Bells Rehearsal
DESCRIPTION:
URL:https://danvillechurch.org/event/celebration-bells-rehearsal-2/2025-10-19/
LOCATION:Music Room\, 989 San Ramon Valley Blvd\, Danville\, 94526\, United States
CATEGORIES:Meeting
ATTACH;FMTTYPE=image/png:https://danvillechurch.org/wp-content/uploads/2025/07/bell.png
END:VEVENT
BEGIN:VEVENT
DTSTART;TZID=America/Los_Angeles:20251019T130000
DTEND;TZID=America/Los_Angeles:20251019T173000
DTSTAMP:20260419T074302
CREATED:20250910T170136Z
LAST-MODIFIED:20260402T195750Z
UID:10007084-1760878800-1760895000@danvillechurch.org
SUMMARY:God's Way
DESCRIPTION:
URL:https://danvillechurch.org/event/gods-way-4/2025-10-19/
LOCATION:Koinonia Hall\, 989 San Ramon Valley Blvd\, Danville\, CA\, 94526\, United States
CATEGORIES:Meeting
ATTACH;FMTTYPE=image/png:https://danvillechurch.org/wp-content/uploads/2025/06/meeting-2.png
END:VEVENT
BEGIN:VEVENT
DTSTART;TZID=America/Los_Angeles:20251021T160000
DTEND;TZID=America/Los_Angeles:20251021T180000
DTSTAMP:20260419T074302
CREATED:20250623T165508Z
LAST-MODIFIED:20250623T165508Z
UID:10001156-1761062400-1761069600@danvillechurch.org
SUMMARY:Finance Committee
DESCRIPTION:
URL:https://danvillechurch.org/event/finance-committee/2025-10-21/
LOCATION:Agape Lounge – Youth Room
CATEGORIES:Meeting
ATTACH;FMTTYPE=image/png:https://danvillechurch.org/wp-content/uploads/2025/06/4-1.png
END:VEVENT
BEGIN:VEVENT
DTSTART;TZID=America/Los_Angeles:20251022T190000
DTEND;TZID=America/Los_Angeles:20251022T203000
DTSTAMP:20260419T074302
CREATED:20251014T175941Z
LAST-MODIFIED:20251014T175942Z
UID:10002160-1761159600-1761165000@danvillechurch.org
SUMMARY:Choir Rehearsal
DESCRIPTION:
URL:https://danvillechurch.org/event/choir-rehearsal-2-2/2025-10-22/
LOCATION:Music Room\, 989 San Ramon Valley Blvd\, Danville\, 94526\, United States
CATEGORIES:Meeting
ATTACH;FMTTYPE=image/png:https://danvillechurch.org/wp-content/uploads/2025/06/choir.png
END:VEVENT
BEGIN:VEVENT
DTSTART;TZID=America/Los_Angeles:20251023T180000
DTEND;TZID=America/Los_Angeles:20251023T200000
DTSTAMP:20260419T074302
CREATED:20250908T204629Z
LAST-MODIFIED:20260217T200417Z
UID:10004423-1761242400-1761249600@danvillechurch.org
SUMMARY:Council Meeting
DESCRIPTION:
URL:https://danvillechurch.org/event/council-meeting-2/2025-10-23/
CATEGORIES:Meeting
ATTACH;FMTTYPE=image/png:https://danvillechurch.org/wp-content/uploads/2025/06/meeting-2.png
END:VEVENT
BEGIN:VEVENT
DTSTART;TZID=America/Los_Angeles:20251023T180000
DTEND;TZID=America/Los_Angeles:20251023T200000
DTSTAMP:20260419T074302
CREATED:20250909T193818Z
LAST-MODIFIED:20250909T193819Z
UID:10004424-1761242400-1761249600@danvillechurch.org
SUMMARY:Council Meeting
DESCRIPTION:
URL:https://danvillechurch.org/event/council-meeting-2-2/
CATEGORIES:Meeting
ATTACH;FMTTYPE=image/png:https://danvillechurch.org/wp-content/uploads/2025/06/meeting-2.png
END:VEVENT
BEGIN:VEVENT
DTSTART;TZID=America/Los_Angeles:20251024T200000
DTEND;TZID=America/Los_Angeles:20251024T220000
DTSTAMP:20260419T074302
CREATED:20250910T165740Z
LAST-MODIFIED:20260402T195839Z
UID:10006295-1761336000-1761343200@danvillechurch.org
SUMMARY:God's Way
DESCRIPTION:
URL:https://danvillechurch.org/event/gods-way-2/2025-10-24/
LOCATION:Peace Room
CATEGORIES:Meeting
ATTACH;FMTTYPE=image/png:https://danvillechurch.org/wp-content/uploads/2025/06/meeting-2.png
END:VEVENT
BEGIN:VEVENT
DTSTART;TZID=America/Los_Angeles:20251025T060000
DTEND;TZID=America/Los_Angeles:20251025T070000
DTSTAMP:20260419T074302
CREATED:20250910T165942Z
LAST-MODIFIED:20260402T195830Z
UID:10006558-1761372000-1761375600@danvillechurch.org
SUMMARY:God's Way
DESCRIPTION:
URL:https://danvillechurch.org/event/gods-way-3/2025-10-25/
LOCATION:Koinonia Hall\, 989 San Ramon Valley Blvd\, Danville\, CA\, 94526\, United States
CATEGORIES:Meeting
ATTACH;FMTTYPE=image/png:https://danvillechurch.org/wp-content/uploads/2025/06/meeting-2.png
END:VEVENT
END:VCALENDAR