BEGIN:VCALENDAR
VERSION:2.0
PRODID:-//Danville Congregational Church - ECPv6.15.20//NONSGML v1.0//EN
CALSCALE:GREGORIAN
METHOD:PUBLISH
X-WR-CALNAME:Danville Congregational Church
X-ORIGINAL-URL:https://danvillechurch.org
X-WR-CALDESC:Events for Danville Congregational Church
REFRESH-INTERVAL;VALUE=DURATION:PT1H
X-Robots-Tag:noindex
X-PUBLISHED-TTL:PT1H
BEGIN:VTIMEZONE
TZID:America/Los_Angeles
BEGIN:DAYLIGHT
TZOFFSETFROM:-0800
TZOFFSETTO:-0700
TZNAME:PDT
DTSTART:20260308T100000
END:DAYLIGHT
BEGIN:STANDARD
TZOFFSETFROM:-0700
TZOFFSETTO:-0800
TZNAME:PST
DTSTART:20261101T090000
END:STANDARD
BEGIN:DAYLIGHT
TZOFFSETFROM:-0800
TZOFFSETTO:-0700
TZNAME:PDT
DTSTART:20270314T100000
END:DAYLIGHT
BEGIN:STANDARD
TZOFFSETFROM:-0700
TZOFFSETTO:-0800
TZNAME:PST
DTSTART:20271107T090000
END:STANDARD
BEGIN:DAYLIGHT
TZOFFSETFROM:-0800
TZOFFSETTO:-0700
TZNAME:PDT
DTSTART:20280312T100000
END:DAYLIGHT
BEGIN:STANDARD
TZOFFSETFROM:-0700
TZOFFSETTO:-0800
TZNAME:PST
DTSTART:20281105T090000
END:STANDARD
END:VTIMEZONE
BEGIN:VEVENT
DTSTART;TZID=America/Los_Angeles:20270720T160000
DTEND;TZID=America/Los_Angeles:20270720T180000
DTSTAMP:20260422T155942
CREATED:20251106T183030Z
LAST-MODIFIED:20251106T183030Z
UID:10001177-1816099200-1816106400@danvillechurch.org
SUMMARY:Finance Committee
DESCRIPTION:
URL:https://danvillechurch.org/event/finance-committee-2/2027-07-20/
LOCATION:Agape Lounge – Youth Room
CATEGORIES:Meeting
ATTACH;FMTTYPE=image/png:https://danvillechurch.org/wp-content/uploads/2025/06/4-1.png
END:VEVENT
BEGIN:VEVENT
DTSTART;TZID=America/Los_Angeles:20270721T190000
DTEND;TZID=America/Los_Angeles:20270721T203000
DTSTAMP:20260422T155942
CREATED:20251014T175941Z
LAST-MODIFIED:20251014T175942Z
UID:10002251-1816196400-1816201800@danvillechurch.org
SUMMARY:Choir Rehearsal
DESCRIPTION:
URL:https://danvillechurch.org/event/choir-rehearsal-2-2/2027-07-21/
LOCATION:Music Room\, 989 San Ramon Valley Blvd\, Danville\, 94526\, United States
CATEGORIES:Meeting
ATTACH;FMTTYPE=image/png:https://danvillechurch.org/wp-content/uploads/2025/06/choir.png
END:VEVENT
BEGIN:VEVENT
DTSTART;TZID=America/Los_Angeles:20270723T200000
DTEND;TZID=America/Los_Angeles:20270723T220000
DTSTAMP:20260422T155942
CREATED:20250910T165740Z
LAST-MODIFIED:20260402T195839Z
UID:10006386-1816372800-1816380000@danvillechurch.org
SUMMARY:God's Way
DESCRIPTION:
URL:https://danvillechurch.org/event/gods-way-2/2027-07-23/
LOCATION:Peace Room
CATEGORIES:Meeting
ATTACH;FMTTYPE=image/png:https://danvillechurch.org/wp-content/uploads/2025/06/meeting-2.png
END:VEVENT
BEGIN:VEVENT
DTSTART;TZID=America/Los_Angeles:20270724T060000
DTEND;TZID=America/Los_Angeles:20270724T070000
DTSTAMP:20260422T155942
CREATED:20250910T165942Z
LAST-MODIFIED:20260402T195830Z
UID:10006649-1816408800-1816412400@danvillechurch.org
SUMMARY:God's Way
DESCRIPTION:
URL:https://danvillechurch.org/event/gods-way-3/2027-07-24/
LOCATION:Koinonia Hall\, 989 San Ramon Valley Blvd\, Danville\, CA\, 94526\, United States
CATEGORIES:Meeting
ATTACH;FMTTYPE=image/png:https://danvillechurch.org/wp-content/uploads/2025/06/meeting-2.png
END:VEVENT
BEGIN:VEVENT
DTSTART;TZID=America/Los_Angeles:20270725T083000
DTEND;TZID=America/Los_Angeles:20270725T091500
DTSTAMP:20260422T155942
CREATED:20250623T173721Z
LAST-MODIFIED:20250623T174122Z
UID:10001681-1816504200-1816506900@danvillechurch.org
SUMMARY:Choir Rehearsal
DESCRIPTION:
URL:https://danvillechurch.org/event/choir-rehearsal/2027-07-25/
LOCATION:Sanctuary\, 989 San Ramon Valley Blvd\, Danville\, CA\, 94526\, United States
CATEGORIES:Meeting
ATTACH;FMTTYPE=image/png:https://danvillechurch.org/wp-content/uploads/2025/06/choir.png
END:VEVENT
BEGIN:VEVENT
DTSTART;TZID=America/Los_Angeles:20270725T130000
DTEND;TZID=America/Los_Angeles:20270725T173000
DTSTAMP:20260422T155942
CREATED:20250910T170136Z
LAST-MODIFIED:20260402T195750Z
UID:10007176-1816520400-1816536600@danvillechurch.org
SUMMARY:God's Way
DESCRIPTION:
URL:https://danvillechurch.org/event/gods-way-4/2027-07-25/
LOCATION:Koinonia Hall\, 989 San Ramon Valley Blvd\, Danville\, CA\, 94526\, United States
CATEGORIES:Meeting
ATTACH;FMTTYPE=image/png:https://danvillechurch.org/wp-content/uploads/2025/06/meeting-2.png
END:VEVENT
BEGIN:VEVENT
DTSTART;TZID=America/Los_Angeles:20270728T190000
DTEND;TZID=America/Los_Angeles:20270728T203000
DTSTAMP:20260422T155942
CREATED:20251014T175941Z
LAST-MODIFIED:20251014T175942Z
UID:10002252-1816801200-1816806600@danvillechurch.org
SUMMARY:Choir Rehearsal
DESCRIPTION:
URL:https://danvillechurch.org/event/choir-rehearsal-2-2/2027-07-28/
LOCATION:Music Room\, 989 San Ramon Valley Blvd\, Danville\, 94526\, United States
CATEGORIES:Meeting
ATTACH;FMTTYPE=image/png:https://danvillechurch.org/wp-content/uploads/2025/06/choir.png
END:VEVENT
BEGIN:VEVENT
DTSTART;TZID=America/Los_Angeles:20270730T200000
DTEND;TZID=America/Los_Angeles:20270730T220000
DTSTAMP:20260422T155942
CREATED:20250910T165740Z
LAST-MODIFIED:20260402T195839Z
UID:10006387-1816977600-1816984800@danvillechurch.org
SUMMARY:God's Way
DESCRIPTION:
URL:https://danvillechurch.org/event/gods-way-2/2027-07-30/
LOCATION:Peace Room
CATEGORIES:Meeting
ATTACH;FMTTYPE=image/png:https://danvillechurch.org/wp-content/uploads/2025/06/meeting-2.png
END:VEVENT
BEGIN:VEVENT
DTSTART;TZID=America/Los_Angeles:20270731T060000
DTEND;TZID=America/Los_Angeles:20270731T070000
DTSTAMP:20260422T155942
CREATED:20250910T165942Z
LAST-MODIFIED:20260402T195830Z
UID:10006650-1817013600-1817017200@danvillechurch.org
SUMMARY:God's Way
DESCRIPTION:
URL:https://danvillechurch.org/event/gods-way-3/2027-07-31/
LOCATION:Koinonia Hall\, 989 San Ramon Valley Blvd\, Danville\, CA\, 94526\, United States
CATEGORIES:Meeting
ATTACH;FMTTYPE=image/png:https://danvillechurch.org/wp-content/uploads/2025/06/meeting-2.png
END:VEVENT
BEGIN:VEVENT
DTSTART;TZID=America/Los_Angeles:20270801T083000
DTEND;TZID=America/Los_Angeles:20270801T091500
DTSTAMP:20260422T155942
CREATED:20250623T173721Z
LAST-MODIFIED:20250623T174122Z
UID:10001682-1817109000-1817111700@danvillechurch.org
SUMMARY:Choir Rehearsal
DESCRIPTION:
URL:https://danvillechurch.org/event/choir-rehearsal/2027-08-01/
LOCATION:Sanctuary\, 989 San Ramon Valley Blvd\, Danville\, CA\, 94526\, United States
CATEGORIES:Meeting
ATTACH;FMTTYPE=image/png:https://danvillechurch.org/wp-content/uploads/2025/06/choir.png
END:VEVENT
BEGIN:VEVENT
DTSTART;TZID=America/Los_Angeles:20270801T130000
DTEND;TZID=America/Los_Angeles:20270801T173000
DTSTAMP:20260422T155942
CREATED:20250910T170136Z
LAST-MODIFIED:20260402T195750Z
UID:10007177-1817125200-1817141400@danvillechurch.org
SUMMARY:God's Way
DESCRIPTION:
URL:https://danvillechurch.org/event/gods-way-4/2027-08-01/
LOCATION:Koinonia Hall\, 989 San Ramon Valley Blvd\, Danville\, CA\, 94526\, United States
CATEGORIES:Meeting
ATTACH;FMTTYPE=image/png:https://danvillechurch.org/wp-content/uploads/2025/06/meeting-2.png
END:VEVENT
BEGIN:VEVENT
DTSTART;TZID=America/Los_Angeles:20270804T190000
DTEND;TZID=America/Los_Angeles:20270804T203000
DTSTAMP:20260422T155942
CREATED:20251014T175941Z
LAST-MODIFIED:20251014T175942Z
UID:10002253-1817406000-1817411400@danvillechurch.org
SUMMARY:Choir Rehearsal
DESCRIPTION:
URL:https://danvillechurch.org/event/choir-rehearsal-2-2/2027-08-04/
LOCATION:Music Room\, 989 San Ramon Valley Blvd\, Danville\, 94526\, United States
CATEGORIES:Meeting
ATTACH;FMTTYPE=image/png:https://danvillechurch.org/wp-content/uploads/2025/06/choir.png
END:VEVENT
BEGIN:VEVENT
DTSTART;TZID=America/Los_Angeles:20270806T200000
DTEND;TZID=America/Los_Angeles:20270806T220000
DTSTAMP:20260422T155942
CREATED:20250910T165740Z
LAST-MODIFIED:20260402T195839Z
UID:10006388-1817582400-1817589600@danvillechurch.org
SUMMARY:God's Way
DESCRIPTION:
URL:https://danvillechurch.org/event/gods-way-2/2027-08-06/
LOCATION:Peace Room
CATEGORIES:Meeting
ATTACH;FMTTYPE=image/png:https://danvillechurch.org/wp-content/uploads/2025/06/meeting-2.png
END:VEVENT
BEGIN:VEVENT
DTSTART;TZID=America/Los_Angeles:20270807T060000
DTEND;TZID=America/Los_Angeles:20270807T070000
DTSTAMP:20260422T155942
CREATED:20250910T165942Z
LAST-MODIFIED:20260402T195830Z
UID:10006651-1817618400-1817622000@danvillechurch.org
SUMMARY:God's Way
DESCRIPTION:
URL:https://danvillechurch.org/event/gods-way-3/2027-08-07/
LOCATION:Koinonia Hall\, 989 San Ramon Valley Blvd\, Danville\, CA\, 94526\, United States
CATEGORIES:Meeting
ATTACH;FMTTYPE=image/png:https://danvillechurch.org/wp-content/uploads/2025/06/meeting-2.png
END:VEVENT
BEGIN:VEVENT
DTSTART;TZID=America/Los_Angeles:20270808T083000
DTEND;TZID=America/Los_Angeles:20270808T091500
DTSTAMP:20260422T155942
CREATED:20250623T173721Z
LAST-MODIFIED:20250623T174122Z
UID:10001683-1817713800-1817716500@danvillechurch.org
SUMMARY:Choir Rehearsal
DESCRIPTION:
URL:https://danvillechurch.org/event/choir-rehearsal/2027-08-08/
LOCATION:Sanctuary\, 989 San Ramon Valley Blvd\, Danville\, CA\, 94526\, United States
CATEGORIES:Meeting
ATTACH;FMTTYPE=image/png:https://danvillechurch.org/wp-content/uploads/2025/06/choir.png
END:VEVENT
BEGIN:VEVENT
DTSTART;TZID=America/Los_Angeles:20270808T111500
DTEND;TZID=America/Los_Angeles:20270808T121500
DTSTAMP:20260422T155942
CREATED:20251027T160730Z
LAST-MODIFIED:20251103T172349Z
UID:10001058-1817723700-1817727300@danvillechurch.org
SUMMARY:Buildings and Grounds Commission Meeting - Spirit Room
DESCRIPTION:
URL:https://danvillechurch.org/event/buildings-and-grounds-commission-meeting-2/2027-08-08/
LOCATION:Koinonia Hall – Spirit Room\, 989 San Ramon Valley Blvd\, Danville\, CA\, 94526\, United States
CATEGORIES:Meeting
ATTACH;FMTTYPE=image/png:https://danvillechurch.org/wp-content/uploads/2025/06/meeting-2.png
END:VEVENT
BEGIN:VEVENT
DTSTART;TZID=America/Los_Angeles:20270808T111500
DTEND;TZID=America/Los_Angeles:20270808T121500
DTSTAMP:20260422T155942
CREATED:20251027T161844Z
LAST-MODIFIED:20251027T172158Z
UID:10004108-1817723700-1817727300@danvillechurch.org
SUMMARY:Outreach Commission Meeting
DESCRIPTION:
URL:https://danvillechurch.org/event/outreach-commission-meeting-3/2027-08-08/
LOCATION:Agape Lounge – Youth Room
CATEGORIES:Meeting
ATTACH;FMTTYPE=image/png:https://danvillechurch.org/wp-content/uploads/2025/06/meeting-2.png
END:VEVENT
BEGIN:VEVENT
DTSTART;TZID=America/Los_Angeles:20270808T111500
DTEND;TZID=America/Los_Angeles:20270808T121500
DTSTAMP:20260422T155942
CREATED:20251027T163043Z
LAST-MODIFIED:20251027T163043Z
UID:10001118-1817723700-1817727300@danvillechurch.org
SUMMARY:Commission Meetings
DESCRIPTION:
URL:https://danvillechurch.org/event/commission-meetings-2/2027-08-08/
LOCATION:Koinonia Hall\, 989 San Ramon Valley Blvd\, Danville\, CA\, 94526\, United States
CATEGORIES:Meeting
ATTACH;FMTTYPE=image/png:https://danvillechurch.org/wp-content/uploads/2025/06/meeting-2.png
END:VEVENT
BEGIN:VEVENT
DTSTART;TZID=America/Los_Angeles:20270808T111500
DTEND;TZID=America/Los_Angeles:20270808T121500
DTSTAMP:20260422T155942
CREATED:20260406T181350Z
LAST-MODIFIED:20260406T181710Z
UID:10001547-1817723700-1817727300@danvillechurch.org
SUMMARY:Community Life Commission Meeting - Music Room
DESCRIPTION:
URL:https://danvillechurch.org/event/community-life-commission-meeting-2-2-2/2027-08-08/
LOCATION:Music Room\, 989 San Ramon Valley Blvd\, Danville\, 94526\, United States
CATEGORIES:Meeting
ATTACH;FMTTYPE=image/png:https://danvillechurch.org/wp-content/uploads/2025/06/meeting-2.png
END:VEVENT
BEGIN:VEVENT
DTSTART;TZID=America/Los_Angeles:20270808T130000
DTEND;TZID=America/Los_Angeles:20270808T173000
DTSTAMP:20260422T155942
CREATED:20250910T170136Z
LAST-MODIFIED:20260402T195750Z
UID:10007178-1817730000-1817746200@danvillechurch.org
SUMMARY:God's Way
DESCRIPTION:
URL:https://danvillechurch.org/event/gods-way-4/2027-08-08/
LOCATION:Koinonia Hall\, 989 San Ramon Valley Blvd\, Danville\, CA\, 94526\, United States
CATEGORIES:Meeting
ATTACH;FMTTYPE=image/png:https://danvillechurch.org/wp-content/uploads/2025/06/meeting-2.png
END:VEVENT
BEGIN:VEVENT
DTSTART;TZID=America/Los_Angeles:20270810T130000
DTEND;TZID=America/Los_Angeles:20270810T150000
DTSTAMP:20260422T155942
CREATED:20250623T162553Z
LAST-MODIFIED:20250623T165228Z
UID:10000617-1817902800-1817910000@danvillechurch.org
SUMMARY:Diaconate Meeting
DESCRIPTION:
URL:https://danvillechurch.org/event/diaconate-meeting/2027-08-10/
LOCATION:Music Room\, 989 San Ramon Valley Blvd\, Danville\, 94526\, United States
CATEGORIES:Meeting
ATTACH;FMTTYPE=image/png:https://danvillechurch.org/wp-content/uploads/2025/06/meeting-2.png
END:VEVENT
BEGIN:VEVENT
DTSTART;TZID=America/Los_Angeles:20270811T190000
DTEND;TZID=America/Los_Angeles:20270811T203000
DTSTAMP:20260422T155942
CREATED:20251014T175941Z
LAST-MODIFIED:20251014T175942Z
UID:10002254-1818010800-1818016200@danvillechurch.org
SUMMARY:Choir Rehearsal
DESCRIPTION:
URL:https://danvillechurch.org/event/choir-rehearsal-2-2/2027-08-11/
LOCATION:Music Room\, 989 San Ramon Valley Blvd\, Danville\, 94526\, United States
CATEGORIES:Meeting
ATTACH;FMTTYPE=image/png:https://danvillechurch.org/wp-content/uploads/2025/06/choir.png
END:VEVENT
BEGIN:VEVENT
DTSTART;TZID=America/Los_Angeles:20270813T200000
DTEND;TZID=America/Los_Angeles:20270813T220000
DTSTAMP:20260422T155942
CREATED:20250910T165740Z
LAST-MODIFIED:20260402T195839Z
UID:10006389-1818187200-1818194400@danvillechurch.org
SUMMARY:God's Way
DESCRIPTION:
URL:https://danvillechurch.org/event/gods-way-2/2027-08-13/
LOCATION:Peace Room
CATEGORIES:Meeting
ATTACH;FMTTYPE=image/png:https://danvillechurch.org/wp-content/uploads/2025/06/meeting-2.png
END:VEVENT
BEGIN:VEVENT
DTSTART;TZID=America/Los_Angeles:20270814T060000
DTEND;TZID=America/Los_Angeles:20270814T070000
DTSTAMP:20260422T155942
CREATED:20250910T165942Z
LAST-MODIFIED:20260402T195830Z
UID:10006652-1818223200-1818226800@danvillechurch.org
SUMMARY:God's Way
DESCRIPTION:
URL:https://danvillechurch.org/event/gods-way-3/2027-08-14/
LOCATION:Koinonia Hall\, 989 San Ramon Valley Blvd\, Danville\, CA\, 94526\, United States
CATEGORIES:Meeting
ATTACH;FMTTYPE=image/png:https://danvillechurch.org/wp-content/uploads/2025/06/meeting-2.png
END:VEVENT
BEGIN:VEVENT
DTSTART;TZID=America/Los_Angeles:20270815T083000
DTEND;TZID=America/Los_Angeles:20270815T091500
DTSTAMP:20260422T155942
CREATED:20250623T173721Z
LAST-MODIFIED:20250623T174122Z
UID:10001684-1818318600-1818321300@danvillechurch.org
SUMMARY:Choir Rehearsal
DESCRIPTION:
URL:https://danvillechurch.org/event/choir-rehearsal/2027-08-15/
LOCATION:Sanctuary\, 989 San Ramon Valley Blvd\, Danville\, CA\, 94526\, United States
CATEGORIES:Meeting
ATTACH;FMTTYPE=image/png:https://danvillechurch.org/wp-content/uploads/2025/06/choir.png
END:VEVENT
BEGIN:VEVENT
DTSTART;TZID=America/Los_Angeles:20270815T130000
DTEND;TZID=America/Los_Angeles:20270815T173000
DTSTAMP:20260422T155942
CREATED:20250910T170136Z
LAST-MODIFIED:20260402T195750Z
UID:10007179-1818334800-1818351000@danvillechurch.org
SUMMARY:God's Way
DESCRIPTION:
URL:https://danvillechurch.org/event/gods-way-4/2027-08-15/
LOCATION:Koinonia Hall\, 989 San Ramon Valley Blvd\, Danville\, CA\, 94526\, United States
CATEGORIES:Meeting
ATTACH;FMTTYPE=image/png:https://danvillechurch.org/wp-content/uploads/2025/06/meeting-2.png
END:VEVENT
BEGIN:VEVENT
DTSTART;TZID=America/Los_Angeles:20270817T160000
DTEND;TZID=America/Los_Angeles:20270817T180000
DTSTAMP:20260422T155942
CREATED:20251106T183030Z
LAST-MODIFIED:20251106T183030Z
UID:10001178-1818518400-1818525600@danvillechurch.org
SUMMARY:Finance Committee
DESCRIPTION:
URL:https://danvillechurch.org/event/finance-committee-2/2027-08-17/
LOCATION:Agape Lounge – Youth Room
CATEGORIES:Meeting
ATTACH;FMTTYPE=image/png:https://danvillechurch.org/wp-content/uploads/2025/06/4-1.png
END:VEVENT
BEGIN:VEVENT
DTSTART;TZID=America/Los_Angeles:20270818T190000
DTEND;TZID=America/Los_Angeles:20270818T203000
DTSTAMP:20260422T155942
CREATED:20251014T175941Z
LAST-MODIFIED:20251014T175942Z
UID:10002255-1818615600-1818621000@danvillechurch.org
SUMMARY:Choir Rehearsal
DESCRIPTION:
URL:https://danvillechurch.org/event/choir-rehearsal-2-2/2027-08-18/
LOCATION:Music Room\, 989 San Ramon Valley Blvd\, Danville\, 94526\, United States
CATEGORIES:Meeting
ATTACH;FMTTYPE=image/png:https://danvillechurch.org/wp-content/uploads/2025/06/choir.png
END:VEVENT
BEGIN:VEVENT
DTSTART;TZID=America/Los_Angeles:20270820T200000
DTEND;TZID=America/Los_Angeles:20270820T220000
DTSTAMP:20260422T155942
CREATED:20250910T165740Z
LAST-MODIFIED:20260402T195839Z
UID:10006390-1818792000-1818799200@danvillechurch.org
SUMMARY:God's Way
DESCRIPTION:
URL:https://danvillechurch.org/event/gods-way-2/2027-08-20/
LOCATION:Peace Room
CATEGORIES:Meeting
ATTACH;FMTTYPE=image/png:https://danvillechurch.org/wp-content/uploads/2025/06/meeting-2.png
END:VEVENT
BEGIN:VEVENT
DTSTART;TZID=America/Los_Angeles:20270821T060000
DTEND;TZID=America/Los_Angeles:20270821T070000
DTSTAMP:20260422T155942
CREATED:20250910T165942Z
LAST-MODIFIED:20260402T195830Z
UID:10006653-1818828000-1818831600@danvillechurch.org
SUMMARY:God's Way
DESCRIPTION:
URL:https://danvillechurch.org/event/gods-way-3/2027-08-21/
LOCATION:Koinonia Hall\, 989 San Ramon Valley Blvd\, Danville\, CA\, 94526\, United States
CATEGORIES:Meeting
ATTACH;FMTTYPE=image/png:https://danvillechurch.org/wp-content/uploads/2025/06/meeting-2.png
END:VEVENT
END:VCALENDAR