BEGIN:VCALENDAR
VERSION:2.0
PRODID:-//Danville Congregational Church - ECPv6.15.20//NONSGML v1.0//EN
CALSCALE:GREGORIAN
METHOD:PUBLISH
X-WR-CALNAME:Danville Congregational Church
X-ORIGINAL-URL:https://danvillechurch.org
X-WR-CALDESC:Events for Danville Congregational Church
REFRESH-INTERVAL;VALUE=DURATION:PT1H
X-Robots-Tag:noindex
X-PUBLISHED-TTL:PT1H
BEGIN:VTIMEZONE
TZID:America/Los_Angeles
BEGIN:DAYLIGHT
TZOFFSETFROM:-0800
TZOFFSETTO:-0700
TZNAME:PDT
DTSTART:20260308T100000
END:DAYLIGHT
BEGIN:STANDARD
TZOFFSETFROM:-0700
TZOFFSETTO:-0800
TZNAME:PST
DTSTART:20261101T090000
END:STANDARD
BEGIN:DAYLIGHT
TZOFFSETFROM:-0800
TZOFFSETTO:-0700
TZNAME:PDT
DTSTART:20270314T100000
END:DAYLIGHT
BEGIN:STANDARD
TZOFFSETFROM:-0700
TZOFFSETTO:-0800
TZNAME:PST
DTSTART:20271107T090000
END:STANDARD
BEGIN:DAYLIGHT
TZOFFSETFROM:-0800
TZOFFSETTO:-0700
TZNAME:PDT
DTSTART:20280312T100000
END:DAYLIGHT
BEGIN:STANDARD
TZOFFSETFROM:-0700
TZOFFSETTO:-0800
TZNAME:PST
DTSTART:20281105T090000
END:STANDARD
END:VTIMEZONE
BEGIN:VEVENT
DTSTART;TZID=America/Los_Angeles:20270421T190000
DTEND;TZID=America/Los_Angeles:20270421T203000
DTSTAMP:20260420T200225
CREATED:20251014T175941Z
LAST-MODIFIED:20251014T175942Z
UID:10002238-1808334000-1808339400@danvillechurch.org
SUMMARY:Choir Rehearsal
DESCRIPTION:
URL:https://danvillechurch.org/event/choir-rehearsal-2-2/2027-04-21/
LOCATION:Music Room\, 989 San Ramon Valley Blvd\, Danville\, 94526\, United States
CATEGORIES:Meeting
ATTACH;FMTTYPE=image/png:https://danvillechurch.org/wp-content/uploads/2025/06/choir.png
END:VEVENT
BEGIN:VEVENT
DTSTART;TZID=America/Los_Angeles:20270423T200000
DTEND;TZID=America/Los_Angeles:20270423T220000
DTSTAMP:20260420T200225
CREATED:20250910T165740Z
LAST-MODIFIED:20260402T195839Z
UID:10006373-1808510400-1808517600@danvillechurch.org
SUMMARY:God's Way
DESCRIPTION:
URL:https://danvillechurch.org/event/gods-way-2/2027-04-23/
LOCATION:Peace Room
CATEGORIES:Meeting
ATTACH;FMTTYPE=image/png:https://danvillechurch.org/wp-content/uploads/2025/06/meeting-2.png
END:VEVENT
BEGIN:VEVENT
DTSTART;TZID=America/Los_Angeles:20270424T060000
DTEND;TZID=America/Los_Angeles:20270424T070000
DTSTAMP:20260420T200225
CREATED:20250910T165942Z
LAST-MODIFIED:20260402T195830Z
UID:10006636-1808546400-1808550000@danvillechurch.org
SUMMARY:God's Way
DESCRIPTION:
URL:https://danvillechurch.org/event/gods-way-3/2027-04-24/
LOCATION:Koinonia Hall\, 989 San Ramon Valley Blvd\, Danville\, CA\, 94526\, United States
CATEGORIES:Meeting
ATTACH;FMTTYPE=image/png:https://danvillechurch.org/wp-content/uploads/2025/06/meeting-2.png
END:VEVENT
BEGIN:VEVENT
DTSTART;TZID=America/Los_Angeles:20270425T083000
DTEND;TZID=America/Los_Angeles:20270425T091500
DTSTAMP:20260420T200226
CREATED:20250623T173721Z
LAST-MODIFIED:20250623T174122Z
UID:10001668-1808641800-1808644500@danvillechurch.org
SUMMARY:Choir Rehearsal
DESCRIPTION:
URL:https://danvillechurch.org/event/choir-rehearsal/2027-04-25/
LOCATION:Sanctuary\, 989 San Ramon Valley Blvd\, Danville\, CA\, 94526\, United States
CATEGORIES:Meeting
ATTACH;FMTTYPE=image/png:https://danvillechurch.org/wp-content/uploads/2025/06/choir.png
END:VEVENT
BEGIN:VEVENT
DTSTART;TZID=America/Los_Angeles:20270425T130000
DTEND;TZID=America/Los_Angeles:20270425T173000
DTSTAMP:20260420T200226
CREATED:20250910T170136Z
LAST-MODIFIED:20260402T195750Z
UID:10007163-1808658000-1808674200@danvillechurch.org
SUMMARY:God's Way
DESCRIPTION:
URL:https://danvillechurch.org/event/gods-way-4/2027-04-25/
LOCATION:Koinonia Hall\, 989 San Ramon Valley Blvd\, Danville\, CA\, 94526\, United States
CATEGORIES:Meeting
ATTACH;FMTTYPE=image/png:https://danvillechurch.org/wp-content/uploads/2025/06/meeting-2.png
END:VEVENT
BEGIN:VEVENT
DTSTART;TZID=America/Los_Angeles:20270428T190000
DTEND;TZID=America/Los_Angeles:20270428T203000
DTSTAMP:20260420T200226
CREATED:20251014T175941Z
LAST-MODIFIED:20251014T175942Z
UID:10002239-1808938800-1808944200@danvillechurch.org
SUMMARY:Choir Rehearsal
DESCRIPTION:
URL:https://danvillechurch.org/event/choir-rehearsal-2-2/2027-04-28/
LOCATION:Music Room\, 989 San Ramon Valley Blvd\, Danville\, 94526\, United States
CATEGORIES:Meeting
ATTACH;FMTTYPE=image/png:https://danvillechurch.org/wp-content/uploads/2025/06/choir.png
END:VEVENT
BEGIN:VEVENT
DTSTART;TZID=America/Los_Angeles:20270430T200000
DTEND;TZID=America/Los_Angeles:20270430T220000
DTSTAMP:20260420T200226
CREATED:20250910T165740Z
LAST-MODIFIED:20260402T195839Z
UID:10006374-1809115200-1809122400@danvillechurch.org
SUMMARY:God's Way
DESCRIPTION:
URL:https://danvillechurch.org/event/gods-way-2/2027-04-30/
LOCATION:Peace Room
CATEGORIES:Meeting
ATTACH;FMTTYPE=image/png:https://danvillechurch.org/wp-content/uploads/2025/06/meeting-2.png
END:VEVENT
BEGIN:VEVENT
DTSTART;TZID=America/Los_Angeles:20270501T060000
DTEND;TZID=America/Los_Angeles:20270501T070000
DTSTAMP:20260420T200226
CREATED:20250910T165942Z
LAST-MODIFIED:20260402T195830Z
UID:10006637-1809151200-1809154800@danvillechurch.org
SUMMARY:God's Way
DESCRIPTION:
URL:https://danvillechurch.org/event/gods-way-3/2027-05-01/
LOCATION:Koinonia Hall\, 989 San Ramon Valley Blvd\, Danville\, CA\, 94526\, United States
CATEGORIES:Meeting
ATTACH;FMTTYPE=image/png:https://danvillechurch.org/wp-content/uploads/2025/06/meeting-2.png
END:VEVENT
BEGIN:VEVENT
DTSTART;TZID=America/Los_Angeles:20270502T083000
DTEND;TZID=America/Los_Angeles:20270502T091500
DTSTAMP:20260420T200226
CREATED:20250623T173721Z
LAST-MODIFIED:20250623T174122Z
UID:10001669-1809246600-1809249300@danvillechurch.org
SUMMARY:Choir Rehearsal
DESCRIPTION:
URL:https://danvillechurch.org/event/choir-rehearsal/2027-05-02/
LOCATION:Sanctuary\, 989 San Ramon Valley Blvd\, Danville\, CA\, 94526\, United States
CATEGORIES:Meeting
ATTACH;FMTTYPE=image/png:https://danvillechurch.org/wp-content/uploads/2025/06/choir.png
END:VEVENT
BEGIN:VEVENT
DTSTART;TZID=America/Los_Angeles:20270502T130000
DTEND;TZID=America/Los_Angeles:20270502T173000
DTSTAMP:20260420T200226
CREATED:20250910T170136Z
LAST-MODIFIED:20260402T195750Z
UID:10007164-1809262800-1809279000@danvillechurch.org
SUMMARY:God's Way
DESCRIPTION:
URL:https://danvillechurch.org/event/gods-way-4/2027-05-02/
LOCATION:Koinonia Hall\, 989 San Ramon Valley Blvd\, Danville\, CA\, 94526\, United States
CATEGORIES:Meeting
ATTACH;FMTTYPE=image/png:https://danvillechurch.org/wp-content/uploads/2025/06/meeting-2.png
END:VEVENT
BEGIN:VEVENT
DTSTART;TZID=America/Los_Angeles:20270505T190000
DTEND;TZID=America/Los_Angeles:20270505T203000
DTSTAMP:20260420T200226
CREATED:20251014T175941Z
LAST-MODIFIED:20251014T175942Z
UID:10002240-1809543600-1809549000@danvillechurch.org
SUMMARY:Choir Rehearsal
DESCRIPTION:
URL:https://danvillechurch.org/event/choir-rehearsal-2-2/2027-05-05/
LOCATION:Music Room\, 989 San Ramon Valley Blvd\, Danville\, 94526\, United States
CATEGORIES:Meeting
ATTACH;FMTTYPE=image/png:https://danvillechurch.org/wp-content/uploads/2025/06/choir.png
END:VEVENT
BEGIN:VEVENT
DTSTART;TZID=America/Los_Angeles:20270507T200000
DTEND;TZID=America/Los_Angeles:20270507T220000
DTSTAMP:20260420T200226
CREATED:20250910T165740Z
LAST-MODIFIED:20260402T195839Z
UID:10006375-1809720000-1809727200@danvillechurch.org
SUMMARY:God's Way
DESCRIPTION:
URL:https://danvillechurch.org/event/gods-way-2/2027-05-07/
LOCATION:Peace Room
CATEGORIES:Meeting
ATTACH;FMTTYPE=image/png:https://danvillechurch.org/wp-content/uploads/2025/06/meeting-2.png
END:VEVENT
BEGIN:VEVENT
DTSTART;TZID=America/Los_Angeles:20270508T060000
DTEND;TZID=America/Los_Angeles:20270508T070000
DTSTAMP:20260420T200226
CREATED:20250910T165942Z
LAST-MODIFIED:20260402T195830Z
UID:10006638-1809756000-1809759600@danvillechurch.org
SUMMARY:God's Way
DESCRIPTION:
URL:https://danvillechurch.org/event/gods-way-3/2027-05-08/
LOCATION:Koinonia Hall\, 989 San Ramon Valley Blvd\, Danville\, CA\, 94526\, United States
CATEGORIES:Meeting
ATTACH;FMTTYPE=image/png:https://danvillechurch.org/wp-content/uploads/2025/06/meeting-2.png
END:VEVENT
BEGIN:VEVENT
DTSTART;TZID=America/Los_Angeles:20270509T083000
DTEND;TZID=America/Los_Angeles:20270509T091500
DTSTAMP:20260420T200226
CREATED:20250623T173721Z
LAST-MODIFIED:20250623T174122Z
UID:10001670-1809851400-1809854100@danvillechurch.org
SUMMARY:Choir Rehearsal
DESCRIPTION:
URL:https://danvillechurch.org/event/choir-rehearsal/2027-05-09/
LOCATION:Sanctuary\, 989 San Ramon Valley Blvd\, Danville\, CA\, 94526\, United States
CATEGORIES:Meeting
ATTACH;FMTTYPE=image/png:https://danvillechurch.org/wp-content/uploads/2025/06/choir.png
END:VEVENT
BEGIN:VEVENT
DTSTART;TZID=America/Los_Angeles:20270509T111500
DTEND;TZID=America/Los_Angeles:20270509T121500
DTSTAMP:20260420T200226
CREATED:20251027T160730Z
LAST-MODIFIED:20251103T172349Z
UID:10001055-1809861300-1809864900@danvillechurch.org
SUMMARY:Buildings and Grounds Commission Meeting - Spirit Room
DESCRIPTION:
URL:https://danvillechurch.org/event/buildings-and-grounds-commission-meeting-2/2027-05-09/
LOCATION:Koinonia Hall – Spirit Room\, 989 San Ramon Valley Blvd\, Danville\, CA\, 94526\, United States
CATEGORIES:Meeting
ATTACH;FMTTYPE=image/png:https://danvillechurch.org/wp-content/uploads/2025/06/meeting-2.png
END:VEVENT
BEGIN:VEVENT
DTSTART;TZID=America/Los_Angeles:20270509T111500
DTEND;TZID=America/Los_Angeles:20270509T121500
DTSTAMP:20260420T200226
CREATED:20251027T161844Z
LAST-MODIFIED:20251027T172158Z
UID:10004105-1809861300-1809864900@danvillechurch.org
SUMMARY:Outreach Commission Meeting
DESCRIPTION:
URL:https://danvillechurch.org/event/outreach-commission-meeting-3/2027-05-09/
LOCATION:Agape Lounge – Youth Room
CATEGORIES:Meeting
ATTACH;FMTTYPE=image/png:https://danvillechurch.org/wp-content/uploads/2025/06/meeting-2.png
END:VEVENT
BEGIN:VEVENT
DTSTART;TZID=America/Los_Angeles:20270509T111500
DTEND;TZID=America/Los_Angeles:20270509T121500
DTSTAMP:20260420T200226
CREATED:20251027T163043Z
LAST-MODIFIED:20251027T163043Z
UID:10001115-1809861300-1809864900@danvillechurch.org
SUMMARY:Commission Meetings
DESCRIPTION:
URL:https://danvillechurch.org/event/commission-meetings-2/2027-05-09/
LOCATION:Koinonia Hall\, 989 San Ramon Valley Blvd\, Danville\, CA\, 94526\, United States
CATEGORIES:Meeting
ATTACH;FMTTYPE=image/png:https://danvillechurch.org/wp-content/uploads/2025/06/meeting-2.png
END:VEVENT
BEGIN:VEVENT
DTSTART;TZID=America/Los_Angeles:20270509T111500
DTEND;TZID=America/Los_Angeles:20270509T121500
DTSTAMP:20260420T200226
CREATED:20260406T181350Z
LAST-MODIFIED:20260406T181710Z
UID:10001544-1809861300-1809864900@danvillechurch.org
SUMMARY:Community Life Commission Meeting - Music Room
DESCRIPTION:
URL:https://danvillechurch.org/event/community-life-commission-meeting-2-2-2/2027-05-09/
LOCATION:Music Room\, 989 San Ramon Valley Blvd\, Danville\, 94526\, United States
CATEGORIES:Meeting
ATTACH;FMTTYPE=image/png:https://danvillechurch.org/wp-content/uploads/2025/06/meeting-2.png
END:VEVENT
BEGIN:VEVENT
DTSTART;TZID=America/Los_Angeles:20270509T130000
DTEND;TZID=America/Los_Angeles:20270509T173000
DTSTAMP:20260420T200226
CREATED:20250910T170136Z
LAST-MODIFIED:20260402T195750Z
UID:10007165-1809867600-1809883800@danvillechurch.org
SUMMARY:God's Way
DESCRIPTION:
URL:https://danvillechurch.org/event/gods-way-4/2027-05-09/
LOCATION:Koinonia Hall\, 989 San Ramon Valley Blvd\, Danville\, CA\, 94526\, United States
CATEGORIES:Meeting
ATTACH;FMTTYPE=image/png:https://danvillechurch.org/wp-content/uploads/2025/06/meeting-2.png
END:VEVENT
BEGIN:VEVENT
DTSTART;TZID=America/Los_Angeles:20270511T130000
DTEND;TZID=America/Los_Angeles:20270511T150000
DTSTAMP:20260420T200226
CREATED:20250623T162553Z
LAST-MODIFIED:20250623T165228Z
UID:10000614-1810040400-1810047600@danvillechurch.org
SUMMARY:Diaconate Meeting
DESCRIPTION:
URL:https://danvillechurch.org/event/diaconate-meeting/2027-05-11/
LOCATION:Music Room\, 989 San Ramon Valley Blvd\, Danville\, 94526\, United States
CATEGORIES:Meeting
ATTACH;FMTTYPE=image/png:https://danvillechurch.org/wp-content/uploads/2025/06/meeting-2.png
END:VEVENT
BEGIN:VEVENT
DTSTART;TZID=America/Los_Angeles:20270512T190000
DTEND;TZID=America/Los_Angeles:20270512T203000
DTSTAMP:20260420T200226
CREATED:20251014T175941Z
LAST-MODIFIED:20251014T175942Z
UID:10002241-1810148400-1810153800@danvillechurch.org
SUMMARY:Choir Rehearsal
DESCRIPTION:
URL:https://danvillechurch.org/event/choir-rehearsal-2-2/2027-05-12/
LOCATION:Music Room\, 989 San Ramon Valley Blvd\, Danville\, 94526\, United States
CATEGORIES:Meeting
ATTACH;FMTTYPE=image/png:https://danvillechurch.org/wp-content/uploads/2025/06/choir.png
END:VEVENT
BEGIN:VEVENT
DTSTART;TZID=America/Los_Angeles:20270514T200000
DTEND;TZID=America/Los_Angeles:20270514T220000
DTSTAMP:20260420T200226
CREATED:20250910T165740Z
LAST-MODIFIED:20260402T195839Z
UID:10006376-1810324800-1810332000@danvillechurch.org
SUMMARY:God's Way
DESCRIPTION:
URL:https://danvillechurch.org/event/gods-way-2/2027-05-14/
LOCATION:Peace Room
CATEGORIES:Meeting
ATTACH;FMTTYPE=image/png:https://danvillechurch.org/wp-content/uploads/2025/06/meeting-2.png
END:VEVENT
BEGIN:VEVENT
DTSTART;TZID=America/Los_Angeles:20270515T060000
DTEND;TZID=America/Los_Angeles:20270515T070000
DTSTAMP:20260420T200226
CREATED:20250910T165942Z
LAST-MODIFIED:20260402T195830Z
UID:10006639-1810360800-1810364400@danvillechurch.org
SUMMARY:God's Way
DESCRIPTION:
URL:https://danvillechurch.org/event/gods-way-3/2027-05-15/
LOCATION:Koinonia Hall\, 989 San Ramon Valley Blvd\, Danville\, CA\, 94526\, United States
CATEGORIES:Meeting
ATTACH;FMTTYPE=image/png:https://danvillechurch.org/wp-content/uploads/2025/06/meeting-2.png
END:VEVENT
BEGIN:VEVENT
DTSTART;TZID=America/Los_Angeles:20270516T083000
DTEND;TZID=America/Los_Angeles:20270516T091500
DTSTAMP:20260420T200226
CREATED:20250623T173721Z
LAST-MODIFIED:20250623T174122Z
UID:10001671-1810456200-1810458900@danvillechurch.org
SUMMARY:Choir Rehearsal
DESCRIPTION:
URL:https://danvillechurch.org/event/choir-rehearsal/2027-05-16/
LOCATION:Sanctuary\, 989 San Ramon Valley Blvd\, Danville\, CA\, 94526\, United States
CATEGORIES:Meeting
ATTACH;FMTTYPE=image/png:https://danvillechurch.org/wp-content/uploads/2025/06/choir.png
END:VEVENT
BEGIN:VEVENT
DTSTART;TZID=America/Los_Angeles:20270516T130000
DTEND;TZID=America/Los_Angeles:20270516T173000
DTSTAMP:20260420T200226
CREATED:20250910T170136Z
LAST-MODIFIED:20260402T195750Z
UID:10007166-1810472400-1810488600@danvillechurch.org
SUMMARY:God's Way
DESCRIPTION:
URL:https://danvillechurch.org/event/gods-way-4/2027-05-16/
LOCATION:Koinonia Hall\, 989 San Ramon Valley Blvd\, Danville\, CA\, 94526\, United States
CATEGORIES:Meeting
ATTACH;FMTTYPE=image/png:https://danvillechurch.org/wp-content/uploads/2025/06/meeting-2.png
END:VEVENT
BEGIN:VEVENT
DTSTART;TZID=America/Los_Angeles:20270518T160000
DTEND;TZID=America/Los_Angeles:20270518T180000
DTSTAMP:20260420T200226
CREATED:20251106T183030Z
LAST-MODIFIED:20251106T183030Z
UID:10001175-1810656000-1810663200@danvillechurch.org
SUMMARY:Finance Committee
DESCRIPTION:
URL:https://danvillechurch.org/event/finance-committee-2/2027-05-18/
LOCATION:Agape Lounge – Youth Room
CATEGORIES:Meeting
ATTACH;FMTTYPE=image/png:https://danvillechurch.org/wp-content/uploads/2025/06/4-1.png
END:VEVENT
BEGIN:VEVENT
DTSTART;TZID=America/Los_Angeles:20270519T190000
DTEND;TZID=America/Los_Angeles:20270519T203000
DTSTAMP:20260420T200226
CREATED:20251014T175941Z
LAST-MODIFIED:20251014T175942Z
UID:10002242-1810753200-1810758600@danvillechurch.org
SUMMARY:Choir Rehearsal
DESCRIPTION:
URL:https://danvillechurch.org/event/choir-rehearsal-2-2/2027-05-19/
LOCATION:Music Room\, 989 San Ramon Valley Blvd\, Danville\, 94526\, United States
CATEGORIES:Meeting
ATTACH;FMTTYPE=image/png:https://danvillechurch.org/wp-content/uploads/2025/06/choir.png
END:VEVENT
BEGIN:VEVENT
DTSTART;TZID=America/Los_Angeles:20270521T200000
DTEND;TZID=America/Los_Angeles:20270521T220000
DTSTAMP:20260420T200226
CREATED:20250910T165740Z
LAST-MODIFIED:20260402T195839Z
UID:10006377-1810929600-1810936800@danvillechurch.org
SUMMARY:God's Way
DESCRIPTION:
URL:https://danvillechurch.org/event/gods-way-2/2027-05-21/
LOCATION:Peace Room
CATEGORIES:Meeting
ATTACH;FMTTYPE=image/png:https://danvillechurch.org/wp-content/uploads/2025/06/meeting-2.png
END:VEVENT
BEGIN:VEVENT
DTSTART;TZID=America/Los_Angeles:20270522T060000
DTEND;TZID=America/Los_Angeles:20270522T070000
DTSTAMP:20260420T200226
CREATED:20250910T165942Z
LAST-MODIFIED:20260402T195830Z
UID:10006640-1810965600-1810969200@danvillechurch.org
SUMMARY:God's Way
DESCRIPTION:
URL:https://danvillechurch.org/event/gods-way-3/2027-05-22/
LOCATION:Koinonia Hall\, 989 San Ramon Valley Blvd\, Danville\, CA\, 94526\, United States
CATEGORIES:Meeting
ATTACH;FMTTYPE=image/png:https://danvillechurch.org/wp-content/uploads/2025/06/meeting-2.png
END:VEVENT
BEGIN:VEVENT
DTSTART;TZID=America/Los_Angeles:20270523T083000
DTEND;TZID=America/Los_Angeles:20270523T091500
DTSTAMP:20260420T200226
CREATED:20250623T173721Z
LAST-MODIFIED:20250623T174122Z
UID:10001672-1811061000-1811063700@danvillechurch.org
SUMMARY:Choir Rehearsal
DESCRIPTION:
URL:https://danvillechurch.org/event/choir-rehearsal/2027-05-23/
LOCATION:Sanctuary\, 989 San Ramon Valley Blvd\, Danville\, CA\, 94526\, United States
CATEGORIES:Meeting
ATTACH;FMTTYPE=image/png:https://danvillechurch.org/wp-content/uploads/2025/06/choir.png
END:VEVENT
END:VCALENDAR