BEGIN:VCALENDAR
VERSION:2.0
PRODID:-//Danville Congregational Church - ECPv6.15.20//NONSGML v1.0//EN
CALSCALE:GREGORIAN
METHOD:PUBLISH
X-ORIGINAL-URL:https://danvillechurch.org
X-WR-CALDESC:Events for Danville Congregational Church
REFRESH-INTERVAL;VALUE=DURATION:PT1H
X-Robots-Tag:noindex
X-PUBLISHED-TTL:PT1H
BEGIN:VTIMEZONE
TZID:America/Los_Angeles
BEGIN:DAYLIGHT
TZOFFSETFROM:-0800
TZOFFSETTO:-0700
TZNAME:PDT
DTSTART:20240310T100000
END:DAYLIGHT
BEGIN:STANDARD
TZOFFSETFROM:-0700
TZOFFSETTO:-0800
TZNAME:PST
DTSTART:20241103T090000
END:STANDARD
BEGIN:DAYLIGHT
TZOFFSETFROM:-0800
TZOFFSETTO:-0700
TZNAME:PDT
DTSTART:20250309T100000
END:DAYLIGHT
BEGIN:STANDARD
TZOFFSETFROM:-0700
TZOFFSETTO:-0800
TZNAME:PST
DTSTART:20251102T090000
END:STANDARD
BEGIN:DAYLIGHT
TZOFFSETFROM:-0800
TZOFFSETTO:-0700
TZNAME:PDT
DTSTART:20260308T100000
END:DAYLIGHT
BEGIN:STANDARD
TZOFFSETFROM:-0700
TZOFFSETTO:-0800
TZNAME:PST
DTSTART:20261101T090000
END:STANDARD
END:VTIMEZONE
BEGIN:VEVENT
DTSTART;TZID=America/Los_Angeles:20250905T200000
DTEND;TZID=America/Los_Angeles:20250905T220000
DTSTAMP:20260419T055716
CREATED:20250910T165611Z
LAST-MODIFIED:20260402T195846Z
UID:10006288-1757102400-1757109600@danvillechurch.org
SUMMARY:God's Way
DESCRIPTION:
URL:https://danvillechurch.org/event/gods-way/
LOCATION:Peace Room
CATEGORIES:Meeting
ATTACH;FMTTYPE=image/png:https://danvillechurch.org/wp-content/uploads/2025/06/meeting-2.png
END:VEVENT
BEGIN:VEVENT
DTSTART;TZID=America/Los_Angeles:20250905T200000
DTEND;TZID=America/Los_Angeles:20250905T220000
DTSTAMP:20260419T055716
CREATED:20250910T165740Z
LAST-MODIFIED:20260402T195839Z
UID:10006289-1757102400-1757109600@danvillechurch.org
SUMMARY:God's Way
DESCRIPTION:
URL:https://danvillechurch.org/event/gods-way-2/2025-09-05/
LOCATION:Peace Room
CATEGORIES:Meeting
ATTACH;FMTTYPE=image/png:https://danvillechurch.org/wp-content/uploads/2025/06/meeting-2.png
END:VEVENT
BEGIN:VEVENT
DTSTART;TZID=America/Los_Angeles:20250906T060000
DTEND;TZID=America/Los_Angeles:20250906T070000
DTSTAMP:20260419T055716
CREATED:20250910T165942Z
LAST-MODIFIED:20260402T195830Z
UID:10006551-1757138400-1757142000@danvillechurch.org
SUMMARY:God's Way
DESCRIPTION:
URL:https://danvillechurch.org/event/gods-way-3/2025-09-06/
LOCATION:Koinonia Hall\, 989 San Ramon Valley Blvd\, Danville\, CA\, 94526\, United States
CATEGORIES:Meeting
ATTACH;FMTTYPE=image/png:https://danvillechurch.org/wp-content/uploads/2025/06/meeting-2.png
END:VEVENT
BEGIN:VEVENT
DTSTART;TZID=America/Los_Angeles:20250907T130000
DTEND;TZID=America/Los_Angeles:20250907T150000
DTSTAMP:20260419T055716
CREATED:20250908T185747Z
LAST-MODIFIED:20250908T195636Z
UID:10003212-1757250000-1757257200@danvillechurch.org
SUMMARY:Celebration Bells Rehearsal
DESCRIPTION:
URL:https://danvillechurch.org/event/celebration-bells-rehearsal/
LOCATION:Music Room\, 989 San Ramon Valley Blvd\, Danville\, 94526\, United States
CATEGORIES:Meeting
ATTACH;FMTTYPE=image/png:https://danvillechurch.org/wp-content/uploads/2025/07/bell.png
END:VEVENT
BEGIN:VEVENT
DTSTART;TZID=America/Los_Angeles:20250907T130000
DTEND;TZID=America/Los_Angeles:20250907T173000
DTSTAMP:20260419T055716
CREATED:20250910T170136Z
LAST-MODIFIED:20260402T195750Z
UID:10006813-1757250000-1757266200@danvillechurch.org
SUMMARY:God's Way
DESCRIPTION:
URL:https://danvillechurch.org/event/gods-way-4/2025-09-07/
LOCATION:Koinonia Hall\, 989 San Ramon Valley Blvd\, Danville\, CA\, 94526\, United States
CATEGORIES:Meeting
ATTACH;FMTTYPE=image/png:https://danvillechurch.org/wp-content/uploads/2025/06/meeting-2.png
END:VEVENT
BEGIN:VEVENT
DTSTART;TZID=America/Los_Angeles:20250909T130000
DTEND;TZID=America/Los_Angeles:20250909T150000
DTSTAMP:20260419T055716
CREATED:20250623T162553Z
LAST-MODIFIED:20250623T165228Z
UID:10000594-1757422800-1757430000@danvillechurch.org
SUMMARY:Diaconate Meeting
DESCRIPTION:
URL:https://danvillechurch.org/event/diaconate-meeting/2025-09-09/
LOCATION:Music Room\, 989 San Ramon Valley Blvd\, Danville\, 94526\, United States
CATEGORIES:Meeting
ATTACH;FMTTYPE=image/png:https://danvillechurch.org/wp-content/uploads/2025/06/meeting-2.png
END:VEVENT
BEGIN:VEVENT
DTSTART;TZID=America/Los_Angeles:20250912T200000
DTEND;TZID=America/Los_Angeles:20250912T220000
DTSTAMP:20260419T055716
CREATED:20250910T165740Z
LAST-MODIFIED:20260402T195839Z
UID:10006550-1757707200-1757714400@danvillechurch.org
SUMMARY:God's Way
DESCRIPTION:
URL:https://danvillechurch.org/event/gods-way-2/2025-09-12/
LOCATION:Peace Room
CATEGORIES:Meeting
ATTACH;FMTTYPE=image/png:https://danvillechurch.org/wp-content/uploads/2025/06/meeting-2.png
END:VEVENT
BEGIN:VEVENT
DTSTART;TZID=America/Los_Angeles:20250913T060000
DTEND;TZID=America/Los_Angeles:20250913T070000
DTSTAMP:20260419T055716
CREATED:20250910T165942Z
LAST-MODIFIED:20260402T195830Z
UID:10006552-1757743200-1757746800@danvillechurch.org
SUMMARY:God's Way
DESCRIPTION:
URL:https://danvillechurch.org/event/gods-way-3/2025-09-13/
LOCATION:Koinonia Hall\, 989 San Ramon Valley Blvd\, Danville\, CA\, 94526\, United States
CATEGORIES:Meeting
ATTACH;FMTTYPE=image/png:https://danvillechurch.org/wp-content/uploads/2025/06/meeting-2.png
END:VEVENT
BEGIN:VEVENT
DTSTART;TZID=America/Los_Angeles:20250914T083000
DTEND;TZID=America/Los_Angeles:20250914T091500
DTSTAMP:20260419T055716
CREATED:20250623T173721Z
LAST-MODIFIED:20250623T174122Z
UID:10001582-1757838600-1757841300@danvillechurch.org
SUMMARY:Choir Rehearsal
DESCRIPTION:
URL:https://danvillechurch.org/event/choir-rehearsal/2025-09-14/
LOCATION:Sanctuary\, 989 San Ramon Valley Blvd\, Danville\, CA\, 94526\, United States
CATEGORIES:Meeting
ATTACH;FMTTYPE=image/png:https://danvillechurch.org/wp-content/uploads/2025/06/choir.png
END:VEVENT
BEGIN:VEVENT
DTSTART;TZID=America/Los_Angeles:20250914T111500
DTEND;TZID=America/Los_Angeles:20250914T121500
DTSTAMP:20260419T055716
CREATED:20250623T164146Z
LAST-MODIFIED:20250909T182814Z
UID:10001035-1757848500-1757852100@danvillechurch.org
SUMMARY:Buildings and Grounds Commission Meeting - Spirit Room
DESCRIPTION:
URL:https://danvillechurch.org/event/buildings-and-grounds-commission-meeting/2025-09-14/
LOCATION:Koinonia Hall – Spirit Room\, 989 San Ramon Valley Blvd\, Danville\, CA\, 94526\, United States
CATEGORIES:Meeting
ATTACH;FMTTYPE=image/png:https://danvillechurch.org/wp-content/uploads/2025/06/meeting-2.png
END:VEVENT
BEGIN:VEVENT
DTSTART;TZID=America/Los_Angeles:20250914T111500
DTEND;TZID=America/Los_Angeles:20250914T121500
DTSTAMP:20260419T055716
CREATED:20250623T164754Z
LAST-MODIFIED:20250623T165148Z
UID:10001095-1757848500-1757852100@danvillechurch.org
SUMMARY:Commission Meetings
DESCRIPTION:
URL:https://danvillechurch.org/event/commission-meetings/2025-09-14/
LOCATION:Koinonia Hall\, 989 San Ramon Valley Blvd\, Danville\, CA\, 94526\, United States
CATEGORIES:Meeting
ATTACH;FMTTYPE=image/png:https://danvillechurch.org/wp-content/uploads/2025/06/meeting-2.png
END:VEVENT
BEGIN:VEVENT
DTSTART;TZID=America/Los_Angeles:20250914T111500
DTEND;TZID=America/Los_Angeles:20250914T121500
DTSTAMP:20260419T055716
CREATED:20250623T173341Z
LAST-MODIFIED:20250909T182716Z
UID:10001524-1757848500-1757852100@danvillechurch.org
SUMMARY:Community Life Commission Meeting - Music Room
DESCRIPTION:
URL:https://danvillechurch.org/event/community-life-commission-meeting-2/2025-09-14/
LOCATION:Music Room\, 989 San Ramon Valley Blvd\, Danville\, 94526\, United States
CATEGORIES:Meeting
ATTACH;FMTTYPE=image/png:https://danvillechurch.org/wp-content/uploads/2025/06/meeting-2.png
END:VEVENT
BEGIN:VEVENT
DTSTART;TZID=America/Los_Angeles:20250914T111500
DTEND;TZID=America/Los_Angeles:20250914T121500
DTSTAMP:20260419T055716
CREATED:20251027T160924Z
LAST-MODIFIED:20251027T160924Z
UID:10003674-1757848500-1757852100@danvillechurch.org
SUMMARY:Journeys in Faith Commission Meeting - Agape
DESCRIPTION:
URL:https://danvillechurch.org/event/journeys-in-faith-commission-meeting-3/
LOCATION:Agape Lounge – Youth Room
CATEGORIES:Meeting
ATTACH;FMTTYPE=image/png:https://danvillechurch.org/wp-content/uploads/2025/06/meeting-2.png
END:VEVENT
BEGIN:VEVENT
DTSTART;TZID=America/Los_Angeles:20250914T130000
DTEND;TZID=America/Los_Angeles:20250914T173000
DTSTAMP:20260419T055716
CREATED:20250910T170136Z
LAST-MODIFIED:20260402T195750Z
UID:10007080-1757854800-1757871000@danvillechurch.org
SUMMARY:God's Way
DESCRIPTION:
URL:https://danvillechurch.org/event/gods-way-4/2025-09-14/
LOCATION:Koinonia Hall\, 989 San Ramon Valley Blvd\, Danville\, CA\, 94526\, United States
CATEGORIES:Meeting
ATTACH;FMTTYPE=image/png:https://danvillechurch.org/wp-content/uploads/2025/06/meeting-2.png
END:VEVENT
BEGIN:VEVENT
DTSTART;TZID=America/Los_Angeles:20250916T160000
DTEND;TZID=America/Los_Angeles:20250916T180000
DTSTAMP:20260419T055716
CREATED:20250623T165508Z
LAST-MODIFIED:20250623T165508Z
UID:10001155-1758038400-1758045600@danvillechurch.org
SUMMARY:Finance Committee
DESCRIPTION:
URL:https://danvillechurch.org/event/finance-committee/2025-09-16/
LOCATION:Agape Lounge – Youth Room
CATEGORIES:Meeting
ATTACH;FMTTYPE=image/png:https://danvillechurch.org/wp-content/uploads/2025/06/4-1.png
END:VEVENT
BEGIN:VEVENT
DTSTART;TZID=America/Los_Angeles:20250917T190000
DTEND;TZID=America/Los_Angeles:20250917T200000
DTSTAMP:20260419T055716
CREATED:20250623T193356Z
LAST-MODIFIED:20251001T174413Z
UID:10002155-1758135600-1758139200@danvillechurch.org
SUMMARY:Choir Rehearsal
DESCRIPTION:
URL:https://danvillechurch.org/event/choir-rehearsal-2/2025-09-17/
LOCATION:Music Room\, 989 San Ramon Valley Blvd\, Danville\, 94526\, United States
CATEGORIES:Meeting
ATTACH;FMTTYPE=image/png:https://danvillechurch.org/wp-content/uploads/2025/06/choir.png
END:VEVENT
BEGIN:VEVENT
DTSTART;TZID=America/Los_Angeles:20250919T200000
DTEND;TZID=America/Los_Angeles:20250919T220000
DTSTAMP:20260419T055716
CREATED:20250910T165740Z
LAST-MODIFIED:20260402T195839Z
UID:10006290-1758312000-1758319200@danvillechurch.org
SUMMARY:God's Way
DESCRIPTION:
URL:https://danvillechurch.org/event/gods-way-2/2025-09-19/
LOCATION:Peace Room
CATEGORIES:Meeting
ATTACH;FMTTYPE=image/png:https://danvillechurch.org/wp-content/uploads/2025/06/meeting-2.png
END:VEVENT
BEGIN:VEVENT
DTSTART;TZID=America/Los_Angeles:20250920T060000
DTEND;TZID=America/Los_Angeles:20250920T070000
DTSTAMP:20260419T055716
CREATED:20250910T165942Z
LAST-MODIFIED:20260402T195830Z
UID:10006553-1758348000-1758351600@danvillechurch.org
SUMMARY:God's Way
DESCRIPTION:
URL:https://danvillechurch.org/event/gods-way-3/2025-09-20/
LOCATION:Koinonia Hall\, 989 San Ramon Valley Blvd\, Danville\, CA\, 94526\, United States
CATEGORIES:Meeting
ATTACH;FMTTYPE=image/png:https://danvillechurch.org/wp-content/uploads/2025/06/meeting-2.png
END:VEVENT
BEGIN:VEVENT
DTSTART;TZID=America/Los_Angeles:20250921T083000
DTEND;TZID=America/Los_Angeles:20250921T091500
DTSTAMP:20260419T055716
CREATED:20250623T173721Z
LAST-MODIFIED:20250623T174122Z
UID:10001585-1758443400-1758446100@danvillechurch.org
SUMMARY:Choir Rehearsal
DESCRIPTION:
URL:https://danvillechurch.org/event/choir-rehearsal/2025-09-21/
LOCATION:Sanctuary\, 989 San Ramon Valley Blvd\, Danville\, CA\, 94526\, United States
CATEGORIES:Meeting
ATTACH;FMTTYPE=image/png:https://danvillechurch.org/wp-content/uploads/2025/06/choir.png
END:VEVENT
BEGIN:VEVENT
DTSTART;TZID=America/Los_Angeles:20250921T130000
DTEND;TZID=America/Los_Angeles:20250921T150000
DTSTAMP:20260419T055716
CREATED:20250909T200216Z
LAST-MODIFIED:20250909T203025Z
UID:10003213-1758459600-1758466800@danvillechurch.org
SUMMARY:Celebration Bells Rehearsal
DESCRIPTION:
URL:https://danvillechurch.org/event/celebration-bells-rehearsal-2/2025-09-21/
LOCATION:Music Room\, 989 San Ramon Valley Blvd\, Danville\, 94526\, United States
CATEGORIES:Meeting
ATTACH;FMTTYPE=image/png:https://danvillechurch.org/wp-content/uploads/2025/07/bell.png
END:VEVENT
BEGIN:VEVENT
DTSTART;TZID=America/Los_Angeles:20250921T130000
DTEND;TZID=America/Los_Angeles:20250921T173000
DTSTAMP:20260419T055716
CREATED:20250910T173240Z
LAST-MODIFIED:20260402T195657Z
UID:10007340-1758459600-1758475800@danvillechurch.org
SUMMARY:God's Way - Kairos
DESCRIPTION:
URL:https://danvillechurch.org/event/gods-way-sanctuary-until-3pm-and-then-kairos-until-530pm/
LOCATION:Kairos Hall\, 989 San Ramon Valley Blvd\, Danville\, 94526\, United States
CATEGORIES:Meeting
ATTACH;FMTTYPE=image/png:https://danvillechurch.org/wp-content/uploads/2025/06/meeting-2.png
END:VEVENT
BEGIN:VEVENT
DTSTART;TZID=America/Los_Angeles:20250924T190000
DTEND;TZID=America/Los_Angeles:20250924T200000
DTSTAMP:20260419T055716
CREATED:20250623T193356Z
LAST-MODIFIED:20251001T174413Z
UID:10002156-1758740400-1758744000@danvillechurch.org
SUMMARY:Choir Rehearsal
DESCRIPTION:
URL:https://danvillechurch.org/event/choir-rehearsal-2/2025-09-24/
LOCATION:Music Room\, 989 San Ramon Valley Blvd\, Danville\, 94526\, United States
CATEGORIES:Meeting
ATTACH;FMTTYPE=image/png:https://danvillechurch.org/wp-content/uploads/2025/06/choir.png
END:VEVENT
BEGIN:VEVENT
DTSTART;TZID=America/Los_Angeles:20250926T200000
DTEND;TZID=America/Los_Angeles:20250926T220000
DTSTAMP:20260419T055716
CREATED:20250910T165740Z
LAST-MODIFIED:20260402T195839Z
UID:10006291-1758916800-1758924000@danvillechurch.org
SUMMARY:God's Way
DESCRIPTION:
URL:https://danvillechurch.org/event/gods-way-2/2025-09-26/
LOCATION:Peace Room
CATEGORIES:Meeting
ATTACH;FMTTYPE=image/png:https://danvillechurch.org/wp-content/uploads/2025/06/meeting-2.png
END:VEVENT
BEGIN:VEVENT
DTSTART;TZID=America/Los_Angeles:20250927T060000
DTEND;TZID=America/Los_Angeles:20250927T070000
DTSTAMP:20260419T055716
CREATED:20250910T165942Z
LAST-MODIFIED:20260402T195830Z
UID:10006554-1758952800-1758956400@danvillechurch.org
SUMMARY:God's Way
DESCRIPTION:
URL:https://danvillechurch.org/event/gods-way-3/2025-09-27/
LOCATION:Koinonia Hall\, 989 San Ramon Valley Blvd\, Danville\, CA\, 94526\, United States
CATEGORIES:Meeting
ATTACH;FMTTYPE=image/png:https://danvillechurch.org/wp-content/uploads/2025/06/meeting-2.png
END:VEVENT
BEGIN:VEVENT
DTSTART;TZID=America/Los_Angeles:20250928T083000
DTEND;TZID=America/Los_Angeles:20250928T091500
DTSTAMP:20260419T055716
CREATED:20250623T173721Z
LAST-MODIFIED:20250623T174122Z
UID:10001586-1759048200-1759050900@danvillechurch.org
SUMMARY:Choir Rehearsal
DESCRIPTION:
URL:https://danvillechurch.org/event/choir-rehearsal/2025-09-28/
LOCATION:Sanctuary\, 989 San Ramon Valley Blvd\, Danville\, CA\, 94526\, United States
CATEGORIES:Meeting
ATTACH;FMTTYPE=image/png:https://danvillechurch.org/wp-content/uploads/2025/06/choir.png
END:VEVENT
BEGIN:VEVENT
DTSTART;TZID=America/Los_Angeles:20250928T130000
DTEND;TZID=America/Los_Angeles:20250928T150000
DTSTAMP:20260419T055716
CREATED:20250909T200216Z
LAST-MODIFIED:20250909T203025Z
UID:10003214-1759064400-1759071600@danvillechurch.org
SUMMARY:Celebration Bells Rehearsal
DESCRIPTION:
URL:https://danvillechurch.org/event/celebration-bells-rehearsal-2/2025-09-28/
LOCATION:Music Room\, 989 San Ramon Valley Blvd\, Danville\, 94526\, United States
CATEGORIES:Meeting
ATTACH;FMTTYPE=image/png:https://danvillechurch.org/wp-content/uploads/2025/07/bell.png
END:VEVENT
BEGIN:VEVENT
DTSTART;TZID=America/Los_Angeles:20250928T130000
DTEND;TZID=America/Los_Angeles:20250928T173000
DTSTAMP:20260419T055716
CREATED:20250910T170136Z
LAST-MODIFIED:20260402T195750Z
UID:10007081-1759064400-1759080600@danvillechurch.org
SUMMARY:God's Way
DESCRIPTION:
URL:https://danvillechurch.org/event/gods-way-4/2025-09-28/
LOCATION:Koinonia Hall\, 989 San Ramon Valley Blvd\, Danville\, CA\, 94526\, United States
CATEGORIES:Meeting
ATTACH;FMTTYPE=image/png:https://danvillechurch.org/wp-content/uploads/2025/06/meeting-2.png
END:VEVENT
END:VCALENDAR