BEGIN:VCALENDAR
VERSION:2.0
PRODID:-//Danville Congregational Church - ECPv6.15.20//NONSGML v1.0//EN
CALSCALE:GREGORIAN
METHOD:PUBLISH
X-ORIGINAL-URL:https://danvillechurch.org
X-WR-CALDESC:Events for Danville Congregational Church
REFRESH-INTERVAL;VALUE=DURATION:PT1H
X-Robots-Tag:noindex
X-PUBLISHED-TTL:PT1H
BEGIN:VTIMEZONE
TZID:America/Los_Angeles
BEGIN:DAYLIGHT
TZOFFSETFROM:-0800
TZOFFSETTO:-0700
TZNAME:PDT
DTSTART:20290311T100000
END:DAYLIGHT
BEGIN:STANDARD
TZOFFSETFROM:-0700
TZOFFSETTO:-0800
TZNAME:PST
DTSTART:20291104T090000
END:STANDARD
BEGIN:DAYLIGHT
TZOFFSETFROM:-0800
TZOFFSETTO:-0700
TZNAME:PDT
DTSTART:20300310T100000
END:DAYLIGHT
BEGIN:STANDARD
TZOFFSETFROM:-0700
TZOFFSETTO:-0800
TZNAME:PST
DTSTART:20301103T090000
END:STANDARD
BEGIN:DAYLIGHT
TZOFFSETFROM:-0800
TZOFFSETTO:-0700
TZNAME:PDT
DTSTART:20310309T100000
END:DAYLIGHT
BEGIN:STANDARD
TZOFFSETFROM:-0700
TZOFFSETTO:-0800
TZNAME:PST
DTSTART:20311102T090000
END:STANDARD
END:VTIMEZONE
BEGIN:VEVENT
DTSTART;TZID=America/Los_Angeles:20300407T120000
DTEND;TZID=America/Los_Angeles:20300407T140000
DTSTAMP:20260425T205637
CREATED:20260330T204934Z
LAST-MODIFIED:20260330T204935Z
UID:10008248-1901793600-1901800800@danvillechurch.org
SUMMARY:Monthly Lunch Bunch
DESCRIPTION:
URL:https://danvillechurch.org/event/monthly-lunch-bunch-3/2030-04-07/
LOCATION:CA
CATEGORIES:Fellowship
ATTACH;FMTTYPE=image/jpeg:https://danvillechurch.org/wp-content/uploads/2025/09/Lunch-bunch.jpg
END:VEVENT
BEGIN:VEVENT
DTSTART;TZID=America/Los_Angeles:20300409T113000
DTEND;TZID=America/Los_Angeles:20300409T123000
DTSTAMP:20260425T205637
CREATED:20250623T162343Z
LAST-MODIFIED:20250908T190412Z
UID:10003404-1901964600-1901968200@danvillechurch.org
SUMMARY:Men's Luncheon
DESCRIPTION:
URL:https://danvillechurch.org/event/mens-luncheon/2030-04-09/
LOCATION:Koinonia Hall\, 989 San Ramon Valley Blvd\, Danville\, CA\, 94526\, United States
CATEGORIES:Fellowship
ATTACH;FMTTYPE=image/jpeg:https://danvillechurch.org/wp-content/uploads/2025/06/Picture-of-the-Week-options-5.18-3-scaled.jpg
END:VEVENT
BEGIN:VEVENT
DTSTART;TZID=America/Los_Angeles:20300416T090000
DTEND;TZID=America/Los_Angeles:20300416T100000
DTSTAMP:20260425T205637
CREATED:20250623T160337Z
LAST-MODIFIED:20250908T190516Z
UID:10000259-1902560400-1902564000@danvillechurch.org
SUMMARY:Men's Coffee & Donuts
DESCRIPTION:
URL:https://danvillechurch.org/event/mens-coffee-donuts/2030-04-16/
LOCATION:Koinonia Hall\, 989 San Ramon Valley Blvd\, Danville\, CA\, 94526\, United States
CATEGORIES:Fellowship
ATTACH;FMTTYPE=image/jpeg:https://danvillechurch.org/wp-content/uploads/2025/06/Picture-of-the-Week-4.13.jpg
END:VEVENT
BEGIN:VEVENT
DTSTART;TZID=America/Los_Angeles:20300417T100000
DTEND;TZID=America/Los_Angeles:20300417T140000
DTSTAMP:20260425T205637
CREATED:20250623T165816Z
LAST-MODIFIED:20250908T183249Z
UID:10001270-1902650400-1902664800@danvillechurch.org
SUMMARY:Prayer Shawl Ministry
DESCRIPTION:
URL:https://danvillechurch.org/event/prayer-shawl-ministry/2030-04-17/
LOCATION:Peace Room
CATEGORIES:Fellowship
ATTACH;FMTTYPE=image/jpeg:https://danvillechurch.org/wp-content/uploads/2025/06/prayer-shaw-ministry-1121-scaled.jpg
END:VEVENT
BEGIN:VEVENT
DTSTART;TZID=America/Los_Angeles:20300418T140000
DTEND;TZID=America/Los_Angeles:20300418T153000
DTSTAMP:20260425T205637
CREATED:20250623T170542Z
LAST-MODIFIED:20250908T184238Z
UID:10001390-1902751200-1902756600@danvillechurch.org
SUMMARY:Spirited Sisters
DESCRIPTION:
URL:https://danvillechurch.org/event/spirited-sisters/2030-04-18/
LOCATION:Koinonia Hall\, 989 San Ramon Valley Blvd\, Danville\, CA\, 94526\, United States
CATEGORIES:Fellowship
ATTACH;FMTTYPE=image/jpeg:https://danvillechurch.org/wp-content/uploads/2025/06/Spirited-Sisters-Group.jpg
ORGANIZER;CN="Donna Lenhardt":MAILTO:fishktcher@aol.com
END:VEVENT
BEGIN:VEVENT
DTSTART;TZID=America/Los_Angeles:20300423T090000
DTEND;TZID=America/Los_Angeles:20300423T100000
DTSTAMP:20260425T205637
CREATED:20250623T160337Z
LAST-MODIFIED:20250908T190516Z
UID:10001900-1903165200-1903168800@danvillechurch.org
SUMMARY:Men's Coffee & Donuts
DESCRIPTION:
URL:https://danvillechurch.org/event/mens-coffee-donuts/2030-04-23/
LOCATION:Koinonia Hall\, 989 San Ramon Valley Blvd\, Danville\, CA\, 94526\, United States
CATEGORIES:Fellowship
ATTACH;FMTTYPE=image/jpeg:https://danvillechurch.org/wp-content/uploads/2025/06/Picture-of-the-Week-4.13.jpg
END:VEVENT
BEGIN:VEVENT
DTSTART;TZID=America/Los_Angeles:20300430T090000
DTEND;TZID=America/Los_Angeles:20300430T100000
DTSTAMP:20260425T205637
CREATED:20250623T160337Z
LAST-MODIFIED:20250908T190516Z
UID:10000260-1903770000-1903773600@danvillechurch.org
SUMMARY:Men's Coffee & Donuts
DESCRIPTION:
URL:https://danvillechurch.org/event/mens-coffee-donuts/2030-04-30/
LOCATION:Koinonia Hall\, 989 San Ramon Valley Blvd\, Danville\, CA\, 94526\, United States
CATEGORIES:Fellowship
ATTACH;FMTTYPE=image/jpeg:https://danvillechurch.org/wp-content/uploads/2025/06/Picture-of-the-Week-4.13.jpg
END:VEVENT
BEGIN:VEVENT
DTSTART;TZID=America/Los_Angeles:20300505T120000
DTEND;TZID=America/Los_Angeles:20300505T140000
DTSTAMP:20260425T205637
CREATED:20250908T201908Z
LAST-MODIFIED:20251021T202131Z
UID:10004078-1904212800-1904220000@danvillechurch.org
SUMMARY:Monthly Lunch Bunch
DESCRIPTION:
URL:https://danvillechurch.org/event/monthly-lunch-bunch/2030-05-05/
LOCATION:CA
CATEGORIES:Fellowship
ATTACH;FMTTYPE=image/jpeg:https://danvillechurch.org/wp-content/uploads/2025/09/Lunch-bunch.jpg
END:VEVENT
BEGIN:VEVENT
DTSTART;TZID=America/Los_Angeles:20300505T120000
DTEND;TZID=America/Los_Angeles:20300505T140000
DTSTAMP:20260425T205637
CREATED:20260330T204934Z
LAST-MODIFIED:20260330T204935Z
UID:10008249-1904212800-1904220000@danvillechurch.org
SUMMARY:Monthly Lunch Bunch
DESCRIPTION:
URL:https://danvillechurch.org/event/monthly-lunch-bunch-3/2030-05-05/
LOCATION:CA
CATEGORIES:Fellowship
ATTACH;FMTTYPE=image/jpeg:https://danvillechurch.org/wp-content/uploads/2025/09/Lunch-bunch.jpg
END:VEVENT
BEGIN:VEVENT
DTSTART;TZID=America/Los_Angeles:20300507T090000
DTEND;TZID=America/Los_Angeles:20300507T100000
DTSTAMP:20260425T205637
CREATED:20250623T160337Z
LAST-MODIFIED:20250908T190516Z
UID:10001901-1904374800-1904378400@danvillechurch.org
SUMMARY:Men's Coffee & Donuts
DESCRIPTION:
URL:https://danvillechurch.org/event/mens-coffee-donuts/2030-05-07/
LOCATION:Koinonia Hall\, 989 San Ramon Valley Blvd\, Danville\, CA\, 94526\, United States
CATEGORIES:Fellowship
ATTACH;FMTTYPE=image/jpeg:https://danvillechurch.org/wp-content/uploads/2025/06/Picture-of-the-Week-4.13.jpg
END:VEVENT
BEGIN:VEVENT
DTSTART;TZID=America/Los_Angeles:20300514T113000
DTEND;TZID=America/Los_Angeles:20300514T123000
DTSTAMP:20260425T205637
CREATED:20250623T162343Z
LAST-MODIFIED:20250908T190412Z
UID:10003405-1904988600-1904992200@danvillechurch.org
SUMMARY:Men's Luncheon
DESCRIPTION:
URL:https://danvillechurch.org/event/mens-luncheon/2030-05-14/
LOCATION:Koinonia Hall\, 989 San Ramon Valley Blvd\, Danville\, CA\, 94526\, United States
CATEGORIES:Fellowship
ATTACH;FMTTYPE=image/jpeg:https://danvillechurch.org/wp-content/uploads/2025/06/Picture-of-the-Week-options-5.18-3-scaled.jpg
END:VEVENT
BEGIN:VEVENT
DTSTART;TZID=America/Los_Angeles:20300515T100000
DTEND;TZID=America/Los_Angeles:20300515T140000
DTSTAMP:20260425T205637
CREATED:20250623T165816Z
LAST-MODIFIED:20250908T183249Z
UID:10001271-1905069600-1905084000@danvillechurch.org
SUMMARY:Prayer Shawl Ministry
DESCRIPTION:
URL:https://danvillechurch.org/event/prayer-shawl-ministry/2030-05-15/
LOCATION:Peace Room
CATEGORIES:Fellowship
ATTACH;FMTTYPE=image/jpeg:https://danvillechurch.org/wp-content/uploads/2025/06/prayer-shaw-ministry-1121-scaled.jpg
END:VEVENT
BEGIN:VEVENT
DTSTART;TZID=America/Los_Angeles:20300516T140000
DTEND;TZID=America/Los_Angeles:20300516T153000
DTSTAMP:20260425T205637
CREATED:20250623T170542Z
LAST-MODIFIED:20250908T184238Z
UID:10001391-1905170400-1905175800@danvillechurch.org
SUMMARY:Spirited Sisters
DESCRIPTION:
URL:https://danvillechurch.org/event/spirited-sisters/2030-05-16/
LOCATION:Koinonia Hall\, 989 San Ramon Valley Blvd\, Danville\, CA\, 94526\, United States
CATEGORIES:Fellowship
ATTACH;FMTTYPE=image/jpeg:https://danvillechurch.org/wp-content/uploads/2025/06/Spirited-Sisters-Group.jpg
ORGANIZER;CN="Donna Lenhardt":MAILTO:fishktcher@aol.com
END:VEVENT
BEGIN:VEVENT
DTSTART;TZID=America/Los_Angeles:20300521T090000
DTEND;TZID=America/Los_Angeles:20300521T100000
DTSTAMP:20260425T205637
CREATED:20250623T160337Z
LAST-MODIFIED:20250908T190516Z
UID:10001902-1905584400-1905588000@danvillechurch.org
SUMMARY:Men's Coffee & Donuts
DESCRIPTION:
URL:https://danvillechurch.org/event/mens-coffee-donuts/2030-05-21/
LOCATION:Koinonia Hall\, 989 San Ramon Valley Blvd\, Danville\, CA\, 94526\, United States
CATEGORIES:Fellowship
ATTACH;FMTTYPE=image/jpeg:https://danvillechurch.org/wp-content/uploads/2025/06/Picture-of-the-Week-4.13.jpg
END:VEVENT
BEGIN:VEVENT
DTSTART;TZID=America/Los_Angeles:20300528T090000
DTEND;TZID=America/Los_Angeles:20300528T100000
DTSTAMP:20260425T205637
CREATED:20250623T160337Z
LAST-MODIFIED:20250908T190516Z
UID:10000262-1906189200-1906192800@danvillechurch.org
SUMMARY:Men's Coffee & Donuts
DESCRIPTION:
URL:https://danvillechurch.org/event/mens-coffee-donuts/2030-05-28/
LOCATION:Koinonia Hall\, 989 San Ramon Valley Blvd\, Danville\, CA\, 94526\, United States
CATEGORIES:Fellowship
ATTACH;FMTTYPE=image/jpeg:https://danvillechurch.org/wp-content/uploads/2025/06/Picture-of-the-Week-4.13.jpg
END:VEVENT
BEGIN:VEVENT
DTSTART;TZID=America/Los_Angeles:20300602T120000
DTEND;TZID=America/Los_Angeles:20300602T140000
DTSTAMP:20260425T205637
CREATED:20250908T201908Z
LAST-MODIFIED:20251021T202131Z
UID:10004079-1906632000-1906639200@danvillechurch.org
SUMMARY:Monthly Lunch Bunch
DESCRIPTION:
URL:https://danvillechurch.org/event/monthly-lunch-bunch/2030-06-02/
LOCATION:CA
CATEGORIES:Fellowship
ATTACH;FMTTYPE=image/jpeg:https://danvillechurch.org/wp-content/uploads/2025/09/Lunch-bunch.jpg
END:VEVENT
BEGIN:VEVENT
DTSTART;TZID=America/Los_Angeles:20300602T120000
DTEND;TZID=America/Los_Angeles:20300602T140000
DTSTAMP:20260425T205637
CREATED:20260330T204934Z
LAST-MODIFIED:20260330T204935Z
UID:10008250-1906632000-1906639200@danvillechurch.org
SUMMARY:Monthly Lunch Bunch
DESCRIPTION:
URL:https://danvillechurch.org/event/monthly-lunch-bunch-3/2030-06-02/
LOCATION:CA
CATEGORIES:Fellowship
ATTACH;FMTTYPE=image/jpeg:https://danvillechurch.org/wp-content/uploads/2025/09/Lunch-bunch.jpg
END:VEVENT
BEGIN:VEVENT
DTSTART;TZID=America/Los_Angeles:20300604T090000
DTEND;TZID=America/Los_Angeles:20300604T100000
DTSTAMP:20260425T205637
CREATED:20250623T160337Z
LAST-MODIFIED:20250908T190516Z
UID:10001903-1906794000-1906797600@danvillechurch.org
SUMMARY:Men's Coffee & Donuts
DESCRIPTION:
URL:https://danvillechurch.org/event/mens-coffee-donuts/2030-06-04/
LOCATION:Koinonia Hall\, 989 San Ramon Valley Blvd\, Danville\, CA\, 94526\, United States
CATEGORIES:Fellowship
ATTACH;FMTTYPE=image/jpeg:https://danvillechurch.org/wp-content/uploads/2025/06/Picture-of-the-Week-4.13.jpg
END:VEVENT
BEGIN:VEVENT
DTSTART;TZID=America/Los_Angeles:20300611T113000
DTEND;TZID=America/Los_Angeles:20300611T123000
DTSTAMP:20260425T205637
CREATED:20250623T162343Z
LAST-MODIFIED:20250908T190412Z
UID:10003406-1907407800-1907411400@danvillechurch.org
SUMMARY:Men's Luncheon
DESCRIPTION:
URL:https://danvillechurch.org/event/mens-luncheon/2030-06-11/
LOCATION:Koinonia Hall\, 989 San Ramon Valley Blvd\, Danville\, CA\, 94526\, United States
CATEGORIES:Fellowship
ATTACH;FMTTYPE=image/jpeg:https://danvillechurch.org/wp-content/uploads/2025/06/Picture-of-the-Week-options-5.18-3-scaled.jpg
END:VEVENT
BEGIN:VEVENT
DTSTART;TZID=America/Los_Angeles:20300618T090000
DTEND;TZID=America/Los_Angeles:20300618T100000
DTSTAMP:20260425T205637
CREATED:20250623T160337Z
LAST-MODIFIED:20250908T190516Z
UID:10001904-1908003600-1908007200@danvillechurch.org
SUMMARY:Men's Coffee & Donuts
DESCRIPTION:
URL:https://danvillechurch.org/event/mens-coffee-donuts/2030-06-18/
LOCATION:Koinonia Hall\, 989 San Ramon Valley Blvd\, Danville\, CA\, 94526\, United States
CATEGORIES:Fellowship
ATTACH;FMTTYPE=image/jpeg:https://danvillechurch.org/wp-content/uploads/2025/06/Picture-of-the-Week-4.13.jpg
END:VEVENT
BEGIN:VEVENT
DTSTART;TZID=America/Los_Angeles:20300619T100000
DTEND;TZID=America/Los_Angeles:20300619T140000
DTSTAMP:20260425T205637
CREATED:20250623T165816Z
LAST-MODIFIED:20250908T183249Z
UID:10001272-1908093600-1908108000@danvillechurch.org
SUMMARY:Prayer Shawl Ministry
DESCRIPTION:
URL:https://danvillechurch.org/event/prayer-shawl-ministry/2030-06-19/
LOCATION:Peace Room
CATEGORIES:Fellowship
ATTACH;FMTTYPE=image/jpeg:https://danvillechurch.org/wp-content/uploads/2025/06/prayer-shaw-ministry-1121-scaled.jpg
END:VEVENT
BEGIN:VEVENT
DTSTART;TZID=America/Los_Angeles:20300620T140000
DTEND;TZID=America/Los_Angeles:20300620T153000
DTSTAMP:20260425T205637
CREATED:20250623T170542Z
LAST-MODIFIED:20250908T184238Z
UID:10001392-1908194400-1908199800@danvillechurch.org
SUMMARY:Spirited Sisters
DESCRIPTION:
URL:https://danvillechurch.org/event/spirited-sisters/2030-06-20/
LOCATION:Koinonia Hall\, 989 San Ramon Valley Blvd\, Danville\, CA\, 94526\, United States
CATEGORIES:Fellowship
ATTACH;FMTTYPE=image/jpeg:https://danvillechurch.org/wp-content/uploads/2025/06/Spirited-Sisters-Group.jpg
ORGANIZER;CN="Donna Lenhardt":MAILTO:fishktcher@aol.com
END:VEVENT
BEGIN:VEVENT
DTSTART;TZID=America/Los_Angeles:20300625T090000
DTEND;TZID=America/Los_Angeles:20300625T100000
DTSTAMP:20260425T205637
CREATED:20250623T160337Z
LAST-MODIFIED:20250908T190516Z
UID:10002674-1908608400-1908612000@danvillechurch.org
SUMMARY:Men's Coffee & Donuts
DESCRIPTION:
URL:https://danvillechurch.org/event/mens-coffee-donuts/2030-06-25/
LOCATION:Koinonia Hall\, 989 San Ramon Valley Blvd\, Danville\, CA\, 94526\, United States
CATEGORIES:Fellowship
ATTACH;FMTTYPE=image/jpeg:https://danvillechurch.org/wp-content/uploads/2025/06/Picture-of-the-Week-4.13.jpg
END:VEVENT
BEGIN:VEVENT
DTSTART;TZID=America/Los_Angeles:20300702T090000
DTEND;TZID=America/Los_Angeles:20300702T100000
DTSTAMP:20260425T205637
CREATED:20250623T160337Z
LAST-MODIFIED:20250908T190516Z
UID:10002675-1909213200-1909216800@danvillechurch.org
SUMMARY:Men's Coffee & Donuts
DESCRIPTION:
URL:https://danvillechurch.org/event/mens-coffee-donuts/2030-07-02/
LOCATION:Koinonia Hall\, 989 San Ramon Valley Blvd\, Danville\, CA\, 94526\, United States
CATEGORIES:Fellowship
ATTACH;FMTTYPE=image/jpeg:https://danvillechurch.org/wp-content/uploads/2025/06/Picture-of-the-Week-4.13.jpg
END:VEVENT
BEGIN:VEVENT
DTSTART;TZID=America/Los_Angeles:20300707T120000
DTEND;TZID=America/Los_Angeles:20300707T140000
DTSTAMP:20260425T205637
CREATED:20250908T201908Z
LAST-MODIFIED:20251021T202131Z
UID:10004080-1909656000-1909663200@danvillechurch.org
SUMMARY:Monthly Lunch Bunch
DESCRIPTION:
URL:https://danvillechurch.org/event/monthly-lunch-bunch/2030-07-07/
LOCATION:CA
CATEGORIES:Fellowship
ATTACH;FMTTYPE=image/jpeg:https://danvillechurch.org/wp-content/uploads/2025/09/Lunch-bunch.jpg
END:VEVENT
BEGIN:VEVENT
DTSTART;TZID=America/Los_Angeles:20300707T120000
DTEND;TZID=America/Los_Angeles:20300707T140000
DTSTAMP:20260425T205637
CREATED:20260330T204934Z
LAST-MODIFIED:20260330T204935Z
UID:10008251-1909656000-1909663200@danvillechurch.org
SUMMARY:Monthly Lunch Bunch
DESCRIPTION:
URL:https://danvillechurch.org/event/monthly-lunch-bunch-3/2030-07-07/
LOCATION:CA
CATEGORIES:Fellowship
ATTACH;FMTTYPE=image/jpeg:https://danvillechurch.org/wp-content/uploads/2025/09/Lunch-bunch.jpg
END:VEVENT
BEGIN:VEVENT
DTSTART;TZID=America/Los_Angeles:20300709T113000
DTEND;TZID=America/Los_Angeles:20300709T123000
DTSTAMP:20260425T205637
CREATED:20250623T162343Z
LAST-MODIFIED:20250908T190412Z
UID:10003407-1909827000-1909830600@danvillechurch.org
SUMMARY:Men's Luncheon
DESCRIPTION:
URL:https://danvillechurch.org/event/mens-luncheon/2030-07-09/
LOCATION:Koinonia Hall\, 989 San Ramon Valley Blvd\, Danville\, CA\, 94526\, United States
CATEGORIES:Fellowship
ATTACH;FMTTYPE=image/jpeg:https://danvillechurch.org/wp-content/uploads/2025/06/Picture-of-the-Week-options-5.18-3-scaled.jpg
END:VEVENT
BEGIN:VEVENT
DTSTART;TZID=America/Los_Angeles:20300716T090000
DTEND;TZID=America/Los_Angeles:20300716T100000
DTSTAMP:20260425T205637
CREATED:20250623T160337Z
LAST-MODIFIED:20250908T190516Z
UID:10002677-1910422800-1910426400@danvillechurch.org
SUMMARY:Men's Coffee & Donuts
DESCRIPTION:
URL:https://danvillechurch.org/event/mens-coffee-donuts/2030-07-16/
LOCATION:Koinonia Hall\, 989 San Ramon Valley Blvd\, Danville\, CA\, 94526\, United States
CATEGORIES:Fellowship
ATTACH;FMTTYPE=image/jpeg:https://danvillechurch.org/wp-content/uploads/2025/06/Picture-of-the-Week-4.13.jpg
END:VEVENT
BEGIN:VEVENT
DTSTART;TZID=America/Los_Angeles:20300717T100000
DTEND;TZID=America/Los_Angeles:20300717T140000
DTSTAMP:20260425T205637
CREATED:20250623T165816Z
LAST-MODIFIED:20250908T183249Z
UID:10002688-1910512800-1910527200@danvillechurch.org
SUMMARY:Prayer Shawl Ministry
DESCRIPTION:
URL:https://danvillechurch.org/event/prayer-shawl-ministry/2030-07-17/
LOCATION:Peace Room
CATEGORIES:Fellowship
ATTACH;FMTTYPE=image/jpeg:https://danvillechurch.org/wp-content/uploads/2025/06/prayer-shaw-ministry-1121-scaled.jpg
END:VEVENT
BEGIN:VEVENT
DTSTART;TZID=America/Los_Angeles:20300718T140000
DTEND;TZID=America/Los_Angeles:20300718T153000
DTSTAMP:20260425T205637
CREATED:20250623T170542Z
LAST-MODIFIED:20250908T184238Z
UID:10002683-1910613600-1910619000@danvillechurch.org
SUMMARY:Spirited Sisters
DESCRIPTION:
URL:https://danvillechurch.org/event/spirited-sisters/2030-07-18/
LOCATION:Koinonia Hall\, 989 San Ramon Valley Blvd\, Danville\, CA\, 94526\, United States
CATEGORIES:Fellowship
ATTACH;FMTTYPE=image/jpeg:https://danvillechurch.org/wp-content/uploads/2025/06/Spirited-Sisters-Group.jpg
ORGANIZER;CN="Donna Lenhardt":MAILTO:fishktcher@aol.com
END:VEVENT
END:VCALENDAR