BEGIN:VCALENDAR
VERSION:2.0
PRODID:-//Danville Congregational Church - ECPv6.15.20//NONSGML v1.0//EN
CALSCALE:GREGORIAN
METHOD:PUBLISH
X-WR-CALNAME:Danville Congregational Church
X-ORIGINAL-URL:https://danvillechurch.org
X-WR-CALDESC:Events for Danville Congregational Church
REFRESH-INTERVAL;VALUE=DURATION:PT1H
X-Robots-Tag:noindex
X-PUBLISHED-TTL:PT1H
BEGIN:VTIMEZONE
TZID:America/Los_Angeles
BEGIN:DAYLIGHT
TZOFFSETFROM:-0800
TZOFFSETTO:-0700
TZNAME:PDT
DTSTART:20260308T100000
END:DAYLIGHT
BEGIN:STANDARD
TZOFFSETFROM:-0700
TZOFFSETTO:-0800
TZNAME:PST
DTSTART:20261101T090000
END:STANDARD
BEGIN:DAYLIGHT
TZOFFSETFROM:-0800
TZOFFSETTO:-0700
TZNAME:PDT
DTSTART:20270314T100000
END:DAYLIGHT
BEGIN:STANDARD
TZOFFSETFROM:-0700
TZOFFSETTO:-0800
TZNAME:PST
DTSTART:20271107T090000
END:STANDARD
BEGIN:DAYLIGHT
TZOFFSETFROM:-0800
TZOFFSETTO:-0700
TZNAME:PDT
DTSTART:20280312T100000
END:DAYLIGHT
BEGIN:STANDARD
TZOFFSETFROM:-0700
TZOFFSETTO:-0800
TZNAME:PST
DTSTART:20281105T090000
END:STANDARD
END:VTIMEZONE
BEGIN:VEVENT
DTSTART;TZID=America/Los_Angeles:20270103T120000
DTEND;TZID=America/Los_Angeles:20270103T140000
DTSTAMP:20260422T050219
CREATED:20250908T201908Z
LAST-MODIFIED:20251021T202131Z
UID:10004038-1798977600-1798984800@danvillechurch.org
SUMMARY:Monthly Lunch Bunch
DESCRIPTION:
URL:https://danvillechurch.org/event/monthly-lunch-bunch/2027-01-03/
CATEGORIES:Fellowship
ATTACH;FMTTYPE=image/jpeg:https://danvillechurch.org/wp-content/uploads/2025/09/Lunch-bunch.jpg
END:VEVENT
BEGIN:VEVENT
DTSTART;TZID=America/Los_Angeles:20270103T120000
DTEND;TZID=America/Los_Angeles:20270103T140000
DTSTAMP:20260422T050219
CREATED:20260330T204934Z
LAST-MODIFIED:20260330T204935Z
UID:10008209-1798977600-1798984800@danvillechurch.org
SUMMARY:Monthly Lunch Bunch
DESCRIPTION:
URL:https://danvillechurch.org/event/monthly-lunch-bunch-3/2027-01-03/
CATEGORIES:Fellowship
ATTACH;FMTTYPE=image/jpeg:https://danvillechurch.org/wp-content/uploads/2025/09/Lunch-bunch.jpg
END:VEVENT
BEGIN:VEVENT
DTSTART;TZID=America/Los_Angeles:20270105T090000
DTEND;TZID=America/Los_Angeles:20270105T100000
DTSTAMP:20260422T050219
CREATED:20250623T160337Z
LAST-MODIFIED:20250908T190516Z
UID:10000043-1799139600-1799143200@danvillechurch.org
SUMMARY:Men's Coffee & Donuts
DESCRIPTION:
URL:https://danvillechurch.org/event/mens-coffee-donuts/2027-01-05/
LOCATION:Koinonia Hall\, 989 San Ramon Valley Blvd\, Danville\, CA\, 94526\, United States
CATEGORIES:Fellowship
ATTACH;FMTTYPE=image/jpeg:https://danvillechurch.org/wp-content/uploads/2025/06/Picture-of-the-Week-4.13.jpg
END:VEVENT
BEGIN:VEVENT
DTSTART;TZID=America/Los_Angeles:20270112T113000
DTEND;TZID=America/Los_Angeles:20270112T123000
DTSTAMP:20260422T050219
CREATED:20250623T162343Z
LAST-MODIFIED:20250908T190412Z
UID:10003365-1799753400-1799757000@danvillechurch.org
SUMMARY:Men's Luncheon
DESCRIPTION:
URL:https://danvillechurch.org/event/mens-luncheon/2027-01-12/
LOCATION:Koinonia Hall\, 989 San Ramon Valley Blvd\, Danville\, CA\, 94526\, United States
CATEGORIES:Fellowship
ATTACH;FMTTYPE=image/jpeg:https://danvillechurch.org/wp-content/uploads/2025/06/Picture-of-the-Week-options-5.18-3-scaled.jpg
END:VEVENT
BEGIN:VEVENT
DTSTART;TZID=America/Los_Angeles:20270119T090000
DTEND;TZID=America/Los_Angeles:20270119T100000
DTSTAMP:20260422T050219
CREATED:20250623T160337Z
LAST-MODIFIED:20250908T190516Z
UID:10000044-1800349200-1800352800@danvillechurch.org
SUMMARY:Men's Coffee & Donuts
DESCRIPTION:
URL:https://danvillechurch.org/event/mens-coffee-donuts/2027-01-19/
LOCATION:Koinonia Hall\, 989 San Ramon Valley Blvd\, Danville\, CA\, 94526\, United States
CATEGORIES:Fellowship
ATTACH;FMTTYPE=image/jpeg:https://danvillechurch.org/wp-content/uploads/2025/06/Picture-of-the-Week-4.13.jpg
END:VEVENT
BEGIN:VEVENT
DTSTART;TZID=America/Los_Angeles:20270120T100000
DTEND;TZID=America/Los_Angeles:20270120T140000
DTSTAMP:20260422T050219
CREATED:20250623T165816Z
LAST-MODIFIED:20250908T183249Z
UID:10001231-1800439200-1800453600@danvillechurch.org
SUMMARY:Prayer Shawl Ministry
DESCRIPTION:
URL:https://danvillechurch.org/event/prayer-shawl-ministry/2027-01-20/
LOCATION:Peace Room
CATEGORIES:Fellowship
ATTACH;FMTTYPE=image/jpeg:https://danvillechurch.org/wp-content/uploads/2025/06/prayer-shaw-ministry-1121-scaled.jpg
END:VEVENT
BEGIN:VEVENT
DTSTART;TZID=America/Los_Angeles:20270121T140000
DTEND;TZID=America/Los_Angeles:20270121T153000
DTSTAMP:20260422T050219
CREATED:20250623T170542Z
LAST-MODIFIED:20250908T184238Z
UID:10001351-1800540000-1800545400@danvillechurch.org
SUMMARY:Spirited Sisters
DESCRIPTION:
URL:https://danvillechurch.org/event/spirited-sisters/2027-01-21/
LOCATION:Koinonia Hall\, 989 San Ramon Valley Blvd\, Danville\, CA\, 94526\, United States
CATEGORIES:Fellowship
ATTACH;FMTTYPE=image/jpeg:https://danvillechurch.org/wp-content/uploads/2025/06/Spirited-Sisters-Group.jpg
ORGANIZER;CN="Donna Lenhardt":MAILTO:fishktcher@aol.com
END:VEVENT
BEGIN:VEVENT
DTSTART;TZID=America/Los_Angeles:20270126T090000
DTEND;TZID=America/Los_Angeles:20270126T100000
DTSTAMP:20260422T050219
CREATED:20250623T160337Z
LAST-MODIFIED:20250908T190516Z
UID:10000175-1800954000-1800957600@danvillechurch.org
SUMMARY:Men's Coffee & Donuts
DESCRIPTION:
URL:https://danvillechurch.org/event/mens-coffee-donuts/2027-01-26/
LOCATION:Koinonia Hall\, 989 San Ramon Valley Blvd\, Danville\, CA\, 94526\, United States
CATEGORIES:Fellowship
ATTACH;FMTTYPE=image/jpeg:https://danvillechurch.org/wp-content/uploads/2025/06/Picture-of-the-Week-4.13.jpg
END:VEVENT
END:VCALENDAR